{"text_format":"1","workbook":"xlsx","n_sheets":11,"sheets":["Introduction","References","Instructions","Contact Information","Data Inventory","Lists","Intermediate Sheet","Subrecipient Intermediate","FullDatabase","TableDatabase","Resource Inventory Table"],"not_rendered":{"charts":0,"images":1,"macros":1,"external_links":0,"defined_names":9,"comments":0,"pivot_tables":0},"unopened":[],"bounds":{"document_bytes":16777216,"sheet_cells":100000,"rows_first":2000,"rows_last":500,"rows_between":2000,"halvings":0,"cell_chars":16384,"cell_head_chars":4096},"cells_cut":0,"cells_raw":0,"read":"whole","date_system":"1900"}

{"sheet":"Introduction","index":0,"n_rows":0,"n_cols":0,"rows_kept":0,"cut":false,"hidden":false,"merged":[[2,1,2,7],[3,2,14,2],[3,4,3,5]]}

{"sheet":"References","index":1,"n_rows":64,"n_cols":3,"rows_kept":64,"cut":false,"hidden":true,"merged":[]}
[]
[]
[]
[null,"References"]
[]
[null,"Key Term","Defintion and notes"]
[null,"Primary recipient"]
[null,"Funding Type","Implementer\nPass through is intended to capture…"]
[null,"Annual award","For the purposes of this tool, the year refers to calendar years"]
[]
[]
[]
[]
[null,"Services Delivered","Definition"]
[null,"AIDS Drug Assistance Program Treatments"]
[null,"Early Intervention Services (EIS) "]
[null,"Health Insurance Premium and Cost Sharing Assistance for Low-Income Individuals "]
[null,"Home Health Care "]
[null,"Medical Case Management, including Treatment Adherence Services"]
[null,"Youth Case Management"]
[null,"Family Case Management"]
[null,"Transitional Case Management"]
[null,"SPPC/Waiver Case Management"]
[null,"Mental Health Services"]
[null,"Oral Health Care"]
[null,"Outpatient/Ambulatory Health Services"]
[null,"Substance Abuse Outpatient Care"]
[null,"Emergency Financial Assistance"]
[null,"Food Bank"]
[null,"Health Education/Risk Reduction"]
[null,"Prevention for Positives"]
[null,"Peer Program"]
[null,"Legal Services"]
[null,"Lost to Care Program"]
[null,"Medical Transportation"]
[null,"Referral for Health Care and Support Services "]
[null,"Hospital Liaisons"]
[null,"Resource and Referral Coordinator/Direct Enrollment Services"]
[null,"Substance Abuse Services (residential)"]
[null,"Capacity building/technical assistance"]
[null,"HIV transmission cluster and outbreak identification and response"]
[null,"Partner services"]
[null,"Perinatal HIV prevention and surveillance"]
[null,"Transitional Housing"]
[null,"Rapid Re-housing"]
[null,"Housing Voucher Program"]
[null,"Short Term Rent Mortgage Utility Assistance"]
[null,"Short Term Housing"]
[null,"Permanent Housing Placement"]
[null,"Employment Services"]
[null,"Health Education Risk Reduction"]
[null,"Social media strategies"]
[null,"Outreach education"]
[null,"Harm Reduction Materials"]
[null,"Syringe services programs"]
[null,"Testing"]
[null,"Outreach"]
[null,"Clinic based"]
[null,"Home testing distribution"]
[null,"Condom Distribution Program"]
[null,"PrEP Navigation"]
[null,"PrEP Delivery"]
[null,"Quality Management"]
[null,"HIV Surveillance"]

{"sheet":"Instructions","index":2,"n_rows":0,"n_cols":0,"rows_kept":0,"cut":false,"hidden":false,"merged":[[2,1,5,1]]}

{"sheet":"Contact Information","index":3,"n_rows":9,"n_cols":2,"rows_kept":9,"cut":false,"hidden":false,"merged":[]}
[]
[]
[]
[null,"Contact Information"]
[]
[null,"Agency"]
[null,"Contact Name"]
[null,"Position"]
[null,"Email"]

{"sheet":"Data Inventory","index":4,"n_rows":65,"n_cols":10,"rows_kept":65,"cut":false,"hidden":true,"merged":[]}
[]
[]
[]
[null,"Data Inventory"]
[]
[]
[]
[null,null,null,null,null,"Definted by KC team","Define it here","what each funder calls it (will show up on data entry when funder is selected through the indirect formula on the left) think about what to show and what to have editable.."]
[null,"Funders",null,"Priority Populations",null,"Services Delivered","Definition","RWHAP","CDC","HOPWA"]
[null,"CDC",null,"Young (13-29) MSM of Color (AA/Hisp)",null,"AIDS Drug Assistance Program Treatments",null,"Home and Community-Based Health Services ",null,"Test"]
[null,"HOPWA",null,"African American Women and Men Non-MSM (Age 13-44)",null,"Early Intervention Services (EIS) ",null,"Home Health Care ",null,"tset"]
[null,"SAMHSA",null,"Transgender Persons of Color (AA/Hisp)",null,"Health Insurance Premium and Cost Sharing Assistance for Low-Income Individuals ",null,"Hospice ",null,"test"]
[null,"IHS",null,"African American MSM",null,"Home Health Care ",null,null,null,"Test"]
[null,"NIH",null,"White MSM",null,"Medical Case Management, including Treatment Adherence Services",null,null,null,"Test"]
[null,"RWHAP",null,"Hispanic",null,"Youth Case Management",null,null,null,"Test"]
[null,null,null,"African American Women",null,"Family Case Management",null,null,null,"Test"]
[null,null,null,"High Risk Hetereosexual Males",null,"Transitional Case Management"]
[null,null,null,"Persons who inject drugs",null,"SPPC/Waiver Case Management"]
[null,null,null,null,null,"Mental Health Services"]
[null,null,null,null,null,"Oral Health Care"]
[null,null,null,null,null,"Outpatient/Ambulatory Health Services"]
[null,null,null,null,null,"Substance Abuse Outpatient Care"]
[null,null,null,null,null,"Emergency Financial Assistance"]
[null,null,null,null,null,"Food Bank"]
[null,null,null,null,null,"Health Education/Risk Reduction"]
[null,null,null,null,null,"Prevention for Positives"]
[null,null,null,null,null,"Peer Program"]
[null,null,null,null,null,"Legal Services"]
[null,null,null,null,null,"Lost to Care Program"]
[null,null,null,null,null,"Medical Transportation"]
[null,null,null,null,null,"Referral for Health Care and Support Services "]
[null,null,null,null,null,"Hospital Liaisons"]
[null,null,null,null,null,"Resource and Referral Coordinator/Direct Enrollment Services",null,"Community engagement","Community mobilization"]
[null,null,null,null,null,"Substance Abuse Services (residential)"]
[null,null,null,null,null,"Capacity building/technical assistance"]
[null,null,null,null,null,"HIV transmission cluster and outbreak identification and response"]
[null,null,null,null,null,"Partner services"]
[null,null,null,null,null,"Perinatal HIV prevention and surveillance"]
[]
[null,null,null,null,null,"HOUSING"]
[null,null,null,null,null,"Transitional Housing"]
[null,null,null,null,null,"Rapid Re-housing"]
[null,null,null,null,null,"Housing Voucher Program"]
[null,null,null,null,null,"Short Term Rent Mortgage Utility Assistance"]
[null,null,null,null,null,"Short Term Housing"]
[null,null,null,null,null,"Permanent Housing Placement"]
[null,null,null,null,null,"Employment Services"]
[]
[null,null,null,null,null,"PREVENTION"]
[null,null,null,null,null,"Health Education Risk Reduction"]
[null,null,null,null,null,"Social media strategies"]
[null,null,null,null,null,"Outreach education"]
[null,null,null,null,null,"Harm Reduction Materials"]
[null,null,null,null,null,"Syringe services programs"]
[null,null,null,null,null,"Testing"]
[null,null,null,null,null,"Outreach"]
[null,null,null,null,null,"Clinic based"]
[null,null,null,null,null,"Home testing distribution"]
[null,null,null,null,null,"Condom Distribution Program"]
[null,null,null,null,null,"PrEP Navigation"]
[null,null,null,null,null,"PrEP Delivery"]
[]
[null,null,null,null,null,"OTHER"]
[null,null,null,null,null,"Quality Management"]
[null,null,null,null,null,"HIV Surveillance"]

{"sheet":"Lists","index":5,"n_rows":9,"n_cols":16,"rows_kept":9,"cut":false,"hidden":true,"merged":[]}
["Services Delivered by Funder",null,"these lists feed into the services delivered dropdown"]
[null,null,null,null,null,null,null,null,null,null,null,"Inventory Helper Table",null,null,null,"Pass through/Implementing"]
["RWHAP",null,"CDC",null,"HOPWA"]
["RWHAP 1",null,"CDC1",null,"HOPWA1",null,null,null,null,null,null,"Funder Specific Service","Generalized Service",null,null,"Type of service"]
["RWHAP 2",null,"CDC2",null,"HOPWA2",null,null,null,null,null,null,null,null,null,null,"Pass Through"]
["RWHAP 3",null,"CDC3",null,"HOPWA3",null,null,null,null,null,null,null,null,null,null,"Implementing"]
["RWHAP 4",null,"CDC4",null,"HOPWA4"]
["RWHAP 5",null,"CDC5",null,"HOPWA5"]
["RWHAP 6",null,"CDC6",null,"HOPWA6"]

{"sheet":"Intermediate Sheet","index":6,"n_rows":38,"n_cols":35,"rows_kept":38,"cut":false,"hidden":true,"merged":[]}
["Organization/Agency","Contact Name","Position","Email","Funder*","Funder Bureau/Division*","Name of Funding Source*","NOFO/RFA Number","EHE Funding","Primary Recipient","Total Contract Award Amount","Funding Amount (Pass through)","Funding Amount (implementing)","Contract Start Date","Contract End Date","Contract Number","Budget Year","Estimated Annual Budget","Service Delivered","Type of Service","Annual Budget","Geographical Area","Priority Population","Clients Served","Units Delivered","Additional Details","HIV Diagnosis","Linkage to Care","Engagement or Retention in Care","Prescription of ART","Viral Suppression","Diagnose","Treat","Prevent","Respond"]
[{"$f":"'Contact Information'!$C$6","v":0},{"$f":"'Contact Information'!$C$7","v":0},{"$f":"'Contact Information'!$C$8","v":0},{"$f":"'Contact Information'!$C$9","v":0},{"$f":"#REF!","v":{"$error":"#REF!"}},{"$f":"#REF!","v":{"$error":"#REF!"}},{"$f":"#REF!","v":{"$error":"#REF!"}},{"$f":"#REF!","v":{"$error":"#REF!"}},{"$f":"#REF!","v":{"$error":"#REF!"}},{"$f":"#REF!","v":{"$error":"#REF!"}},{"$f":"#REF!","v":{"$error":"#REF!"}},{"$f":"#REF!","v":{"$error":"#REF!"}},{"$f":"#REF!","v":{"$error":"#REF!"}},{"$f":"#REF!","v":{"$error":"#REF!"}},{"$f":"#REF!","v":{"$error":"#REF!"}},{"$f":"#REF!","v":{"$error":"#REF!"}},{"$f":"#REF!","v":{"$error":"#REF!"}},{"$f":"#REF!","v":{"$error":"#REF!"}},{"$f":"#REF!","v":{"$error":"#REF!"}},{"$f":"#REF!","v":{"$error":"#REF!"}},{"$f":"#REF!","v":{"$error":"#REF!"}},{"$f":"#REF!","v":{"$error":"#REF!"}},{"$f":"#REF!","v":{"$error":"#REF!"}},{"$f":"#REF!","v":{"$error":"#REF!"}},{"$f":"#REF!","v":{"$error":"#REF!"}},{"$f":"#REF!","v":{"$error":"#REF!"}},{"$f":"IF(#REF!=\"\",\"\", AA1)","v":{"$error":"#REF!"}},{"$f":"IF(#REF!=\"\",\"\", AB1)","v":{"$error":"#REF!"}},{"$f":"IF(#REF!=\"\",\"\", AC1)","v":{"$error":"#REF!"}},{"$f":"IF(#REF!=\"\",\"\", AD1)","v":{"$error":"#REF!"}},{"$f":"IF(#REF!=\"\",\"\", AE1)","v":{"$error":"#REF!"}},{"$f":"IF(#REF!=\"\",\"\", AF1)","v":{"$error":"#REF!"}},{"$f":"IF(#REF!=\"\",\"\", AG1)","v":{"$error":"#REF!"}},{"$f":"IF(#REF!=\"\",\"\", AH1)","v":{"$error":"#REF!"}},{"$f":"IF(#REF!=\"\",\"\", AI1)","v":{"$error":"#REF!"}}]
[{"$f":"'Contact Information'!$C$6","v":0},{"$f":"'Contact Information'!$C$7","v":0},{"$f":"'Contact Information'!$C$8","v":0},{"$f":"'Contact Information'!$C$9","v":0},{"$f":"#REF!","v":{"$error":"#REF!"}},{"$f":"#REF!","v":{"$error":"#REF!"}},{"$f":"#REF!","v":{"$error":"#REF!"}},{"$f":"#REF!","v":{"$error":"#REF!"}},{"$f":"#REF!","v":{"$error":"#REF!"}},{"$f":"#REF!","v":{"$error":"#REF!"}},{"$f":"#REF!","v":{"$error":"#REF!"}},{"$f":"#REF!","v":{"$error":"#REF!"}},{"$f":"#REF!","v":{"$error":"#REF!"}},{"$f":"#REF!","v":{"$error":"#REF!"}},{"$f":"#REF!","v":{"$error":"#REF!"}},{"$f":"#REF!","v":{"$error":"#REF!"}},{"$f":"#REF!","v":{"$error":"#REF!"}},{"$f":"#REF!","v":{"$error":"#REF!"}},{"$f":"#REF!","v":{"$error":"#REF!"}},{"$f":"#REF!","v":{"$error":"#REF!"}},{"$f":"#REF!","v":{"$error":"#REF!"}},{"$f":"#REF!","v":{"$error":"#REF!"}},{"$f":"#REF!","v":{"$error":"#REF!"}},{"$f":"#REF!","v":{"$error":"#REF!"}},{"$f":"#REF!","v":{"$error":"#REF!"}},{"$f":"#REF!","v":{"$error":"#REF!"}},{"$f":"IF(#REF!=\"\",\"\", AA2)","v":{"$error":"#REF!"}},{"$f":"IF(#REF!=\"\",\"\", AB2)","v":{"$error":"#REF!"}},{"$f":"IF(#REF!=\"\",\"\", AC2)","v":{"$error":"#REF!"}},{"$f":"IF(#REF!=\"\",\"\", AD2)","v":{"$error":"#REF!"}},{"$f":"IF(#REF!=\"\",\"\", AE2)","v":{"$error":"#REF!"}},{"$f":"IF(#REF!=\"\",\"\", AF2)","v":{"$error":"#REF!"}},{"$f":"IF(#REF!=\"\",\"\", AG2)","v":{"$error":"#REF!"}},{"$f":"IF(#REF!=\"\",\"\", AH2)","v":{"$error":"#REF!"}},{"$f":"IF(#REF!=\"\",\"\", AI2)","v":{"$error":"#REF!"}}]
[{"$f":"'Contact Information'!$C$6","v":0},{"$f":"'Contact Information'!$C$7","v":0},{"$f":"'Contact Information'!$C$8","v":0},{"$f":"'Contact Information'!$C$9","v":0},{"$f":"#REF!","v":{"$error":"#REF!"}},{"$f":"#REF!","v":{"$error":"#REF!"}},{"$f":"#REF!","v":{"$error":"#REF!"}},{"$f":"#REF!","v":{"$error":"#REF!"}},{"$f":"#REF!","v":{"$error":"#REF!"}},{"$f":"#REF!","v":{"$error":"#REF!"}},{"$f":"#REF!","v":{"$error":"#REF!"}},{"$f":"#REF!","v":{"$error":"#REF!"}},{"$f":"#REF!","v":{"$error":"#REF!"}},{"$f":"#REF!","v":{"$error":"#REF!"}},{"$f":"#REF!","v":{"$error":"#REF!"}},{"$f":"#REF!","v":{"$error":"#REF!"}},{"$f":"#REF!","v":{"$error":"#REF!"}},{"$f":"#REF!","v":{"$error":"#REF!"}},{"$f":"#REF!","v":{"$error":"#REF!"}},{"$f":"#REF!","v":{"$error":"#REF!"}},{"$f":"#REF!","v":{"$error":"#REF!"}},{"$f":"#REF!","v":{"$error":"#REF!"}},{"$f":"#REF!","v":{"$error":"#REF!"}},{"$f":"#REF!","v":{"$error":"#REF!"}},{"$f":"#REF!","v":{"$error":"#REF!"}},{"$f":"#REF!","v":{"$error":"#REF!"}},{"$f":"IF(#REF!=\"\",\"\", AA3)","v":{"$error":"#REF!"}},{"$f":"IF(#REF!=\"\",\"\", AB3)","v":{"$error":"#REF!"}},{"$f":"IF(#REF!=\"\",\"\", AC3)","v":{"$error":"#REF!"}},{"$f":"IF(#REF!=\"\",\"\", AD3)","v":{"$error":"#REF!"}},{"$f":"IF(#REF!=\"\",\"\", AE3)","v":{"$error":"#REF!"}},{"$f":"IF(#REF!=\"\",\"\", AF3)","v":{"$error":"#REF!"}},{"$f":"IF(#REF!=\"\",\"\", AG3)","v":{"$error":"#REF!"}},{"$f":"IF(#REF!=\"\",\"\", AH3)","v":{"$error":"#REF!"}},{"$f":"IF(#REF!=\"\",\"\", AI3)","v":{"$error":"#REF!"}}]
[{"$f":"'Contact Information'!$C$6","v":0},{"$f":"'Contact Information'!$C$7","v":0},{"$f":"'Contact Information'!$C$8","v":0},{"$f":"'Contact Information'!$C$9","v":0},{"$f":"#REF!","v":{"$error":"#REF!"}},{"$f":"#REF!","v":{"$error":"#REF!"}},{"$f":"#REF!","v":{"$error":"#REF!"}},{"$f":"#REF!","v":{"$error":"#REF!"}},{"$f":"#REF!","v":{"$error":"#REF!"}},{"$f":"#REF!","v":{"$error":"#REF!"}},{"$f":"#REF!","v":{"$error":"#REF!"}},{"$f":"#REF!","v":{"$error":"#REF!"}},{"$f":"#REF!","v":{"$error":"#REF!"}},{"$f":"#REF!","v":{"$error":"#REF!"}},{"$f":"#REF!","v":{"$error":"#REF!"}},{"$f":"#REF!","v":{"$error":"#REF!"}},{"$f":"#REF!","v":{"$error":"#REF!"}},{"$f":"#REF!","v":{"$error":"#REF!"}},{"$f":"#REF!","v":{"$error":"#REF!"}},{"$f":"#REF!","v":{"$error":"#REF!"}},{"$f":"#REF!","v":{"$error":"#REF!"}},{"$f":"#REF!","v":{"$error":"#REF!"}},{"$f":"#REF!","v":{"$error":"#REF!"}},{"$f":"#REF!","v":{"$error":"#REF!"}},{"$f":"#REF!","v":{"$error":"#REF!"}},{"$f":"#REF!","v":{"$error":"#REF!"}},{"$f":"IF(#REF!=\"\",\"\", AA4)","v":{"$error":"#REF!"}},{"$f":"IF(#REF!=\"\",\"\", AB4)","v":{"$error":"#REF!"}},{"$f":"IF(#REF!=\"\",\"\", AC4)","v":{"$error":"#REF!"}},{"$f":"IF(#REF!=\"\",\"\", AD4)","v":{"$error":"#REF!"}},{"$f":"IF(#REF!=\"\",\"\", AE4)","v":{"$error":"#REF!"}},{"$f":"IF(#REF!=\"\",\"\", AF4)","v":{"$error":"#REF!"}},{"$f":"IF(#REF!=\"\",\"\", AG4)","v":{"$error":"#REF!"}},{"$f":"IF(#REF!=\"\",\"\", AH4)","v":{"$error":"#REF!"}},{"$f":"IF(#REF!=\"\",\"\", AI4)","v":{"$error":"#REF!"}}]
[{"$f":"'Contact Information'!$C$6","v":0},{"$f":"'Contact Information'!$C$7","v":0},{"$f":"'Contact Information'!$C$8","v":0},{"$f":"'Contact Information'!$C$9","v":0},{"$f":"#REF!","v":{"$error":"#REF!"}},{"$f":"#REF!","v":{"$error":"#REF!"}},{"$f":"#REF!","v":{"$error":"#REF!"}},{"$f":"#REF!","v":{"$error":"#REF!"}},{"$f":"#REF!","v":{"$error":"#REF!"}},{"$f":"#REF!","v":{"$error":"#REF!"}},{"$f":"#REF!","v":{"$error":"#REF!"}},{"$f":"#REF!","v":{"$error":"#REF!"}},{"$f":"#REF!","v":{"$error":"#REF!"}},{"$f":"#REF!","v":{"$error":"#REF!"}},{"$f":"#REF!","v":{"$error":"#REF!"}},{"$f":"#REF!","v":{"$error":"#REF!"}},{"$f":"#REF!","v":{"$error":"#REF!"}},{"$f":"#REF!","v":{"$error":"#REF!"}},{"$f":"#REF!","v":{"$error":"#REF!"}},{"$f":"#REF!","v":{"$error":"#REF!"}},{"$f":"#REF!","v":{"$error":"#REF!"}},{"$f":"#REF!","v":{"$error":"#REF!"}},{"$f":"#REF!","v":{"$error":"#REF!"}},{"$f":"#REF!","v":{"$error":"#REF!"}},{"$f":"#REF!","v":{"$error":"#REF!"}},{"$f":"#REF!","v":{"$error":"#REF!"}},{"$f":"IF(#REF!=\"\",\"\", AA5)","v":{"$error":"#REF!"}},{"$f":"IF(#REF!=\"\",\"\", AB5)","v":{"$error":"#REF!"}},{"$f":"IF(#REF!=\"\",\"\", AC5)","v":{"$error":"#REF!"}},{"$f":"IF(#REF!=\"\",\"\", AD5)","v":{"$error":"#REF!"}},{"$f":"IF(#REF!=\"\",\"\", AE5)","v":{"$error":"#REF!"}},{"$f":"IF(#REF!=\"\",\"\", AF5)","v":{"$error":"#REF!"}},{"$f":"IF(#REF!=\"\",\"\", AG5)","v":{"$error":"#REF!"}},{"$f":"IF(#REF!=\"\",\"\", AH5)","v":{"$error":"#REF!"}},{"$f":"IF(#REF!=\"\",\"\", AI5)","v":{"$error":"#REF!"}}]
[{"$f":"'Contact Information'!$C$6","v":0},{"$f":"'Contact Information'!$C$7","v":0},{"$f":"'Contact Information'!$C$8","v":0},{"$f":"'Contact Information'!$C$9","v":0},{"$f":"#REF!","v":{"$error":"#REF!"}},{"$f":"#REF!","v":{"$error":"#REF!"}},{"$f":"#REF!","v":{"$error":"#REF!"}},{"$f":"#REF!","v":{"$error":"#REF!"}},{"$f":"#REF!","v":{"$error":"#REF!"}},{"$f":"#REF!","v":{"$error":"#REF!"}},{"$f":"#REF!","v":{"$error":"#REF!"}},{"$f":"#REF!","v":{"$error":"#REF!"}},{"$f":"#REF!","v":{"$error":"#REF!"}},{"$f":"#REF!","v":{"$error":"#REF!"}},{"$f":"#REF!","v":{"$error":"#REF!"}},{"$f":"#REF!","v":{"$error":"#REF!"}},{"$f":"#REF!","v":{"$error":"#REF!"}},{"$f":"#REF!","v":{"$error":"#REF!"}},{"$f":"#REF!","v":{"$error":"#REF!"}},{"$f":"#REF!","v":{"$error":"#REF!"}},{"$f":"#REF!","v":{"$error":"#REF!"}},{"$f":"#REF!","v":{"$error":"#REF!"}},{"$f":"#REF!","v":{"$error":"#REF!"}},{"$f":"#REF!","v":{"$error":"#REF!"}},{"$f":"#REF!","v":{"$error":"#REF!"}},{"$f":"#REF!","v":{"$error":"#REF!"}},{"$f":"IF(#REF!=\"\",\"\", AA6)","v":{"$error":"#REF!"}},{"$f":"IF(#REF!=\"\",\"\", AB6)","v":{"$error":"#REF!"}},{"$f":"IF(#REF!=\"\",\"\", AC6)","v":{"$error":"#REF!"}},{"$f":"IF(#REF!=\"\",\"\", AD6)","v":{"$error":"#REF!"}},{"$f":"IF(#REF!=\"\",\"\", AE6)","v":{"$error":"#REF!"}},{"$f":"IF(#REF!=\"\",\"\", AF6)","v":{"$error":"#REF!"}},{"$f":"IF(#REF!=\"\",\"\", AG6)","v":{"$error":"#REF!"}},{"$f":"IF(#REF!=\"\",\"\", AH6)","v":{"$error":"#REF!"}},{"$f":"IF(#REF!=\"\",\"\", AI6)","v":{"$error":"#REF!"}}]
[{"$f":"'Contact Information'!$C$6","v":0},{"$f":"'Contact Information'!$C$7","v":0},{"$f":"'Contact Information'!$C$8","v":0},{"$f":"'Contact Information'!$C$9","v":0},{"$f":"#REF!","v":{"$error":"#REF!"}},{"$f":"#REF!","v":{"$error":"#REF!"}},{"$f":"#REF!","v":{"$error":"#REF!"}},{"$f":"#REF!","v":{"$error":"#REF!"}},{"$f":"#REF!","v":{"$error":"#REF!"}},{"$f":"#REF!","v":{"$error":"#REF!"}},{"$f":"#REF!","v":{"$error":"#REF!"}},{"$f":"#REF!","v":{"$error":"#REF!"}},{"$f":"#REF!","v":{"$error":"#REF!"}},{"$f":"#REF!","v":{"$error":"#REF!"}},{"$f":"#REF!","v":{"$error":"#REF!"}},{"$f":"#REF!","v":{"$error":"#REF!"}},{"$f":"#REF!","v":{"$error":"#REF!"}},{"$f":"#REF!","v":{"$error":"#REF!"}},{"$f":"#REF!","v":{"$error":"#REF!"}},{"$f":"#REF!","v":{"$error":"#REF!"}},{"$f":"#REF!","v":{"$error":"#REF!"}},{"$f":"#REF!","v":{"$error":"#REF!"}},{"$f":"#REF!","v":{"$error":"#REF!"}},{"$f":"#REF!","v":{"$error":"#REF!"}},{"$f":"#REF!","v":{"$error":"#REF!"}},{"$f":"#REF!","v":{"$error":"#REF!"}},{"$f":"IF(#REF!=\"\",\"\", AA7)","v":{"$error":"#REF!"}},{"$f":"IF(#REF!=\"\",\"\", AB7)","v":{"$error":"#REF!"}},{"$f":"IF(#REF!=\"\",\"\", AC7)","v":{"$error":"#REF!"}},{"$f":"IF(#REF!=\"\",\"\", AD7)","v":{"$error":"#REF!"}},{"$f":"IF(#REF!=\"\",\"\", AE7)","v":{"$error":"#REF!"}},{"$f":"IF(#REF!=\"\",\"\", AF7)","v":{"$error":"#REF!"}},{"$f":"IF(#REF!=\"\",\"\", AG7)","v":{"$error":"#REF!"}},{"$f":"IF(#REF!=\"\",\"\", AH7)","v":{"$error":"#REF!"}},{"$f":"IF(#REF!=\"\",\"\", AI7)","v":{"$error":"#REF!"}}]
[{"$f":"'Contact Information'!$C$6","v":0},{"$f":"'Contact Information'!$C$7","v":0},{"$f":"'Contact Information'!$C$8","v":0},{"$f":"'Contact Information'!$C$9","v":0},{"$f":"#REF!","v":{"$error":"#REF!"}},{"$f":"#REF!","v":{"$error":"#REF!"}},{"$f":"#REF!","v":{"$error":"#REF!"}},{"$f":"#REF!","v":{"$error":"#REF!"}},{"$f":"#REF!","v":{"$error":"#REF!"}},{"$f":"#REF!","v":{"$error":"#REF!"}},{"$f":"#REF!","v":{"$error":"#REF!"}},{"$f":"#REF!","v":{"$error":"#REF!"}},{"$f":"#REF!","v":{"$error":"#REF!"}},{"$f":"#REF!","v":{"$error":"#REF!"}},{"$f":"#REF!","v":{"$error":"#REF!"}},{"$f":"#REF!","v":{"$error":"#REF!"}},{"$f":"#REF!","v":{"$error":"#REF!"}},{"$f":"#REF!","v":{"$error":"#REF!"}},{"$f":"#REF!","v":{"$error":"#REF!"}},{"$f":"#REF!","v":{"$error":"#REF!"}},{"$f":"#REF!","v":{"$error":"#REF!"}},{"$f":"#REF!","v":{"$error":"#REF!"}},{"$f":"#REF!","v":{"$error":"#REF!"}},{"$f":"#REF!","v":{"$error":"#REF!"}},{"$f":"#REF!","v":{"$error":"#REF!"}},{"$f":"#REF!","v":{"$error":"#REF!"}},{"$f":"IF(#REF!=\"\",\"\", AA8)","v":{"$error":"#REF!"}},{"$f":"IF(#REF!=\"\",\"\", AB8)","v":{"$error":"#REF!"}},{"$f":"IF(#REF!=\"\",\"\", AC8)","v":{"$error":"#REF!"}},{"$f":"IF(#REF!=\"\",\"\", AD8)","v":{"$error":"#REF!"}},{"$f":"IF(#REF!=\"\",\"\", AE8)","v":{"$error":"#REF!"}},{"$f":"IF(#REF!=\"\",\"\", AF8)","v":{"$error":"#REF!"}},{"$f":"IF(#REF!=\"\",\"\", AG8)","v":{"$error":"#REF!"}},{"$f":"IF(#REF!=\"\",\"\", AH8)","v":{"$error":"#REF!"}},{"$f":"IF(#REF!=\"\",\"\", AI8)","v":{"$error":"#REF!"}}]
[{"$f":"'Contact Information'!$C$6","v":0},{"$f":"'Contact Information'!$C$7","v":0},{"$f":"'Contact Information'!$C$8","v":0},{"$f":"'Contact Information'!$C$9","v":0},{"$f":"#REF!","v":{"$error":"#REF!"}},{"$f":"#REF!","v":{"$error":"#REF!"}},{"$f":"#REF!","v":{"$error":"#REF!"}},{"$f":"#REF!","v":{"$error":"#REF!"}},{"$f":"#REF!","v":{"$error":"#REF!"}},{"$f":"#REF!","v":{"$error":"#REF!"}},{"$f":"#REF!","v":{"$error":"#REF!"}},{"$f":"#REF!","v":{"$error":"#REF!"}},{"$f":"#REF!","v":{"$error":"#REF!"}},{"$f":"#REF!","v":{"$error":"#REF!"}},{"$f":"#REF!","v":{"$error":"#REF!"}},{"$f":"#REF!","v":{"$error":"#REF!"}},{"$f":"#REF!","v":{"$error":"#REF!"}},{"$f":"#REF!","v":{"$error":"#REF!"}},{"$f":"#REF!","v":{"$error":"#REF!"}},{"$f":"#REF!","v":{"$error":"#REF!"}},{"$f":"#REF!","v":{"$error":"#REF!"}},{"$f":"#REF!","v":{"$error":"#REF!"}},{"$f":"#REF!","v":{"$error":"#REF!"}},{"$f":"#REF!","v":{"$error":"#REF!"}},{"$f":"#REF!","v":{"$error":"#REF!"}},{"$f":"#REF!","v":{"$error":"#REF!"}},{"$f":"IF(#REF!=\"\",\"\", AA9)","v":{"$error":"#REF!"}},{"$f":"IF(#REF!=\"\",\"\", AB9)","v":{"$error":"#REF!"}},{"$f":"IF(#REF!=\"\",\"\", AC9)","v":{"$error":"#REF!"}},{"$f":"IF(#REF!=\"\",\"\", AD9)","v":{"$error":"#REF!"}},{"$f":"IF(#REF!=\"\",\"\", AE9)","v":{"$error":"#REF!"}},{"$f":"IF(#REF!=\"\",\"\", AF9)","v":{"$error":"#REF!"}},{"$f":"IF(#REF!=\"\",\"\", AG9)","v":{"$error":"#REF!"}},{"$f":"IF(#REF!=\"\",\"\", AH9)","v":{"$error":"#REF!"}},{"$f":"IF(#REF!=\"\",\"\", AI9)","v":{"$error":"#REF!"}}]
[{"$f":"'Contact Information'!$C$6","v":0},{"$f":"'Contact Information'!$C$7","v":0},{"$f":"'Contact Information'!$C$8","v":0},{"$f":"'Contact Information'!$C$9","v":0},{"$f":"#REF!","v":{"$error":"#REF!"}},{"$f":"#REF!","v":{"$error":"#REF!"}},{"$f":"#REF!","v":{"$error":"#REF!"}},{"$f":"#REF!","v":{"$error":"#REF!"}},{"$f":"#REF!","v":{"$error":"#REF!"}},{"$f":"#REF!","v":{"$error":"#REF!"}},{"$f":"#REF!","v":{"$error":"#REF!"}},{"$f":"#REF!","v":{"$error":"#REF!"}},{"$f":"#REF!","v":{"$error":"#REF!"}},{"$f":"#REF!","v":{"$error":"#REF!"}},{"$f":"#REF!","v":{"$error":"#REF!"}},{"$f":"#REF!","v":{"$error":"#REF!"}},{"$f":"#REF!","v":{"$error":"#REF!"}},{"$f":"#REF!","v":{"$error":"#REF!"}},{"$f":"#REF!","v":{"$error":"#REF!"}},{"$f":"#REF!","v":{"$error":"#REF!"}},{"$f":"#REF!","v":{"$error":"#REF!"}},{"$f":"#REF!","v":{"$error":"#REF!"}},{"$f":"#REF!","v":{"$error":"#REF!"}},{"$f":"#REF!","v":{"$error":"#REF!"}},{"$f":"#REF!","v":{"$error":"#REF!"}},{"$f":"#REF!","v":{"$error":"#REF!"}},{"$f":"IF(#REF!=\"\",\"\", AA10)","v":{"$error":"#REF!"}},{"$f":"IF(#REF!=\"\",\"\", AB10)","v":{"$error":"#REF!"}},{"$f":"IF(#REF!=\"\",\"\", AC10)","v":{"$error":"#REF!"}},{"$f":"IF(#REF!=\"\",\"\", AD10)","v":{"$error":"#REF!"}},{"$f":"IF(#REF!=\"\",\"\", AE10)","v":{"$error":"#REF!"}},{"$f":"IF(#REF!=\"\",\"\", AF10)","v":{"$error":"#REF!"}},{"$f":"IF(#REF!=\"\",\"\", AG10)","v":{"$error":"#REF!"}},{"$f":"IF(#REF!=\"\",\"\", AH10)","v":{"$error":"#REF!"}},{"$f":"IF(#REF!=\"\",\"\", AI10)","v":{"$error":"#REF!"}}]
[{"$f":"'Contact Information'!$C$6","v":0},{"$f":"'Contact Information'!$C$7","v":0},{"$f":"'Contact Information'!$C$8","v":0},{"$f":"'Contact Information'!$C$9","v":0},{"$f":"#REF!","v":{"$error":"#REF!"}},{"$f":"#REF!","v":{"$error":"#REF!"}},{"$f":"#REF!","v":{"$error":"#REF!"}},{"$f":"#REF!","v":{"$error":"#REF!"}},{"$f":"#REF!","v":{"$error":"#REF!"}},{"$f":"#REF!","v":{"$error":"#REF!"}},{"$f":"#REF!","v":{"$error":"#REF!"}},{"$f":"#REF!","v":{"$error":"#REF!"}},{"$f":"#REF!","v":{"$error":"#REF!"}},{"$f":"#REF!","v":{"$error":"#REF!"}},{"$f":"#REF!","v":{"$error":"#REF!"}},{"$f":"#REF!","v":{"$error":"#REF!"}},{"$f":"#REF!","v":{"$error":"#REF!"}},{"$f":"#REF!","v":{"$error":"#REF!"}},{"$f":"#REF!","v":{"$error":"#REF!"}},{"$f":"#REF!","v":{"$error":"#REF!"}},{"$f":"#REF!","v":{"$error":"#REF!"}},{"$f":"#REF!","v":{"$error":"#REF!"}},{"$f":"#REF!","v":{"$error":"#REF!"}},{"$f":"#REF!","v":{"$error":"#REF!"}},{"$f":"#REF!","v":{"$error":"#REF!"}},{"$f":"#REF!","v":{"$error":"#REF!"}},{"$f":"IF(#REF!=\"\",\"\", AA11)","v":{"$error":"#REF!"}},{"$f":"IF(#REF!=\"\",\"\", AB11)","v":{"$error":"#REF!"}},{"$f":"IF(#REF!=\"\",\"\", AC11)","v":{"$error":"#REF!"}},{"$f":"IF(#REF!=\"\",\"\", AD11)","v":{"$error":"#REF!"}},{"$f":"IF(#REF!=\"\",\"\", AE11)","v":{"$error":"#REF!"}},{"$f":"IF(#REF!=\"\",\"\", AF11)","v":{"$error":"#REF!"}},{"$f":"IF(#REF!=\"\",\"\", AG11)","v":{"$error":"#REF!"}},{"$f":"IF(#REF!=\"\",\"\", AH11)","v":{"$error":"#REF!"}},{"$f":"IF(#REF!=\"\",\"\", AI11)","v":{"$error":"#REF!"}}]
[{"$f":"'Contact Information'!$C$6","v":0},{"$f":"'Contact Information'!$C$7","v":0},{"$f":"'Contact Information'!$C$8","v":0},{"$f":"'Contact Information'!$C$9","v":0},{"$f":"#REF!","v":{"$error":"#REF!"}},{"$f":"#REF!","v":{"$error":"#REF!"}},{"$f":"#REF!","v":{"$error":"#REF!"}},{"$f":"#REF!","v":{"$error":"#REF!"}},{"$f":"#REF!","v":{"$error":"#REF!"}},{"$f":"#REF!","v":{"$error":"#REF!"}},{"$f":"#REF!","v":{"$error":"#REF!"}},{"$f":"#REF!","v":{"$error":"#REF!"}},{"$f":"#REF!","v":{"$error":"#REF!"}},{"$f":"#REF!","v":{"$error":"#REF!"}},{"$f":"#REF!","v":{"$error":"#REF!"}},{"$f":"#REF!","v":{"$error":"#REF!"}},{"$f":"#REF!","v":{"$error":"#REF!"}},{"$f":"#REF!","v":{"$error":"#REF!"}},{"$f":"#REF!","v":{"$error":"#REF!"}},{"$f":"#REF!","v":{"$error":"#REF!"}},{"$f":"#REF!","v":{"$error":"#REF!"}},{"$f":"#REF!","v":{"$error":"#REF!"}},{"$f":"#REF!","v":{"$error":"#REF!"}},{"$f":"#REF!","v":{"$error":"#REF!"}},{"$f":"#REF!","v":{"$error":"#REF!"}},{"$f":"#REF!","v":{"$error":"#REF!"}},{"$f":"IF(#REF!=\"\",\"\", AA12)","v":{"$error":"#REF!"}},{"$f":"IF(#REF!=\"\",\"\", AB12)","v":{"$error":"#REF!"}},{"$f":"IF(#REF!=\"\",\"\", AC12)","v":{"$error":"#REF!"}},{"$f":"IF(#REF!=\"\",\"\", AD12)","v":{"$error":"#REF!"}},{"$f":"IF(#REF!=\"\",\"\", AE12)","v":{"$error":"#REF!"}},{"$f":"IF(#REF!=\"\",\"\", AF12)","v":{"$error":"#REF!"}},{"$f":"IF(#REF!=\"\",\"\", AG12)","v":{"$error":"#REF!"}},{"$f":"IF(#REF!=\"\",\"\", AH12)","v":{"$error":"#REF!"}},{"$f":"IF(#REF!=\"\",\"\", AI12)","v":{"$error":"#REF!"}}]
[{"$f":"'Contact Information'!$C$6","v":0},{"$f":"'Contact Information'!$C$7","v":0},{"$f":"'Contact Information'!$C$8","v":0},{"$f":"'Contact Information'!$C$9","v":0},{"$f":"#REF!","v":{"$error":"#REF!"}},{"$f":"#REF!","v":{"$error":"#REF!"}},{"$f":"#REF!","v":{"$error":"#REF!"}},{"$f":"#REF!","v":{"$error":"#REF!"}},{"$f":"#REF!","v":{"$error":"#REF!"}},{"$f":"#REF!","v":{"$error":"#REF!"}},{"$f":"#REF!","v":{"$error":"#REF!"}},{"$f":"#REF!","v":{"$error":"#REF!"}},{"$f":"#REF!","v":{"$error":"#REF!"}},{"$f":"#REF!","v":{"$error":"#REF!"}},{"$f":"#REF!","v":{"$error":"#REF!"}},{"$f":"#REF!","v":{"$error":"#REF!"}},{"$f":"#REF!","v":{"$error":"#REF!"}},{"$f":"#REF!","v":{"$error":"#REF!"}},{"$f":"#REF!","v":{"$error":"#REF!"}},{"$f":"#REF!","v":{"$error":"#REF!"}},{"$f":"#REF!","v":{"$error":"#REF!"}},{"$f":"#REF!","v":{"$error":"#REF!"}},{"$f":"#REF!","v":{"$error":"#REF!"}},{"$f":"#REF!","v":{"$error":"#REF!"}},{"$f":"#REF!","v":{"$error":"#REF!"}},{"$f":"#REF!","v":{"$error":"#REF!"}},{"$f":"IF(#REF!=\"\",\"\", AA13)","v":{"$error":"#REF!"}},{"$f":"IF(#REF!=\"\",\"\", AB13)","v":{"$error":"#REF!"}},{"$f":"IF(#REF!=\"\",\"\", AC13)","v":{"$error":"#REF!"}},{"$f":"IF(#REF!=\"\",\"\", AD13)","v":{"$error":"#REF!"}},{"$f":"IF(#REF!=\"\",\"\", AE13)","v":{"$error":"#REF!"}},{"$f":"IF(#REF!=\"\",\"\", AF13)","v":{"$error":"#REF!"}},{"$f":"IF(#REF!=\"\",\"\", AG13)","v":{"$error":"#REF!"}},{"$f":"IF(#REF!=\"\",\"\", AH13)","v":{"$error":"#REF!"}},{"$f":"IF(#REF!=\"\",\"\", AI13)","v":{"$error":"#REF!"}}]
[{"$f":"'Contact Information'!$C$6","v":0},{"$f":"'Contact Information'!$C$7","v":0},{"$f":"'Contact Information'!$C$8","v":0},{"$f":"'Contact Information'!$C$9","v":0},{"$f":"#REF!","v":{"$error":"#REF!"}},{"$f":"#REF!","v":{"$error":"#REF!"}},{"$f":"#REF!","v":{"$error":"#REF!"}},{"$f":"#REF!","v":{"$error":"#REF!"}},{"$f":"#REF!","v":{"$error":"#REF!"}},{"$f":"#REF!","v":{"$error":"#REF!"}},{"$f":"#REF!","v":{"$error":"#REF!"}},{"$f":"#REF!","v":{"$error":"#REF!"}},{"$f":"#REF!","v":{"$error":"#REF!"}},{"$f":"#REF!","v":{"$error":"#REF!"}},{"$f":"#REF!","v":{"$error":"#REF!"}},{"$f":"#REF!","v":{"$error":"#REF!"}},{"$f":"#REF!","v":{"$error":"#REF!"}},{"$f":"#REF!","v":{"$error":"#REF!"}},{"$f":"#REF!","v":{"$error":"#REF!"}},{"$f":"#REF!","v":{"$error":"#REF!"}},{"$f":"#REF!","v":{"$error":"#REF!"}},{"$f":"#REF!","v":{"$error":"#REF!"}},{"$f":"#REF!","v":{"$error":"#REF!"}},{"$f":"#REF!","v":{"$error":"#REF!"}},{"$f":"#REF!","v":{"$error":"#REF!"}},{"$f":"#REF!","v":{"$error":"#REF!"}},{"$f":"IF(#REF!=\"\",\"\", AA14)","v":{"$error":"#REF!"}},{"$f":"IF(#REF!=\"\",\"\", AB14)","v":{"$error":"#REF!"}},{"$f":"IF(#REF!=\"\",\"\", AC14)","v":{"$error":"#REF!"}},{"$f":"IF(#REF!=\"\",\"\", AD14)","v":{"$error":"#REF!"}},{"$f":"IF(#REF!=\"\",\"\", AE14)","v":{"$error":"#REF!"}},{"$f":"IF(#REF!=\"\",\"\", AF14)","v":{"$error":"#REF!"}},{"$f":"IF(#REF!=\"\",\"\", AG14)","v":{"$error":"#REF!"}},{"$f":"IF(#REF!=\"\",\"\", AH14)","v":{"$error":"#REF!"}},{"$f":"IF(#REF!=\"\",\"\", AI14)","v":{"$error":"#REF!"}}]
[{"$f":"'Contact Information'!$C$6","v":0},{"$f":"'Contact Information'!$C$7","v":0},{"$f":"'Contact Information'!$C$8","v":0},{"$f":"'Contact Information'!$C$9","v":0},{"$f":"#REF!","v":{"$error":"#REF!"}},{"$f":"#REF!","v":{"$error":"#REF!"}},{"$f":"#REF!","v":{"$error":"#REF!"}},{"$f":"#REF!","v":{"$error":"#REF!"}},{"$f":"#REF!","v":{"$error":"#REF!"}},{"$f":"#REF!","v":{"$error":"#REF!"}},{"$f":"#REF!","v":{"$error":"#REF!"}},{"$f":"#REF!","v":{"$error":"#REF!"}},{"$f":"#REF!","v":{"$error":"#REF!"}},{"$f":"#REF!","v":{"$error":"#REF!"}},{"$f":"#REF!","v":{"$error":"#REF!"}},{"$f":"#REF!","v":{"$error":"#REF!"}},{"$f":"#REF!","v":{"$error":"#REF!"}},{"$f":"#REF!","v":{"$error":"#REF!"}},{"$f":"#REF!","v":{"$error":"#REF!"}},{"$f":"#REF!","v":{"$error":"#REF!"}},{"$f":"#REF!","v":{"$error":"#REF!"}},{"$f":"#REF!","v":{"$error":"#REF!"}},{"$f":"#REF!","v":{"$error":"#REF!"}},{"$f":"#REF!","v":{"$error":"#REF!"}},{"$f":"#REF!","v":{"$error":"#REF!"}},{"$f":"#REF!","v":{"$error":"#REF!"}},{"$f":"IF(#REF!=\"\",\"\", AA15)","v":{"$error":"#REF!"}},{"$f":"IF(#REF!=\"\",\"\", AB15)","v":{"$error":"#REF!"}},{"$f":"IF(#REF!=\"\",\"\", AC15)","v":{"$error":"#REF!"}},{"$f":"IF(#REF!=\"\",\"\", AD15)","v":{"$error":"#REF!"}},{"$f":"IF(#REF!=\"\",\"\", AE15)","v":{"$error":"#REF!"}},{"$f":"IF(#REF!=\"\",\"\", AF15)","v":{"$error":"#REF!"}},{"$f":"IF(#REF!=\"\",\"\", AG15)","v":{"$error":"#REF!"}},{"$f":"IF(#REF!=\"\",\"\", AH15)","v":{"$error":"#REF!"}},{"$f":"IF(#REF!=\"\",\"\", AI15)","v":{"$error":"#REF!"}}]
[{"$f":"'Contact Information'!$C$6","v":0},{"$f":"'Contact Information'!$C$7","v":0},{"$f":"'Contact Information'!$C$8","v":0},{"$f":"'Contact Information'!$C$9","v":0},{"$f":"#REF!","v":{"$error":"#REF!"}},{"$f":"#REF!","v":{"$error":"#REF!"}},{"$f":"#REF!","v":{"$error":"#REF!"}},{"$f":"#REF!","v":{"$error":"#REF!"}},{"$f":"#REF!","v":{"$error":"#REF!"}},{"$f":"#REF!","v":{"$error":"#REF!"}},{"$f":"#REF!","v":{"$error":"#REF!"}},{"$f":"#REF!","v":{"$error":"#REF!"}},{"$f":"#REF!","v":{"$error":"#REF!"}},{"$f":"#REF!","v":{"$error":"#REF!"}},{"$f":"#REF!","v":{"$error":"#REF!"}},{"$f":"#REF!","v":{"$error":"#REF!"}},{"$f":"#REF!","v":{"$error":"#REF!"}},{"$f":"#REF!","v":{"$error":"#REF!"}},{"$f":"#REF!","v":{"$error":"#REF!"}},{"$f":"#REF!","v":{"$error":"#REF!"}},{"$f":"#REF!","v":{"$error":"#REF!"}},{"$f":"#REF!","v":{"$error":"#REF!"}},{"$f":"#REF!","v":{"$error":"#REF!"}},{"$f":"#REF!","v":{"$error":"#REF!"}},{"$f":"#REF!","v":{"$error":"#REF!"}},{"$f":"#REF!","v":{"$error":"#REF!"}},{"$f":"IF(#REF!=\"\",\"\", AA16)","v":{"$error":"#REF!"}},{"$f":"IF(#REF!=\"\",\"\", AB16)","v":{"$error":"#REF!"}},{"$f":"IF(#REF!=\"\",\"\", AC16)","v":{"$error":"#REF!"}},{"$f":"IF(#REF!=\"\",\"\", AD16)","v":{"$error":"#REF!"}},{"$f":"IF(#REF!=\"\",\"\", AE16)","v":{"$error":"#REF!"}},{"$f":"IF(#REF!=\"\",\"\", AF16)","v":{"$error":"#REF!"}},{"$f":"IF(#REF!=\"\",\"\", AG16)","v":{"$error":"#REF!"}},{"$f":"IF(#REF!=\"\",\"\", AH16)","v":{"$error":"#REF!"}},{"$f":"IF(#REF!=\"\",\"\", AI16)","v":{"$error":"#REF!"}}]
[{"$f":"'Contact Information'!$C$6","v":0},{"$f":"'Contact Information'!$C$7","v":0},{"$f":"'Contact Information'!$C$8","v":0},{"$f":"'Contact Information'!$C$9","v":0},{"$f":"#REF!","v":{"$error":"#REF!"}},{"$f":"#REF!","v":{"$error":"#REF!"}},{"$f":"#REF!","v":{"$error":"#REF!"}},{"$f":"#REF!","v":{"$error":"#REF!"}},{"$f":"#REF!","v":{"$error":"#REF!"}},{"$f":"#REF!","v":{"$error":"#REF!"}},{"$f":"#REF!","v":{"$error":"#REF!"}},{"$f":"#REF!","v":{"$error":"#REF!"}},{"$f":"#REF!","v":{"$error":"#REF!"}},{"$f":"#REF!","v":{"$error":"#REF!"}},{"$f":"#REF!","v":{"$error":"#REF!"}},{"$f":"#REF!","v":{"$error":"#REF!"}},{"$f":"#REF!","v":{"$error":"#REF!"}},{"$f":"#REF!","v":{"$error":"#REF!"}},{"$f":"#REF!","v":{"$error":"#REF!"}},{"$f":"#REF!","v":{"$error":"#REF!"}},{"$f":"#REF!","v":{"$error":"#REF!"}},{"$f":"#REF!","v":{"$error":"#REF!"}},{"$f":"#REF!","v":{"$error":"#REF!"}},{"$f":"#REF!","v":{"$error":"#REF!"}},{"$f":"#REF!","v":{"$error":"#REF!"}},{"$f":"#REF!","v":{"$error":"#REF!"}},{"$f":"IF(#REF!=\"\",\"\", AA17)","v":{"$error":"#REF!"}},{"$f":"IF(#REF!=\"\",\"\", AB17)","v":{"$error":"#REF!"}},{"$f":"IF(#REF!=\"\",\"\", AC17)","v":{"$error":"#REF!"}},{"$f":"IF(#REF!=\"\",\"\", AD17)","v":{"$error":"#REF!"}},{"$f":"IF(#REF!=\"\",\"\", AE17)","v":{"$error":"#REF!"}},{"$f":"IF(#REF!=\"\",\"\", AF17)","v":{"$error":"#REF!"}},{"$f":"IF(#REF!=\"\",\"\", AG17)","v":{"$error":"#REF!"}},{"$f":"IF(#REF!=\"\",\"\", AH17)","v":{"$error":"#REF!"}},{"$f":"IF(#REF!=\"\",\"\", AI17)","v":{"$error":"#REF!"}}]
[{"$f":"'Contact Information'!$C$6","v":0},{"$f":"'Contact Information'!$C$7","v":0},{"$f":"'Contact Information'!$C$8","v":0},{"$f":"'Contact Information'!$C$9","v":0},{"$f":"#REF!","v":{"$error":"#REF!"}},{"$f":"#REF!","v":{"$error":"#REF!"}},{"$f":"#REF!","v":{"$error":"#REF!"}},{"$f":"#REF!","v":{"$error":"#REF!"}},{"$f":"#REF!","v":{"$error":"#REF!"}},{"$f":"#REF!","v":{"$error":"#REF!"}},{"$f":"#REF!","v":{"$error":"#REF!"}},{"$f":"#REF!","v":{"$error":"#REF!"}},{"$f":"#REF!","v":{"$error":"#REF!"}},{"$f":"#REF!","v":{"$error":"#REF!"}},{"$f":"#REF!","v":{"$error":"#REF!"}},{"$f":"#REF!","v":{"$error":"#REF!"}},{"$f":"#REF!","v":{"$error":"#REF!"}},{"$f":"#REF!","v":{"$error":"#REF!"}},{"$f":"#REF!","v":{"$error":"#REF!"}},{"$f":"#REF!","v":{"$error":"#REF!"}},{"$f":"#REF!","v":{"$error":"#REF!"}},{"$f":"#REF!","v":{"$error":"#REF!"}},{"$f":"#REF!","v":{"$error":"#REF!"}},{"$f":"#REF!","v":{"$error":"#REF!"}},{"$f":"#REF!","v":{"$error":"#REF!"}},{"$f":"#REF!","v":{"$error":"#REF!"}},{"$f":"IF(#REF!=\"\",\"\", AA18)","v":{"$error":"#REF!"}},{"$f":"IF(#REF!=\"\",\"\", AB18)","v":{"$error":"#REF!"}},{"$f":"IF(#REF!=\"\",\"\", AC18)","v":{"$error":"#REF!"}},{"$f":"IF(#REF!=\"\",\"\", AD18)","v":{"$error":"#REF!"}},{"$f":"IF(#REF!=\"\",\"\", AE18)","v":{"$error":"#REF!"}},{"$f":"IF(#REF!=\"\",\"\", AF18)","v":{"$error":"#REF!"}},{"$f":"IF(#REF!=\"\",\"\", AG18)","v":{"$error":"#REF!"}},{"$f":"IF(#REF!=\"\",\"\", AH18)","v":{"$error":"#REF!"}},{"$f":"IF(#REF!=\"\",\"\", AI18)","v":{"$error":"#REF!"}}]
[{"$f":"'Contact Information'!$C$6","v":0},{"$f":"'Contact Information'!$C$7","v":0},{"$f":"'Contact Information'!$C$8","v":0},{"$f":"'Contact Information'!$C$9","v":0},{"$f":"#REF!","v":{"$error":"#REF!"}},{"$f":"#REF!","v":{"$error":"#REF!"}},{"$f":"#REF!","v":{"$error":"#REF!"}},{"$f":"#REF!","v":{"$error":"#REF!"}},{"$f":"#REF!","v":{"$error":"#REF!"}},{"$f":"#REF!","v":{"$error":"#REF!"}},{"$f":"#REF!","v":{"$error":"#REF!"}},{"$f":"#REF!","v":{"$error":"#REF!"}},{"$f":"#REF!","v":{"$error":"#REF!"}},{"$f":"#REF!","v":{"$error":"#REF!"}},{"$f":"#REF!","v":{"$error":"#REF!"}},{"$f":"#REF!","v":{"$error":"#REF!"}},{"$f":"#REF!","v":{"$error":"#REF!"}},{"$f":"#REF!","v":{"$error":"#REF!"}},{"$f":"#REF!","v":{"$error":"#REF!"}},{"$f":"#REF!","v":{"$error":"#REF!"}},{"$f":"#REF!","v":{"$error":"#REF!"}},{"$f":"#REF!","v":{"$error":"#REF!"}},{"$f":"#REF!","v":{"$error":"#REF!"}},{"$f":"#REF!","v":{"$error":"#REF!"}},{"$f":"#REF!","v":{"$error":"#REF!"}},{"$f":"#REF!","v":{"$error":"#REF!"}},{"$f":"IF(#REF!=\"\",\"\", AA19)","v":{"$error":"#REF!"}},{"$f":"IF(#REF!=\"\",\"\", AB19)","v":{"$error":"#REF!"}},{"$f":"IF(#REF!=\"\",\"\", AC19)","v":{"$error":"#REF!"}},{"$f":"IF(#REF!=\"\",\"\", AD19)","v":{"$error":"#REF!"}},{"$f":"IF(#REF!=\"\",\"\", AE19)","v":{"$error":"#REF!"}},{"$f":"IF(#REF!=\"\",\"\", AF19)","v":{"$error":"#REF!"}},{"$f":"IF(#REF!=\"\",\"\", AG19)","v":{"$error":"#REF!"}},{"$f":"IF(#REF!=\"\",\"\", AH19)","v":{"$error":"#REF!"}},{"$f":"IF(#REF!=\"\",\"\", AI19)","v":{"$error":"#REF!"}}]
[{"$f":"'Contact Information'!$C$6","v":0},{"$f":"'Contact Information'!$C$7","v":0},{"$f":"'Contact Information'!$C$8","v":0},{"$f":"'Contact Information'!$C$9","v":0},{"$f":"#REF!","v":{"$error":"#REF!"}},{"$f":"#REF!","v":{"$error":"#REF!"}},{"$f":"#REF!","v":{"$error":"#REF!"}},{"$f":"#REF!","v":{"$error":"#REF!"}},{"$f":"#REF!","v":{"$error":"#REF!"}},{"$f":"#REF!","v":{"$error":"#REF!"}},{"$f":"#REF!","v":{"$error":"#REF!"}},{"$f":"#REF!","v":{"$error":"#REF!"}},{"$f":"#REF!","v":{"$error":"#REF!"}},{"$f":"#REF!","v":{"$error":"#REF!"}},{"$f":"#REF!","v":{"$error":"#REF!"}},{"$f":"#REF!","v":{"$error":"#REF!"}},{"$f":"#REF!","v":{"$error":"#REF!"}},{"$f":"#REF!","v":{"$error":"#REF!"}},{"$f":"#REF!","v":{"$error":"#REF!"}},{"$f":"#REF!","v":{"$error":"#REF!"}},{"$f":"#REF!","v":{"$error":"#REF!"}},{"$f":"#REF!","v":{"$error":"#REF!"}},{"$f":"#REF!","v":{"$error":"#REF!"}},{"$f":"#REF!","v":{"$error":"#REF!"}},{"$f":"#REF!","v":{"$error":"#REF!"}},{"$f":"#REF!","v":{"$error":"#REF!"}},{"$f":"IF(#REF!=\"\",\"\", AA20)","v":{"$error":"#REF!"}},{"$f":"IF(#REF!=\"\",\"\", AB20)","v":{"$error":"#REF!"}},{"$f":"IF(#REF!=\"\",\"\", AC20)","v":{"$error":"#REF!"}},{"$f":"IF(#REF!=\"\",\"\", AD20)","v":{"$error":"#REF!"}},{"$f":"IF(#REF!=\"\",\"\", AE20)","v":{"$error":"#REF!"}},{"$f":"IF(#REF!=\"\",\"\", AF20)","v":{"$error":"#REF!"}},{"$f":"IF(#REF!=\"\",\"\", AG20)","v":{"$error":"#REF!"}},{"$f":"IF(#REF!=\"\",\"\", AH20)","v":{"$error":"#REF!"}},{"$f":"IF(#REF!=\"\",\"\", AI20)","v":{"$error":"#REF!"}}]
[{"$f":"'Contact Information'!$C$6","v":0},{"$f":"'Contact Information'!$C$7","v":0},{"$f":"'Contact Information'!$C$8","v":0},{"$f":"'Contact Information'!$C$9","v":0},{"$f":"#REF!","v":{"$error":"#REF!"}},{"$f":"#REF!","v":{"$error":"#REF!"}},{"$f":"#REF!","v":{"$error":"#REF!"}},{"$f":"#REF!","v":{"$error":"#REF!"}},{"$f":"#REF!","v":{"$error":"#REF!"}},{"$f":"#REF!","v":{"$error":"#REF!"}},{"$f":"#REF!","v":{"$error":"#REF!"}},{"$f":"#REF!","v":{"$error":"#REF!"}},{"$f":"#REF!","v":{"$error":"#REF!"}},{"$f":"#REF!","v":{"$error":"#REF!"}},{"$f":"#REF!","v":{"$error":"#REF!"}},{"$f":"#REF!","v":{"$error":"#REF!"}},{"$f":"#REF!","v":{"$error":"#REF!"}},{"$f":"#REF!","v":{"$error":"#REF!"}},{"$f":"#REF!","v":{"$error":"#REF!"}},{"$f":"#REF!","v":{"$error":"#REF!"}},{"$f":"#REF!","v":{"$error":"#REF!"}},{"$f":"#REF!","v":{"$error":"#REF!"}},{"$f":"#REF!","v":{"$error":"#REF!"}},{"$f":"#REF!","v":{"$error":"#REF!"}},{"$f":"#REF!","v":{"$error":"#REF!"}},{"$f":"#REF!","v":{"$error":"#REF!"}},{"$f":"IF(#REF!=\"\",\"\", AA21)","v":{"$error":"#REF!"}},{"$f":"IF(#REF!=\"\",\"\", AB21)","v":{"$error":"#REF!"}},{"$f":"IF(#REF!=\"\",\"\", AC21)","v":{"$error":"#REF!"}},{"$f":"IF(#REF!=\"\",\"\", AD21)","v":{"$error":"#REF!"}},{"$f":"IF(#REF!=\"\",\"\", AE21)","v":{"$error":"#REF!"}},{"$f":"IF(#REF!=\"\",\"\", AF21)","v":{"$error":"#REF!"}},{"$f":"IF(#REF!=\"\",\"\", AG21)","v":{"$error":"#REF!"}},{"$f":"IF(#REF!=\"\",\"\", AH21)","v":{"$error":"#REF!"}},{"$f":"IF(#REF!=\"\",\"\", AI21)","v":{"$error":"#REF!"}}]
[{"$f":"'Contact Information'!$C$6","v":0},{"$f":"'Contact Information'!$C$7","v":0},{"$f":"'Contact Information'!$C$8","v":0},{"$f":"'Contact Information'!$C$9","v":0},{"$f":"#REF!","v":{"$error":"#REF!"}},{"$f":"#REF!","v":{"$error":"#REF!"}},{"$f":"#REF!","v":{"$error":"#REF!"}},{"$f":"#REF!","v":{"$error":"#REF!"}},{"$f":"#REF!","v":{"$error":"#REF!"}},{"$f":"#REF!","v":{"$error":"#REF!"}},{"$f":"#REF!","v":{"$error":"#REF!"}},{"$f":"#REF!","v":{"$error":"#REF!"}},{"$f":"#REF!","v":{"$error":"#REF!"}},{"$f":"#REF!","v":{"$error":"#REF!"}},{"$f":"#REF!","v":{"$error":"#REF!"}},{"$f":"#REF!","v":{"$error":"#REF!"}},{"$f":"#REF!","v":{"$error":"#REF!"}},{"$f":"#REF!","v":{"$error":"#REF!"}},{"$f":"#REF!","v":{"$error":"#REF!"}},{"$f":"#REF!","v":{"$error":"#REF!"}},{"$f":"#REF!","v":{"$error":"#REF!"}},{"$f":"#REF!","v":{"$error":"#REF!"}},{"$f":"#REF!","v":{"$error":"#REF!"}},{"$f":"#REF!","v":{"$error":"#REF!"}},{"$f":"#REF!","v":{"$error":"#REF!"}},{"$f":"#REF!","v":{"$error":"#REF!"}},{"$f":"IF(#REF!=\"\",\"\", AA22)","v":{"$error":"#REF!"}},{"$f":"IF(#REF!=\"\",\"\", AB22)","v":{"$error":"#REF!"}},{"$f":"IF(#REF!=\"\",\"\", AC22)","v":{"$error":"#REF!"}},{"$f":"IF(#REF!=\"\",\"\", AD22)","v":{"$error":"#REF!"}},{"$f":"IF(#REF!=\"\",\"\", AE22)","v":{"$error":"#REF!"}},{"$f":"IF(#REF!=\"\",\"\", AF22)","v":{"$error":"#REF!"}},{"$f":"IF(#REF!=\"\",\"\", AG22)","v":{"$error":"#REF!"}},{"$f":"IF(#REF!=\"\",\"\", AH22)","v":{"$error":"#REF!"}},{"$f":"IF(#REF!=\"\",\"\", AI22)","v":{"$error":"#REF!"}}]
[{"$f":"'Contact Information'!$C$6","v":0},{"$f":"'Contact Information'!$C$7","v":0},{"$f":"'Contact Information'!$C$8","v":0},{"$f":"'Contact Information'!$C$9","v":0},{"$f":"#REF!","v":{"$error":"#REF!"}},{"$f":"#REF!","v":{"$error":"#REF!"}},{"$f":"#REF!","v":{"$error":"#REF!"}},{"$f":"#REF!","v":{"$error":"#REF!"}},{"$f":"#REF!","v":{"$error":"#REF!"}},{"$f":"#REF!","v":{"$error":"#REF!"}},{"$f":"#REF!","v":{"$error":"#REF!"}},{"$f":"#REF!","v":{"$error":"#REF!"}},{"$f":"#REF!","v":{"$error":"#REF!"}},{"$f":"#REF!","v":{"$error":"#REF!"}},{"$f":"#REF!","v":{"$error":"#REF!"}},{"$f":"#REF!","v":{"$error":"#REF!"}},{"$f":"#REF!","v":{"$error":"#REF!"}},{"$f":"#REF!","v":{"$error":"#REF!"}},{"$f":"#REF!","v":{"$error":"#REF!"}},{"$f":"#REF!","v":{"$error":"#REF!"}},{"$f":"#REF!","v":{"$error":"#REF!"}},{"$f":"#REF!","v":{"$error":"#REF!"}},{"$f":"#REF!","v":{"$error":"#REF!"}},{"$f":"#REF!","v":{"$error":"#REF!"}},{"$f":"#REF!","v":{"$error":"#REF!"}},{"$f":"#REF!","v":{"$error":"#REF!"}},{"$f":"IF(#REF!=\"\",\"\", AA23)","v":{"$error":"#REF!"}},{"$f":"IF(#REF!=\"\",\"\", AB23)","v":{"$error":"#REF!"}},{"$f":"IF(#REF!=\"\",\"\", AC23)","v":{"$error":"#REF!"}},{"$f":"IF(#REF!=\"\",\"\", AD23)","v":{"$error":"#REF!"}},{"$f":"IF(#REF!=\"\",\"\", AE23)","v":{"$error":"#REF!"}},{"$f":"IF(#REF!=\"\",\"\", AF23)","v":{"$error":"#REF!"}},{"$f":"IF(#REF!=\"\",\"\", AG23)","v":{"$error":"#REF!"}},{"$f":"IF(#REF!=\"\",\"\", AH23)","v":{"$error":"#REF!"}},{"$f":"IF(#REF!=\"\",\"\", AI23)","v":{"$error":"#REF!"}}]
[{"$f":"'Contact Information'!$C$6","v":0},{"$f":"'Contact Information'!$C$7","v":0},{"$f":"'Contact Information'!$C$8","v":0},{"$f":"'Contact Information'!$C$9","v":0},{"$f":"#REF!","v":{"$error":"#REF!"}},{"$f":"#REF!","v":{"$error":"#REF!"}},{"$f":"#REF!","v":{"$error":"#REF!"}},{"$f":"#REF!","v":{"$error":"#REF!"}},{"$f":"#REF!","v":{"$error":"#REF!"}},{"$f":"#REF!","v":{"$error":"#REF!"}},{"$f":"#REF!","v":{"$error":"#REF!"}},{"$f":"#REF!","v":{"$error":"#REF!"}},{"$f":"#REF!","v":{"$error":"#REF!"}},{"$f":"#REF!","v":{"$error":"#REF!"}},{"$f":"#REF!","v":{"$error":"#REF!"}},{"$f":"#REF!","v":{"$error":"#REF!"}},{"$f":"#REF!","v":{"$error":"#REF!"}},{"$f":"#REF!","v":{"$error":"#REF!"}},{"$f":"#REF!","v":{"$error":"#REF!"}},{"$f":"#REF!","v":{"$error":"#REF!"}},{"$f":"#REF!","v":{"$error":"#REF!"}},{"$f":"#REF!","v":{"$error":"#REF!"}},{"$f":"#REF!","v":{"$error":"#REF!"}},{"$f":"#REF!","v":{"$error":"#REF!"}},{"$f":"#REF!","v":{"$error":"#REF!"}},{"$f":"#REF!","v":{"$error":"#REF!"}},{"$f":"IF(#REF!=\"\",\"\", AA24)","v":{"$error":"#REF!"}},{"$f":"IF(#REF!=\"\",\"\", AB24)","v":{"$error":"#REF!"}},{"$f":"IF(#REF!=\"\",\"\", AC24)","v":{"$error":"#REF!"}},{"$f":"IF(#REF!=\"\",\"\", AD24)","v":{"$error":"#REF!"}},{"$f":"IF(#REF!=\"\",\"\", AE24)","v":{"$error":"#REF!"}},{"$f":"IF(#REF!=\"\",\"\", AF24)","v":{"$error":"#REF!"}},{"$f":"IF(#REF!=\"\",\"\", AG24)","v":{"$error":"#REF!"}},{"$f":"IF(#REF!=\"\",\"\", AH24)","v":{"$error":"#REF!"}},{"$f":"IF(#REF!=\"\",\"\", AI24)","v":{"$error":"#REF!"}}]
[{"$f":"'Contact Information'!$C$6","v":0},{"$f":"'Contact Information'!$C$7","v":0},{"$f":"'Contact Information'!$C$8","v":0},{"$f":"'Contact Information'!$C$9","v":0},{"$f":"#REF!","v":{"$error":"#REF!"}},{"$f":"#REF!","v":{"$error":"#REF!"}},{"$f":"#REF!","v":{"$error":"#REF!"}},{"$f":"#REF!","v":{"$error":"#REF!"}},{"$f":"#REF!","v":{"$error":"#REF!"}},{"$f":"#REF!","v":{"$error":"#REF!"}},{"$f":"#REF!","v":{"$error":"#REF!"}},{"$f":"#REF!","v":{"$error":"#REF!"}},{"$f":"#REF!","v":{"$error":"#REF!"}},{"$f":"#REF!","v":{"$error":"#REF!"}},{"$f":"#REF!","v":{"$error":"#REF!"}},{"$f":"#REF!","v":{"$error":"#REF!"}},{"$f":"#REF!","v":{"$error":"#REF!"}},{"$f":"#REF!","v":{"$error":"#REF!"}},{"$f":"#REF!","v":{"$error":"#REF!"}},{"$f":"#REF!","v":{"$error":"#REF!"}},{"$f":"#REF!","v":{"$error":"#REF!"}},{"$f":"#REF!","v":{"$error":"#REF!"}},{"$f":"#REF!","v":{"$error":"#REF!"}},{"$f":"#REF!","v":{"$error":"#REF!"}},{"$f":"#REF!","v":{"$error":"#REF!"}},{"$f":"#REF!","v":{"$error":"#REF!"}},{"$f":"IF(#REF!=\"\",\"\", AA25)","v":{"$error":"#REF!"}},{"$f":"IF(#REF!=\"\",\"\", AB25)","v":{"$error":"#REF!"}},{"$f":"IF(#REF!=\"\",\"\", AC25)","v":{"$error":"#REF!"}},{"$f":"IF(#REF!=\"\",\"\", AD25)","v":{"$error":"#REF!"}},{"$f":"IF(#REF!=\"\",\"\", AE25)","v":{"$error":"#REF!"}},{"$f":"IF(#REF!=\"\",\"\", AF25)","v":{"$error":"#REF!"}},{"$f":"IF(#REF!=\"\",\"\", AG25)","v":{"$error":"#REF!"}},{"$f":"IF(#REF!=\"\",\"\", AH25)","v":{"$error":"#REF!"}},{"$f":"IF(#REF!=\"\",\"\", AI25)","v":{"$error":"#REF!"}}]
[{"$f":"'Contact Information'!$C$6","v":0},{"$f":"'Contact Information'!$C$7","v":0},{"$f":"'Contact Information'!$C$8","v":0},{"$f":"'Contact Information'!$C$9","v":0},{"$f":"#REF!","v":{"$error":"#REF!"}},{"$f":"#REF!","v":{"$error":"#REF!"}},{"$f":"#REF!","v":{"$error":"#REF!"}},{"$f":"#REF!","v":{"$error":"#REF!"}},{"$f":"#REF!","v":{"$error":"#REF!"}},{"$f":"#REF!","v":{"$error":"#REF!"}},{"$f":"#REF!","v":{"$error":"#REF!"}},{"$f":"#REF!","v":{"$error":"#REF!"}},{"$f":"#REF!","v":{"$error":"#REF!"}},{"$f":"#REF!","v":{"$error":"#REF!"}},{"$f":"#REF!","v":{"$error":"#REF!"}},{"$f":"#REF!","v":{"$error":"#REF!"}},{"$f":"#REF!","v":{"$error":"#REF!"}},{"$f":"#REF!","v":{"$error":"#REF!"}},{"$f":"#REF!","v":{"$error":"#REF!"}},{"$f":"#REF!","v":{"$error":"#REF!"}},{"$f":"#REF!","v":{"$error":"#REF!"}},{"$f":"#REF!","v":{"$error":"#REF!"}},{"$f":"#REF!","v":{"$error":"#REF!"}},{"$f":"#REF!","v":{"$error":"#REF!"}},{"$f":"#REF!","v":{"$error":"#REF!"}},{"$f":"#REF!","v":{"$error":"#REF!"}},{"$f":"IF(#REF!=\"\",\"\", AA26)","v":{"$error":"#REF!"}},{"$f":"IF(#REF!=\"\",\"\", AB26)","v":{"$error":"#REF!"}},{"$f":"IF(#REF!=\"\",\"\", AC26)","v":{"$error":"#REF!"}},{"$f":"IF(#REF!=\"\",\"\", AD26)","v":{"$error":"#REF!"}},{"$f":"IF(#REF!=\"\",\"\", AE26)","v":{"$error":"#REF!"}},{"$f":"IF(#REF!=\"\",\"\", AF26)","v":{"$error":"#REF!"}},{"$f":"IF(#REF!=\"\",\"\", AG26)","v":{"$error":"#REF!"}},{"$f":"IF(#REF!=\"\",\"\", AH26)","v":{"$error":"#REF!"}},{"$f":"IF(#REF!=\"\",\"\", AI26)","v":{"$error":"#REF!"}}]
[{"$f":"'Contact Information'!$C$6","v":0},{"$f":"'Contact Information'!$C$7","v":0},{"$f":"'Contact Information'!$C$8","v":0},{"$f":"'Contact Information'!$C$9","v":0},{"$f":"#REF!","v":{"$error":"#REF!"}},{"$f":"#REF!","v":{"$error":"#REF!"}},{"$f":"#REF!","v":{"$error":"#REF!"}},{"$f":"#REF!","v":{"$error":"#REF!"}},{"$f":"#REF!","v":{"$error":"#REF!"}},{"$f":"#REF!","v":{"$error":"#REF!"}},{"$f":"#REF!","v":{"$error":"#REF!"}},{"$f":"#REF!","v":{"$error":"#REF!"}},{"$f":"#REF!","v":{"$error":"#REF!"}},{"$f":"#REF!","v":{"$error":"#REF!"}},{"$f":"#REF!","v":{"$error":"#REF!"}},{"$f":"#REF!","v":{"$error":"#REF!"}},{"$f":"#REF!","v":{"$error":"#REF!"}},{"$f":"#REF!","v":{"$error":"#REF!"}},{"$f":"#REF!","v":{"$error":"#REF!"}},{"$f":"#REF!","v":{"$error":"#REF!"}},{"$f":"#REF!","v":{"$error":"#REF!"}},{"$f":"#REF!","v":{"$error":"#REF!"}},{"$f":"#REF!","v":{"$error":"#REF!"}},{"$f":"#REF!","v":{"$error":"#REF!"}},{"$f":"#REF!","v":{"$error":"#REF!"}},{"$f":"#REF!","v":{"$error":"#REF!"}},{"$f":"IF(#REF!=\"\",\"\", AA27)","v":{"$error":"#REF!"}},{"$f":"IF(#REF!=\"\",\"\", AB27)","v":{"$error":"#REF!"}},{"$f":"IF(#REF!=\"\",\"\", AC27)","v":{"$error":"#REF!"}},{"$f":"IF(#REF!=\"\",\"\", AD27)","v":{"$error":"#REF!"}},{"$f":"IF(#REF!=\"\",\"\", AE27)","v":{"$error":"#REF!"}},{"$f":"IF(#REF!=\"\",\"\", AF27)","v":{"$error":"#REF!"}},{"$f":"IF(#REF!=\"\",\"\", AG27)","v":{"$error":"#REF!"}},{"$f":"IF(#REF!=\"\",\"\", AH27)","v":{"$error":"#REF!"}},{"$f":"IF(#REF!=\"\",\"\", AI27)","v":{"$error":"#REF!"}}]
[{"$f":"'Contact Information'!$C$6","v":0},{"$f":"'Contact Information'!$C$7","v":0},{"$f":"'Contact Information'!$C$8","v":0},{"$f":"'Contact Information'!$C$9","v":0},{"$f":"#REF!","v":{"$error":"#REF!"}},{"$f":"#REF!","v":{"$error":"#REF!"}},{"$f":"#REF!","v":{"$error":"#REF!"}},{"$f":"#REF!","v":{"$error":"#REF!"}},{"$f":"#REF!","v":{"$error":"#REF!"}},{"$f":"#REF!","v":{"$error":"#REF!"}},{"$f":"#REF!","v":{"$error":"#REF!"}},{"$f":"#REF!","v":{"$error":"#REF!"}},{"$f":"#REF!","v":{"$error":"#REF!"}},{"$f":"#REF!","v":{"$error":"#REF!"}},{"$f":"#REF!","v":{"$error":"#REF!"}},{"$f":"#REF!","v":{"$error":"#REF!"}},{"$f":"#REF!","v":{"$error":"#REF!"}},{"$f":"#REF!","v":{"$error":"#REF!"}},{"$f":"#REF!","v":{"$error":"#REF!"}},{"$f":"#REF!","v":{"$error":"#REF!"}},{"$f":"#REF!","v":{"$error":"#REF!"}},{"$f":"#REF!","v":{"$error":"#REF!"}},{"$f":"#REF!","v":{"$error":"#REF!"}},{"$f":"#REF!","v":{"$error":"#REF!"}},{"$f":"#REF!","v":{"$error":"#REF!"}},{"$f":"#REF!","v":{"$error":"#REF!"}},{"$f":"IF(#REF!=\"\",\"\", AA28)","v":{"$error":"#REF!"}},{"$f":"IF(#REF!=\"\",\"\", AB28)","v":{"$error":"#REF!"}},{"$f":"IF(#REF!=\"\",\"\", AC28)","v":{"$error":"#REF!"}},{"$f":"IF(#REF!=\"\",\"\", AD28)","v":{"$error":"#REF!"}},{"$f":"IF(#REF!=\"\",\"\", AE28)","v":{"$error":"#REF!"}},{"$f":"IF(#REF!=\"\",\"\", AF28)","v":{"$error":"#REF!"}},{"$f":"IF(#REF!=\"\",\"\", AG28)","v":{"$error":"#REF!"}},{"$f":"IF(#REF!=\"\",\"\", AH28)","v":{"$error":"#REF!"}},{"$f":"IF(#REF!=\"\",\"\", AI28)","v":{"$error":"#REF!"}}]
[{"$f":"'Contact Information'!$C$6","v":0},{"$f":"'Contact Information'!$C$7","v":0},{"$f":"'Contact Information'!$C$8","v":0},{"$f":"'Contact Information'!$C$9","v":0},{"$f":"#REF!","v":{"$error":"#REF!"}},{"$f":"#REF!","v":{"$error":"#REF!"}},{"$f":"#REF!","v":{"$error":"#REF!"}},{"$f":"#REF!","v":{"$error":"#REF!"}},{"$f":"#REF!","v":{"$error":"#REF!"}},{"$f":"#REF!","v":{"$error":"#REF!"}},{"$f":"#REF!","v":{"$error":"#REF!"}},{"$f":"#REF!","v":{"$error":"#REF!"}},{"$f":"#REF!","v":{"$error":"#REF!"}},{"$f":"#REF!","v":{"$error":"#REF!"}},{"$f":"#REF!","v":{"$error":"#REF!"}},{"$f":"#REF!","v":{"$error":"#REF!"}},{"$f":"#REF!","v":{"$error":"#REF!"}},{"$f":"#REF!","v":{"$error":"#REF!"}},{"$f":"#REF!","v":{"$error":"#REF!"}},{"$f":"#REF!","v":{"$error":"#REF!"}},{"$f":"#REF!","v":{"$error":"#REF!"}},{"$f":"#REF!","v":{"$error":"#REF!"}},{"$f":"#REF!","v":{"$error":"#REF!"}},{"$f":"#REF!","v":{"$error":"#REF!"}},{"$f":"#REF!","v":{"$error":"#REF!"}},{"$f":"#REF!","v":{"$error":"#REF!"}},{"$f":"IF(#REF!=\"\",\"\", AA29)","v":{"$error":"#REF!"}},{"$f":"IF(#REF!=\"\",\"\", AB29)","v":{"$error":"#REF!"}},{"$f":"IF(#REF!=\"\",\"\", AC29)","v":{"$error":"#REF!"}},{"$f":"IF(#REF!=\"\",\"\", AD29)","v":{"$error":"#REF!"}},{"$f":"IF(#REF!=\"\",\"\", AE29)","v":{"$error":"#REF!"}},{"$f":"IF(#REF!=\"\",\"\", AF29)","v":{"$error":"#REF!"}},{"$f":"IF(#REF!=\"\",\"\", AG29)","v":{"$error":"#REF!"}},{"$f":"IF(#REF!=\"\",\"\", AH29)","v":{"$error":"#REF!"}},{"$f":"IF(#REF!=\"\",\"\", AI29)","v":{"$error":"#REF!"}}]
[{"$f":"'Contact Information'!$C$6","v":0},{"$f":"'Contact Information'!$C$7","v":0},{"$f":"'Contact Information'!$C$8","v":0},{"$f":"'Contact Information'!$C$9","v":0},{"$f":"#REF!","v":{"$error":"#REF!"}},{"$f":"#REF!","v":{"$error":"#REF!"}},{"$f":"#REF!","v":{"$error":"#REF!"}},{"$f":"#REF!","v":{"$error":"#REF!"}},{"$f":"#REF!","v":{"$error":"#REF!"}},{"$f":"#REF!","v":{"$error":"#REF!"}},{"$f":"#REF!","v":{"$error":"#REF!"}},{"$f":"#REF!","v":{"$error":"#REF!"}},{"$f":"#REF!","v":{"$error":"#REF!"}},{"$f":"#REF!","v":{"$error":"#REF!"}},{"$f":"#REF!","v":{"$error":"#REF!"}},{"$f":"#REF!","v":{"$error":"#REF!"}},{"$f":"#REF!","v":{"$error":"#REF!"}},{"$f":"#REF!","v":{"$error":"#REF!"}},{"$f":"#REF!","v":{"$error":"#REF!"}},{"$f":"#REF!","v":{"$error":"#REF!"}},{"$f":"#REF!","v":{"$error":"#REF!"}},{"$f":"#REF!","v":{"$error":"#REF!"}},{"$f":"#REF!","v":{"$error":"#REF!"}},{"$f":"#REF!","v":{"$error":"#REF!"}},{"$f":"#REF!","v":{"$error":"#REF!"}},{"$f":"#REF!","v":{"$error":"#REF!"}},{"$f":"IF(#REF!=\"\",\"\", AA30)","v":{"$error":"#REF!"}},{"$f":"IF(#REF!=\"\",\"\", AB30)","v":{"$error":"#REF!"}},{"$f":"IF(#REF!=\"\",\"\", AC30)","v":{"$error":"#REF!"}},{"$f":"IF(#REF!=\"\",\"\", AD30)","v":{"$error":"#REF!"}},{"$f":"IF(#REF!=\"\",\"\", AE30)","v":{"$error":"#REF!"}},{"$f":"IF(#REF!=\"\",\"\", AF30)","v":{"$error":"#REF!"}},{"$f":"IF(#REF!=\"\",\"\", AG30)","v":{"$error":"#REF!"}},{"$f":"IF(#REF!=\"\",\"\", AH30)","v":{"$error":"#REF!"}},{"$f":"IF(#REF!=\"\",\"\", AI30)","v":{"$error":"#REF!"}}]
[{"$f":"'Contact Information'!$C$6","v":0},{"$f":"'Contact Information'!$C$7","v":0},{"$f":"'Contact Information'!$C$8","v":0},{"$f":"'Contact Information'!$C$9","v":0},{"$f":"#REF!","v":{"$error":"#REF!"}},{"$f":"#REF!","v":{"$error":"#REF!"}},{"$f":"#REF!","v":{"$error":"#REF!"}},{"$f":"#REF!","v":{"$error":"#REF!"}},{"$f":"#REF!","v":{"$error":"#REF!"}},{"$f":"#REF!","v":{"$error":"#REF!"}},{"$f":"#REF!","v":{"$error":"#REF!"}},{"$f":"#REF!","v":{"$error":"#REF!"}},{"$f":"#REF!","v":{"$error":"#REF!"}},{"$f":"#REF!","v":{"$error":"#REF!"}},{"$f":"#REF!","v":{"$error":"#REF!"}},{"$f":"#REF!","v":{"$error":"#REF!"}},{"$f":"#REF!","v":{"$error":"#REF!"}},{"$f":"#REF!","v":{"$error":"#REF!"}},{"$f":"#REF!","v":{"$error":"#REF!"}},{"$f":"#REF!","v":{"$error":"#REF!"}},{"$f":"#REF!","v":{"$error":"#REF!"}},{"$f":"#REF!","v":{"$error":"#REF!"}},{"$f":"#REF!","v":{"$error":"#REF!"}},{"$f":"#REF!","v":{"$error":"#REF!"}},{"$f":"#REF!","v":{"$error":"#REF!"}},{"$f":"#REF!","v":{"$error":"#REF!"}},{"$f":"IF(#REF!=\"\",\"\", AA31)","v":{"$error":"#REF!"}},{"$f":"IF(#REF!=\"\",\"\", AB31)","v":{"$error":"#REF!"}},{"$f":"IF(#REF!=\"\",\"\", AC31)","v":{"$error":"#REF!"}},{"$f":"IF(#REF!=\"\",\"\", AD31)","v":{"$error":"#REF!"}},{"$f":"IF(#REF!=\"\",\"\", AE31)","v":{"$error":"#REF!"}},{"$f":"IF(#REF!=\"\",\"\", AF31)","v":{"$error":"#REF!"}},{"$f":"IF(#REF!=\"\",\"\", AG31)","v":{"$error":"#REF!"}},{"$f":"IF(#REF!=\"\",\"\", AH31)","v":{"$error":"#REF!"}},{"$f":"IF(#REF!=\"\",\"\", AI31)","v":{"$error":"#REF!"}}]
[{"$f":"'Contact Information'!$C$6","v":0},{"$f":"'Contact Information'!$C$7","v":0},{"$f":"'Contact Information'!$C$8","v":0},{"$f":"'Contact Information'!$C$9","v":0},{"$f":"#REF!","v":{"$error":"#REF!"}},{"$f":"#REF!","v":{"$error":"#REF!"}},{"$f":"#REF!","v":{"$error":"#REF!"}},{"$f":"#REF!","v":{"$error":"#REF!"}},{"$f":"#REF!","v":{"$error":"#REF!"}},{"$f":"#REF!","v":{"$error":"#REF!"}},{"$f":"#REF!","v":{"$error":"#REF!"}},{"$f":"#REF!","v":{"$error":"#REF!"}},{"$f":"#REF!","v":{"$error":"#REF!"}},{"$f":"#REF!","v":{"$error":"#REF!"}},{"$f":"#REF!","v":{"$error":"#REF!"}},{"$f":"#REF!","v":{"$error":"#REF!"}},{"$f":"#REF!","v":{"$error":"#REF!"}},{"$f":"#REF!","v":{"$error":"#REF!"}},{"$f":"#REF!","v":{"$error":"#REF!"}},{"$f":"#REF!","v":{"$error":"#REF!"}},{"$f":"#REF!","v":{"$error":"#REF!"}},{"$f":"#REF!","v":{"$error":"#REF!"}},{"$f":"#REF!","v":{"$error":"#REF!"}},{"$f":"#REF!","v":{"$error":"#REF!"}},{"$f":"#REF!","v":{"$error":"#REF!"}},{"$f":"#REF!","v":{"$error":"#REF!"}},{"$f":"IF(#REF!=\"\",\"\", AA32)","v":{"$error":"#REF!"}},{"$f":"IF(#REF!=\"\",\"\", AB32)","v":{"$error":"#REF!"}},{"$f":"IF(#REF!=\"\",\"\", AC32)","v":{"$error":"#REF!"}},{"$f":"IF(#REF!=\"\",\"\", AD32)","v":{"$error":"#REF!"}},{"$f":"IF(#REF!=\"\",\"\", AE32)","v":{"$error":"#REF!"}},{"$f":"IF(#REF!=\"\",\"\", AF32)","v":{"$error":"#REF!"}},{"$f":"IF(#REF!=\"\",\"\", AG32)","v":{"$error":"#REF!"}},{"$f":"IF(#REF!=\"\",\"\", AH32)","v":{"$error":"#REF!"}},{"$f":"IF(#REF!=\"\",\"\", AI32)","v":{"$error":"#REF!"}}]
[{"$f":"'Contact Information'!$C$6","v":0},{"$f":"'Contact Information'!$C$7","v":0},{"$f":"'Contact Information'!$C$8","v":0},{"$f":"'Contact Information'!$C$9","v":0},{"$f":"#REF!","v":{"$error":"#REF!"}},{"$f":"#REF!","v":{"$error":"#REF!"}},{"$f":"#REF!","v":{"$error":"#REF!"}},{"$f":"#REF!","v":{"$error":"#REF!"}},{"$f":"#REF!","v":{"$error":"#REF!"}},{"$f":"#REF!","v":{"$error":"#REF!"}},{"$f":"#REF!","v":{"$error":"#REF!"}},{"$f":"#REF!","v":{"$error":"#REF!"}},{"$f":"#REF!","v":{"$error":"#REF!"}},{"$f":"#REF!","v":{"$error":"#REF!"}},{"$f":"#REF!","v":{"$error":"#REF!"}},{"$f":"#REF!","v":{"$error":"#REF!"}},{"$f":"#REF!","v":{"$error":"#REF!"}},{"$f":"#REF!","v":{"$error":"#REF!"}},{"$f":"#REF!","v":{"$error":"#REF!"}},{"$f":"#REF!","v":{"$error":"#REF!"}},{"$f":"#REF!","v":{"$error":"#REF!"}},{"$f":"#REF!","v":{"$error":"#REF!"}},{"$f":"#REF!","v":{"$error":"#REF!"}},{"$f":"#REF!","v":{"$error":"#REF!"}},{"$f":"#REF!","v":{"$error":"#REF!"}},{"$f":"#REF!","v":{"$error":"#REF!"}},{"$f":"IF(#REF!=\"\",\"\", AA33)","v":{"$error":"#REF!"}},{"$f":"IF(#REF!=\"\",\"\", AB33)","v":{"$error":"#REF!"}},{"$f":"IF(#REF!=\"\",\"\", AC33)","v":{"$error":"#REF!"}},{"$f":"IF(#REF!=\"\",\"\", AD33)","v":{"$error":"#REF!"}},{"$f":"IF(#REF!=\"\",\"\", AE33)","v":{"$error":"#REF!"}},{"$f":"IF(#REF!=\"\",\"\", AF33)","v":{"$error":"#REF!"}},{"$f":"IF(#REF!=\"\",\"\", AG33)","v":{"$error":"#REF!"}},{"$f":"IF(#REF!=\"\",\"\", AH33)","v":{"$error":"#REF!"}},{"$f":"IF(#REF!=\"\",\"\", AI33)","v":{"$error":"#REF!"}}]
[{"$f":"'Contact Information'!$C$6","v":0},{"$f":"'Contact Information'!$C$7","v":0},{"$f":"'Contact Information'!$C$8","v":0},{"$f":"'Contact Information'!$C$9","v":0},{"$f":"#REF!","v":{"$error":"#REF!"}},{"$f":"#REF!","v":{"$error":"#REF!"}},{"$f":"#REF!","v":{"$error":"#REF!"}},{"$f":"#REF!","v":{"$error":"#REF!"}},{"$f":"#REF!","v":{"$error":"#REF!"}},{"$f":"#REF!","v":{"$error":"#REF!"}},{"$f":"#REF!","v":{"$error":"#REF!"}},{"$f":"#REF!","v":{"$error":"#REF!"}},{"$f":"#REF!","v":{"$error":"#REF!"}},{"$f":"#REF!","v":{"$error":"#REF!"}},{"$f":"#REF!","v":{"$error":"#REF!"}},{"$f":"#REF!","v":{"$error":"#REF!"}},{"$f":"#REF!","v":{"$error":"#REF!"}},{"$f":"#REF!","v":{"$error":"#REF!"}},{"$f":"#REF!","v":{"$error":"#REF!"}},{"$f":"#REF!","v":{"$error":"#REF!"}},{"$f":"#REF!","v":{"$error":"#REF!"}},{"$f":"#REF!","v":{"$error":"#REF!"}},{"$f":"#REF!","v":{"$error":"#REF!"}},{"$f":"#REF!","v":{"$error":"#REF!"}},{"$f":"#REF!","v":{"$error":"#REF!"}},{"$f":"#REF!","v":{"$error":"#REF!"}},{"$f":"IF(#REF!=\"\",\"\", AA34)","v":{"$error":"#REF!"}},{"$f":"IF(#REF!=\"\",\"\", AB34)","v":{"$error":"#REF!"}},{"$f":"IF(#REF!=\"\",\"\", AC34)","v":{"$error":"#REF!"}},{"$f":"IF(#REF!=\"\",\"\", AD34)","v":{"$error":"#REF!"}},{"$f":"IF(#REF!=\"\",\"\", AE34)","v":{"$error":"#REF!"}},{"$f":"IF(#REF!=\"\",\"\", AF34)","v":{"$error":"#REF!"}},{"$f":"IF(#REF!=\"\",\"\", AG34)","v":{"$error":"#REF!"}},{"$f":"IF(#REF!=\"\",\"\", AH34)","v":{"$error":"#REF!"}},{"$f":"IF(#REF!=\"\",\"\", AI34)","v":{"$error":"#REF!"}}]
[{"$f":"'Contact Information'!$C$6","v":0},{"$f":"'Contact Information'!$C$7","v":0},{"$f":"'Contact Information'!$C$8","v":0},{"$f":"'Contact Information'!$C$9","v":0},{"$f":"#REF!","v":{"$error":"#REF!"}},{"$f":"#REF!","v":{"$error":"#REF!"}},{"$f":"#REF!","v":{"$error":"#REF!"}},{"$f":"#REF!","v":{"$error":"#REF!"}},{"$f":"#REF!","v":{"$error":"#REF!"}},{"$f":"#REF!","v":{"$error":"#REF!"}},{"$f":"#REF!","v":{"$error":"#REF!"}},{"$f":"#REF!","v":{"$error":"#REF!"}},{"$f":"#REF!","v":{"$error":"#REF!"}},{"$f":"#REF!","v":{"$error":"#REF!"}},{"$f":"#REF!","v":{"$error":"#REF!"}},{"$f":"#REF!","v":{"$error":"#REF!"}},{"$f":"#REF!","v":{"$error":"#REF!"}},{"$f":"#REF!","v":{"$error":"#REF!"}},{"$f":"#REF!","v":{"$error":"#REF!"}},{"$f":"#REF!","v":{"$error":"#REF!"}},{"$f":"#REF!","v":{"$error":"#REF!"}},{"$f":"#REF!","v":{"$error":"#REF!"}},{"$f":"#REF!","v":{"$error":"#REF!"}},{"$f":"#REF!","v":{"$error":"#REF!"}},{"$f":"#REF!","v":{"$error":"#REF!"}},{"$f":"#REF!","v":{"$error":"#REF!"}},{"$f":"IF(#REF!=\"\",\"\", AA35)","v":{"$error":"#REF!"}},{"$f":"IF(#REF!=\"\",\"\", AB35)","v":{"$error":"#REF!"}},{"$f":"IF(#REF!=\"\",\"\", AC35)","v":{"$error":"#REF!"}},{"$f":"IF(#REF!=\"\",\"\", AD35)","v":{"$error":"#REF!"}},{"$f":"IF(#REF!=\"\",\"\", AE35)","v":{"$error":"#REF!"}},{"$f":"IF(#REF!=\"\",\"\", AF35)","v":{"$error":"#REF!"}},{"$f":"IF(#REF!=\"\",\"\", AG35)","v":{"$error":"#REF!"}},{"$f":"IF(#REF!=\"\",\"\", AH35)","v":{"$error":"#REF!"}},{"$f":"IF(#REF!=\"\",\"\", AI35)","v":{"$error":"#REF!"}}]
[{"$f":"'Contact Information'!$C$6","v":0},{"$f":"'Contact Information'!$C$7","v":0},{"$f":"'Contact Information'!$C$8","v":0},{"$f":"'Contact Information'!$C$9","v":0},{"$f":"#REF!","v":{"$error":"#REF!"}},{"$f":"#REF!","v":{"$error":"#REF!"}},{"$f":"#REF!","v":{"$error":"#REF!"}},{"$f":"#REF!","v":{"$error":"#REF!"}},{"$f":"#REF!","v":{"$error":"#REF!"}},{"$f":"#REF!","v":{"$error":"#REF!"}},{"$f":"#REF!","v":{"$error":"#REF!"}},{"$f":"#REF!","v":{"$error":"#REF!"}},{"$f":"#REF!","v":{"$error":"#REF!"}},{"$f":"#REF!","v":{"$error":"#REF!"}},{"$f":"#REF!","v":{"$error":"#REF!"}},{"$f":"#REF!","v":{"$error":"#REF!"}},{"$f":"#REF!","v":{"$error":"#REF!"}},{"$f":"#REF!","v":{"$error":"#REF!"}},{"$f":"#REF!","v":{"$error":"#REF!"}},{"$f":"#REF!","v":{"$error":"#REF!"}},{"$f":"#REF!","v":{"$error":"#REF!"}},{"$f":"#REF!","v":{"$error":"#REF!"}},{"$f":"#REF!","v":{"$error":"#REF!"}},{"$f":"#REF!","v":{"$error":"#REF!"}},{"$f":"#REF!","v":{"$error":"#REF!"}},{"$f":"#REF!","v":{"$error":"#REF!"}},{"$f":"IF(#REF!=\"\",\"\", AA36)","v":{"$error":"#REF!"}},{"$f":"IF(#REF!=\"\",\"\", AB36)","v":{"$error":"#REF!"}},{"$f":"IF(#REF!=\"\",\"\", AC36)","v":{"$error":"#REF!"}},{"$f":"IF(#REF!=\"\",\"\", AD36)","v":{"$error":"#REF!"}},{"$f":"IF(#REF!=\"\",\"\", AE36)","v":{"$error":"#REF!"}},{"$f":"IF(#REF!=\"\",\"\", AF36)","v":{"$error":"#REF!"}},{"$f":"IF(#REF!=\"\",\"\", AG36)","v":{"$error":"#REF!"}},{"$f":"IF(#REF!=\"\",\"\", AH36)","v":{"$error":"#REF!"}},{"$f":"IF(#REF!=\"\",\"\", AI36)","v":{"$error":"#REF!"}}]
[{"$f":"'Contact Information'!$C$6","v":0},{"$f":"'Contact Information'!$C$7","v":0},{"$f":"'Contact Information'!$C$8","v":0},{"$f":"'Contact Information'!$C$9","v":0},{"$f":"#REF!","v":{"$error":"#REF!"}},{"$f":"#REF!","v":{"$error":"#REF!"}},{"$f":"#REF!","v":{"$error":"#REF!"}},{"$f":"#REF!","v":{"$error":"#REF!"}},{"$f":"#REF!","v":{"$error":"#REF!"}},{"$f":"#REF!","v":{"$error":"#REF!"}},{"$f":"#REF!","v":{"$error":"#REF!"}},{"$f":"#REF!","v":{"$error":"#REF!"}},{"$f":"#REF!","v":{"$error":"#REF!"}},{"$f":"#REF!","v":{"$error":"#REF!"}},{"$f":"#REF!","v":{"$error":"#REF!"}},{"$f":"#REF!","v":{"$error":"#REF!"}},{"$f":"#REF!","v":{"$error":"#REF!"}},{"$f":"#REF!","v":{"$error":"#REF!"}},{"$f":"#REF!","v":{"$error":"#REF!"}},{"$f":"#REF!","v":{"$error":"#REF!"}},{"$f":"#REF!","v":{"$error":"#REF!"}},{"$f":"#REF!","v":{"$error":"#REF!"}},{"$f":"#REF!","v":{"$error":"#REF!"}},{"$f":"#REF!","v":{"$error":"#REF!"}},{"$f":"#REF!","v":{"$error":"#REF!"}},{"$f":"#REF!","v":{"$error":"#REF!"}},{"$f":"IF(#REF!=\"\",\"\", AA37)","v":{"$error":"#REF!"}},{"$f":"IF(#REF!=\"\",\"\", AB37)","v":{"$error":"#REF!"}},{"$f":"IF(#REF!=\"\",\"\", AC37)","v":{"$error":"#REF!"}},{"$f":"IF(#REF!=\"\",\"\", AD37)","v":{"$error":"#REF!"}},{"$f":"IF(#REF!=\"\",\"\", AE37)","v":{"$error":"#REF!"}},{"$f":"IF(#REF!=\"\",\"\", AF37)","v":{"$error":"#REF!"}},{"$f":"IF(#REF!=\"\",\"\", AG37)","v":{"$error":"#REF!"}},{"$f":"IF(#REF!=\"\",\"\", AH37)","v":{"$error":"#REF!"}},{"$f":"IF(#REF!=\"\",\"\", AI37)","v":{"$error":"#REF!"}}]

{"sheet":"Subrecipient Intermediate","index":7,"n_rows":51,"n_cols":26,"rows_kept":51,"cut":false,"hidden":true,"merged":[]}
["Organization/Agency","Contact Name","Position","Email","Funder*","Funder Bureau/Division*","Name of Funding Source*","NOFO/RFA Number","EHE Funding","Subrecipient","Service Delivered","Annual Budget","Geographical Area","Priority Population","Clients Served","Units Delivered","Additional Details","HIV Diagnosis","Linkage to Care","Engagement or Retention in Care","Prescription of ART","Viral Suppression","Diagnose","Treat","Prevent","Respond"]
[{"$f":"'Contact Information'!$C$6","v":0},{"$f":"'Contact Information'!$C$7","v":0},{"$f":"'Contact Information'!$C$8","v":0},{"$f":"'Contact Information'!$C$9","v":0},{"$f":"#REF!","v":{"$error":"#REF!"}},{"$f":"#REF!","v":{"$error":"#REF!"}},{"$f":"#REF!","v":{"$error":"#REF!"}},{"$f":"#REF!","v":{"$error":"#REF!"}},{"$f":"#REF!","v":{"$error":"#REF!"}},{"$f":"#REF!","v":{"$error":"#REF!"}},{"$f":"#REF!","v":{"$error":"#REF!"}},{"$f":"#REF!","v":{"$error":"#REF!"}},{"$f":"#REF!","v":{"$error":"#REF!"}},{"$f":"#REF!","v":{"$error":"#REF!"}},{"$f":"#REF!","v":{"$error":"#REF!"}},{"$f":"#REF!","v":{"$error":"#REF!"}},{"$f":"#REF!","v":{"$error":"#REF!"}},{"$f":"IF(#REF!=\"\",\"\",$R$1)","v":{"$error":"#REF!"}},{"$f":"IF(#REF!=\"\",\"\",$S$1)","v":{"$error":"#REF!"}},{"$f":"IF(#REF!=\"\",\"\",$T$1)","v":{"$error":"#REF!"}},{"$f":"IF(#REF!=\"\",\"\",$U$1)","v":{"$error":"#REF!"}},{"$f":"IF(#REF!=\"\",\"\",$V$1)","v":{"$error":"#REF!"}},{"$f":"IF(#REF!=\"\",\"\",$W$1)","v":{"$error":"#REF!"}},{"$f":"IF(#REF!=\"\",\"\",$X$1)","v":{"$error":"#REF!"}},{"$f":"IF(#REF!=\"\",\"\",$Y$1)","v":{"$error":"#REF!"}},{"$f":"IF(#REF!=\"\",\"\",$Z$1)","v":{"$error":"#REF!"}}]
[{"$f":"'Contact Information'!$C$6","v":0},{"$f":"'Contact Information'!$C$7","v":0},{"$f":"'Contact Information'!$C$8","v":0},{"$f":"'Contact Information'!$C$9","v":0},{"$f":"#REF!","v":{"$error":"#REF!"}},{"$f":"#REF!","v":{"$error":"#REF!"}},{"$f":"#REF!","v":{"$error":"#REF!"}},{"$f":"#REF!","v":{"$error":"#REF!"}},{"$f":"#REF!","v":{"$error":"#REF!"}},{"$f":"#REF!","v":{"$error":"#REF!"}},{"$f":"#REF!","v":{"$error":"#REF!"}},{"$f":"#REF!","v":{"$error":"#REF!"}},{"$f":"#REF!","v":{"$error":"#REF!"}},{"$f":"#REF!","v":{"$error":"#REF!"}},{"$f":"#REF!","v":{"$error":"#REF!"}},{"$f":"#REF!","v":{"$error":"#REF!"}},{"$f":"#REF!","v":{"$error":"#REF!"}},{"$f":"IF(#REF!=\"\",\"\",$R$1)","v":{"$error":"#REF!"}},{"$f":"IF(#REF!=\"\",\"\",$S$1)","v":{"$error":"#REF!"}},{"$f":"IF(#REF!=\"\",\"\",$T$1)","v":{"$error":"#REF!"}},{"$f":"IF(#REF!=\"\",\"\",$U$1)","v":{"$error":"#REF!"}},{"$f":"IF(#REF!=\"\",\"\",$V$1)","v":{"$error":"#REF!"}},{"$f":"IF(#REF!=\"\",\"\",$W$1)","v":{"$error":"#REF!"}},{"$f":"IF(#REF!=\"\",\"\",$X$1)","v":{"$error":"#REF!"}},{"$f":"IF(#REF!=\"\",\"\",$Y$1)","v":{"$error":"#REF!"}},{"$f":"IF(#REF!=\"\",\"\",$Z$1)","v":{"$error":"#REF!"}}]
[{"$f":"'Contact Information'!$C$6","v":0},{"$f":"'Contact Information'!$C$7","v":0},{"$f":"'Contact Information'!$C$8","v":0},{"$f":"'Contact Information'!$C$9","v":0},{"$f":"#REF!","v":{"$error":"#REF!"}},{"$f":"#REF!","v":{"$error":"#REF!"}},{"$f":"#REF!","v":{"$error":"#REF!"}},{"$f":"#REF!","v":{"$error":"#REF!"}},{"$f":"#REF!","v":{"$error":"#REF!"}},{"$f":"#REF!","v":{"$error":"#REF!"}},{"$f":"#REF!","v":{"$error":"#REF!"}},{"$f":"#REF!","v":{"$error":"#REF!"}},{"$f":"#REF!","v":{"$error":"#REF!"}},{"$f":"#REF!","v":{"$error":"#REF!"}},{"$f":"#REF!","v":{"$error":"#REF!"}},{"$f":"#REF!","v":{"$error":"#REF!"}},{"$f":"#REF!","v":{"$error":"#REF!"}},{"$f":"IF(#REF!=\"\",\"\",$R$1)","v":{"$error":"#REF!"}},{"$f":"IF(#REF!=\"\",\"\",$S$1)","v":{"$error":"#REF!"}},{"$f":"IF(#REF!=\"\",\"\",$T$1)","v":{"$error":"#REF!"}},{"$f":"IF(#REF!=\"\",\"\",$U$1)","v":{"$error":"#REF!"}},{"$f":"IF(#REF!=\"\",\"\",$V$1)","v":{"$error":"#REF!"}},{"$f":"IF(#REF!=\"\",\"\",$W$1)","v":{"$error":"#REF!"}},{"$f":"IF(#REF!=\"\",\"\",$X$1)","v":{"$error":"#REF!"}},{"$f":"IF(#REF!=\"\",\"\",$Y$1)","v":{"$error":"#REF!"}},{"$f":"IF(#REF!=\"\",\"\",$Z$1)","v":{"$error":"#REF!"}}]
[{"$f":"'Contact Information'!$C$6","v":0},{"$f":"'Contact Information'!$C$7","v":0},{"$f":"'Contact Information'!$C$8","v":0},{"$f":"'Contact Information'!$C$9","v":0},{"$f":"#REF!","v":{"$error":"#REF!"}},{"$f":"#REF!","v":{"$error":"#REF!"}},{"$f":"#REF!","v":{"$error":"#REF!"}},{"$f":"#REF!","v":{"$error":"#REF!"}},{"$f":"#REF!","v":{"$error":"#REF!"}},{"$f":"#REF!","v":{"$error":"#REF!"}},{"$f":"#REF!","v":{"$error":"#REF!"}},{"$f":"#REF!","v":{"$error":"#REF!"}},{"$f":"#REF!","v":{"$error":"#REF!"}},{"$f":"#REF!","v":{"$error":"#REF!"}},{"$f":"#REF!","v":{"$error":"#REF!"}},{"$f":"#REF!","v":{"$error":"#REF!"}},{"$f":"#REF!","v":{"$error":"#REF!"}},{"$f":"IF(#REF!=\"\",\"\",$R$1)","v":{"$error":"#REF!"}},{"$f":"IF(#REF!=\"\",\"\",$S$1)","v":{"$error":"#REF!"}},{"$f":"IF(#REF!=\"\",\"\",$T$1)","v":{"$error":"#REF!"}},{"$f":"IF(#REF!=\"\",\"\",$U$1)","v":{"$error":"#REF!"}},{"$f":"IF(#REF!=\"\",\"\",$V$1)","v":{"$error":"#REF!"}},{"$f":"IF(#REF!=\"\",\"\",$W$1)","v":{"$error":"#REF!"}},{"$f":"IF(#REF!=\"\",\"\",$X$1)","v":{"$error":"#REF!"}},{"$f":"IF(#REF!=\"\",\"\",$Y$1)","v":{"$error":"#REF!"}},{"$f":"IF(#REF!=\"\",\"\",$Z$1)","v":{"$error":"#REF!"}}]
[{"$f":"'Contact Information'!$C$6","v":0},{"$f":"'Contact Information'!$C$7","v":0},{"$f":"'Contact Information'!$C$8","v":0},{"$f":"'Contact Information'!$C$9","v":0},{"$f":"#REF!","v":{"$error":"#REF!"}},{"$f":"#REF!","v":{"$error":"#REF!"}},{"$f":"#REF!","v":{"$error":"#REF!"}},{"$f":"#REF!","v":{"$error":"#REF!"}},{"$f":"#REF!","v":{"$error":"#REF!"}},{"$f":"#REF!","v":{"$error":"#REF!"}},{"$f":"#REF!","v":{"$error":"#REF!"}},{"$f":"#REF!","v":{"$error":"#REF!"}},{"$f":"#REF!","v":{"$error":"#REF!"}},{"$f":"#REF!","v":{"$error":"#REF!"}},{"$f":"#REF!","v":{"$error":"#REF!"}},{"$f":"#REF!","v":{"$error":"#REF!"}},{"$f":"#REF!","v":{"$error":"#REF!"}},{"$f":"IF(#REF!=\"\",\"\",$R$1)","v":{"$error":"#REF!"}},{"$f":"IF(#REF!=\"\",\"\",$S$1)","v":{"$error":"#REF!"}},{"$f":"IF(#REF!=\"\",\"\",$T$1)","v":{"$error":"#REF!"}},{"$f":"IF(#REF!=\"\",\"\",$U$1)","v":{"$error":"#REF!"}},{"$f":"IF(#REF!=\"\",\"\",$V$1)","v":{"$error":"#REF!"}},{"$f":"IF(#REF!=\"\",\"\",$W$1)","v":{"$error":"#REF!"}},{"$f":"IF(#REF!=\"\",\"\",$X$1)","v":{"$error":"#REF!"}},{"$f":"IF(#REF!=\"\",\"\",$Y$1)","v":{"$error":"#REF!"}},{"$f":"IF(#REF!=\"\",\"\",$Z$1)","v":{"$error":"#REF!"}}]
[{"$f":"'Contact Information'!$C$6","v":0},{"$f":"'Contact Information'!$C$7","v":0},{"$f":"'Contact Information'!$C$8","v":0},{"$f":"'Contact Information'!$C$9","v":0},{"$f":"#REF!","v":{"$error":"#REF!"}},{"$f":"#REF!","v":{"$error":"#REF!"}},{"$f":"#REF!","v":{"$error":"#REF!"}},{"$f":"#REF!","v":{"$error":"#REF!"}},{"$f":"#REF!","v":{"$error":"#REF!"}},{"$f":"#REF!","v":{"$error":"#REF!"}},{"$f":"#REF!","v":{"$error":"#REF!"}},{"$f":"#REF!","v":{"$error":"#REF!"}},{"$f":"#REF!","v":{"$error":"#REF!"}},{"$f":"#REF!","v":{"$error":"#REF!"}},{"$f":"#REF!","v":{"$error":"#REF!"}},{"$f":"#REF!","v":{"$error":"#REF!"}},{"$f":"#REF!","v":{"$error":"#REF!"}},{"$f":"IF(#REF!=\"\",\"\",$R$1)","v":{"$error":"#REF!"}},{"$f":"IF(#REF!=\"\",\"\",$S$1)","v":{"$error":"#REF!"}},{"$f":"IF(#REF!=\"\",\"\",$T$1)","v":{"$error":"#REF!"}},{"$f":"IF(#REF!=\"\",\"\",$U$1)","v":{"$error":"#REF!"}},{"$f":"IF(#REF!=\"\",\"\",$V$1)","v":{"$error":"#REF!"}},{"$f":"IF(#REF!=\"\",\"\",$W$1)","v":{"$error":"#REF!"}},{"$f":"IF(#REF!=\"\",\"\",$X$1)","v":{"$error":"#REF!"}},{"$f":"IF(#REF!=\"\",\"\",$Y$1)","v":{"$error":"#REF!"}},{"$f":"IF(#REF!=\"\",\"\",$Z$1)","v":{"$error":"#REF!"}}]
[{"$f":"'Contact Information'!$C$6","v":0},{"$f":"'Contact Information'!$C$7","v":0},{"$f":"'Contact Information'!$C$8","v":0},{"$f":"'Contact Information'!$C$9","v":0},{"$f":"#REF!","v":{"$error":"#REF!"}},{"$f":"#REF!","v":{"$error":"#REF!"}},{"$f":"#REF!","v":{"$error":"#REF!"}},{"$f":"#REF!","v":{"$error":"#REF!"}},{"$f":"#REF!","v":{"$error":"#REF!"}},{"$f":"#REF!","v":{"$error":"#REF!"}},{"$f":"#REF!","v":{"$error":"#REF!"}},{"$f":"#REF!","v":{"$error":"#REF!"}},{"$f":"#REF!","v":{"$error":"#REF!"}},{"$f":"#REF!","v":{"$error":"#REF!"}},{"$f":"#REF!","v":{"$error":"#REF!"}},{"$f":"#REF!","v":{"$error":"#REF!"}},{"$f":"#REF!","v":{"$error":"#REF!"}},{"$f":"IF(#REF!=\"\",\"\",$R$1)","v":{"$error":"#REF!"}},{"$f":"IF(#REF!=\"\",\"\",$S$1)","v":{"$error":"#REF!"}},{"$f":"IF(#REF!=\"\",\"\",$T$1)","v":{"$error":"#REF!"}},{"$f":"IF(#REF!=\"\",\"\",$U$1)","v":{"$error":"#REF!"}},{"$f":"IF(#REF!=\"\",\"\",$V$1)","v":{"$error":"#REF!"}},{"$f":"IF(#REF!=\"\",\"\",$W$1)","v":{"$error":"#REF!"}},{"$f":"IF(#REF!=\"\",\"\",$X$1)","v":{"$error":"#REF!"}},{"$f":"IF(#REF!=\"\",\"\",$Y$1)","v":{"$error":"#REF!"}},{"$f":"IF(#REF!=\"\",\"\",$Z$1)","v":{"$error":"#REF!"}}]
[{"$f":"'Contact Information'!$C$6","v":0},{"$f":"'Contact Information'!$C$7","v":0},{"$f":"'Contact Information'!$C$8","v":0},{"$f":"'Contact Information'!$C$9","v":0},{"$f":"#REF!","v":{"$error":"#REF!"}},{"$f":"#REF!","v":{"$error":"#REF!"}},{"$f":"#REF!","v":{"$error":"#REF!"}},{"$f":"#REF!","v":{"$error":"#REF!"}},{"$f":"#REF!","v":{"$error":"#REF!"}},{"$f":"#REF!","v":{"$error":"#REF!"}},{"$f":"#REF!","v":{"$error":"#REF!"}},{"$f":"#REF!","v":{"$error":"#REF!"}},{"$f":"#REF!","v":{"$error":"#REF!"}},{"$f":"#REF!","v":{"$error":"#REF!"}},{"$f":"#REF!","v":{"$error":"#REF!"}},{"$f":"#REF!","v":{"$error":"#REF!"}},{"$f":"#REF!","v":{"$error":"#REF!"}},{"$f":"IF(#REF!=\"\",\"\",$R$1)","v":{"$error":"#REF!"}},{"$f":"IF(#REF!=\"\",\"\",$S$1)","v":{"$error":"#REF!"}},{"$f":"IF(#REF!=\"\",\"\",$T$1)","v":{"$error":"#REF!"}},{"$f":"IF(#REF!=\"\",\"\",$U$1)","v":{"$error":"#REF!"}},{"$f":"IF(#REF!=\"\",\"\",$V$1)","v":{"$error":"#REF!"}},{"$f":"IF(#REF!=\"\",\"\",$W$1)","v":{"$error":"#REF!"}},{"$f":"IF(#REF!=\"\",\"\",$X$1)","v":{"$error":"#REF!"}},{"$f":"IF(#REF!=\"\",\"\",$Y$1)","v":{"$error":"#REF!"}},{"$f":"IF(#REF!=\"\",\"\",$Z$1)","v":{"$error":"#REF!"}}]
[{"$f":"'Contact Information'!$C$6","v":0},{"$f":"'Contact Information'!$C$7","v":0},{"$f":"'Contact Information'!$C$8","v":0},{"$f":"'Contact Information'!$C$9","v":0},{"$f":"#REF!","v":{"$error":"#REF!"}},{"$f":"#REF!","v":{"$error":"#REF!"}},{"$f":"#REF!","v":{"$error":"#REF!"}},{"$f":"#REF!","v":{"$error":"#REF!"}},{"$f":"#REF!","v":{"$error":"#REF!"}},{"$f":"#REF!","v":{"$error":"#REF!"}},{"$f":"#REF!","v":{"$error":"#REF!"}},{"$f":"#REF!","v":{"$error":"#REF!"}},{"$f":"#REF!","v":{"$error":"#REF!"}},{"$f":"#REF!","v":{"$error":"#REF!"}},{"$f":"#REF!","v":{"$error":"#REF!"}},{"$f":"#REF!","v":{"$error":"#REF!"}},{"$f":"#REF!","v":{"$error":"#REF!"}},{"$f":"IF(#REF!=\"\",\"\",$R$1)","v":{"$error":"#REF!"}},{"$f":"IF(#REF!=\"\",\"\",$S$1)","v":{"$error":"#REF!"}},{"$f":"IF(#REF!=\"\",\"\",$T$1)","v":{"$error":"#REF!"}},{"$f":"IF(#REF!=\"\",\"\",$U$1)","v":{"$error":"#REF!"}},{"$f":"IF(#REF!=\"\",\"\",$V$1)","v":{"$error":"#REF!"}},{"$f":"IF(#REF!=\"\",\"\",$W$1)","v":{"$error":"#REF!"}},{"$f":"IF(#REF!=\"\",\"\",$X$1)","v":{"$error":"#REF!"}},{"$f":"IF(#REF!=\"\",\"\",$Y$1)","v":{"$error":"#REF!"}},{"$f":"IF(#REF!=\"\",\"\",$Z$1)","v":{"$error":"#REF!"}}]
[{"$f":"'Contact Information'!$C$6","v":0},{"$f":"'Contact Information'!$C$7","v":0},{"$f":"'Contact Information'!$C$8","v":0},{"$f":"'Contact Information'!$C$9","v":0},{"$f":"#REF!","v":{"$error":"#REF!"}},{"$f":"#REF!","v":{"$error":"#REF!"}},{"$f":"#REF!","v":{"$error":"#REF!"}},{"$f":"#REF!","v":{"$error":"#REF!"}},{"$f":"#REF!","v":{"$error":"#REF!"}},{"$f":"#REF!","v":{"$error":"#REF!"}},{"$f":"#REF!","v":{"$error":"#REF!"}},{"$f":"#REF!","v":{"$error":"#REF!"}},{"$f":"#REF!","v":{"$error":"#REF!"}},{"$f":"#REF!","v":{"$error":"#REF!"}},{"$f":"#REF!","v":{"$error":"#REF!"}},{"$f":"#REF!","v":{"$error":"#REF!"}},{"$f":"#REF!","v":{"$error":"#REF!"}},{"$f":"IF(#REF!=\"\",\"\",$R$1)","v":{"$error":"#REF!"}},{"$f":"IF(#REF!=\"\",\"\",$S$1)","v":{"$error":"#REF!"}},{"$f":"IF(#REF!=\"\",\"\",$T$1)","v":{"$error":"#REF!"}},{"$f":"IF(#REF!=\"\",\"\",$U$1)","v":{"$error":"#REF!"}},{"$f":"IF(#REF!=\"\",\"\",$V$1)","v":{"$error":"#REF!"}},{"$f":"IF(#REF!=\"\",\"\",$W$1)","v":{"$error":"#REF!"}},{"$f":"IF(#REF!=\"\",\"\",$X$1)","v":{"$error":"#REF!"}},{"$f":"IF(#REF!=\"\",\"\",$Y$1)","v":{"$error":"#REF!"}},{"$f":"IF(#REF!=\"\",\"\",$Z$1)","v":{"$error":"#REF!"}}]
[{"$f":"'Contact Information'!$C$6","v":0},{"$f":"'Contact Information'!$C$7","v":0},{"$f":"'Contact Information'!$C$8","v":0},{"$f":"'Contact Information'!$C$9","v":0},{"$f":"#REF!","v":{"$error":"#REF!"}},{"$f":"#REF!","v":{"$error":"#REF!"}},{"$f":"#REF!","v":{"$error":"#REF!"}},{"$f":"#REF!","v":{"$error":"#REF!"}},{"$f":"#REF!","v":{"$error":"#REF!"}},{"$f":"#REF!","v":{"$error":"#REF!"}},{"$f":"#REF!","v":{"$error":"#REF!"}},{"$f":"#REF!","v":{"$error":"#REF!"}},{"$f":"#REF!","v":{"$error":"#REF!"}},{"$f":"#REF!","v":{"$error":"#REF!"}},{"$f":"#REF!","v":{"$error":"#REF!"}},{"$f":"#REF!","v":{"$error":"#REF!"}},{"$f":"#REF!","v":{"$error":"#REF!"}},{"$f":"IF(#REF!=\"\",\"\",$R$1)","v":{"$error":"#REF!"}},{"$f":"IF(#REF!=\"\",\"\",$S$1)","v":{"$error":"#REF!"}},{"$f":"IF(#REF!=\"\",\"\",$T$1)","v":{"$error":"#REF!"}},{"$f":"IF(#REF!=\"\",\"\",$U$1)","v":{"$error":"#REF!"}},{"$f":"IF(#REF!=\"\",\"\",$V$1)","v":{"$error":"#REF!"}},{"$f":"IF(#REF!=\"\",\"\",$W$1)","v":{"$error":"#REF!"}},{"$f":"IF(#REF!=\"\",\"\",$X$1)","v":{"$error":"#REF!"}},{"$f":"IF(#REF!=\"\",\"\",$Y$1)","v":{"$error":"#REF!"}},{"$f":"IF(#REF!=\"\",\"\",$Z$1)","v":{"$error":"#REF!"}}]
[{"$f":"'Contact Information'!$C$6","v":0},{"$f":"'Contact Information'!$C$7","v":0},{"$f":"'Contact Information'!$C$8","v":0},{"$f":"'Contact Information'!$C$9","v":0},{"$f":"#REF!","v":{"$error":"#REF!"}},{"$f":"#REF!","v":{"$error":"#REF!"}},{"$f":"#REF!","v":{"$error":"#REF!"}},{"$f":"#REF!","v":{"$error":"#REF!"}},{"$f":"#REF!","v":{"$error":"#REF!"}},{"$f":"#REF!","v":{"$error":"#REF!"}},{"$f":"#REF!","v":{"$error":"#REF!"}},{"$f":"#REF!","v":{"$error":"#REF!"}},{"$f":"#REF!","v":{"$error":"#REF!"}},{"$f":"#REF!","v":{"$error":"#REF!"}},{"$f":"#REF!","v":{"$error":"#REF!"}},{"$f":"#REF!","v":{"$error":"#REF!"}},{"$f":"#REF!","v":{"$error":"#REF!"}},{"$f":"IF(#REF!=\"\",\"\",$R$1)","v":{"$error":"#REF!"}},{"$f":"IF(#REF!=\"\",\"\",$S$1)","v":{"$error":"#REF!"}},{"$f":"IF(#REF!=\"\",\"\",$T$1)","v":{"$error":"#REF!"}},{"$f":"IF(#REF!=\"\",\"\",$U$1)","v":{"$error":"#REF!"}},{"$f":"IF(#REF!=\"\",\"\",$V$1)","v":{"$error":"#REF!"}},{"$f":"IF(#REF!=\"\",\"\",$W$1)","v":{"$error":"#REF!"}},{"$f":"IF(#REF!=\"\",\"\",$X$1)","v":{"$error":"#REF!"}},{"$f":"IF(#REF!=\"\",\"\",$Y$1)","v":{"$error":"#REF!"}},{"$f":"IF(#REF!=\"\",\"\",$Z$1)","v":{"$error":"#REF!"}}]
[{"$f":"'Contact Information'!$C$6","v":0},{"$f":"'Contact Information'!$C$7","v":0},{"$f":"'Contact Information'!$C$8","v":0},{"$f":"'Contact Information'!$C$9","v":0},{"$f":"#REF!","v":{"$error":"#REF!"}},{"$f":"#REF!","v":{"$error":"#REF!"}},{"$f":"#REF!","v":{"$error":"#REF!"}},{"$f":"#REF!","v":{"$error":"#REF!"}},{"$f":"#REF!","v":{"$error":"#REF!"}},{"$f":"#REF!","v":{"$error":"#REF!"}},{"$f":"#REF!","v":{"$error":"#REF!"}},{"$f":"#REF!","v":{"$error":"#REF!"}},{"$f":"#REF!","v":{"$error":"#REF!"}},{"$f":"#REF!","v":{"$error":"#REF!"}},{"$f":"#REF!","v":{"$error":"#REF!"}},{"$f":"#REF!","v":{"$error":"#REF!"}},{"$f":"#REF!","v":{"$error":"#REF!"}},{"$f":"IF(#REF!=\"\",\"\",$R$1)","v":{"$error":"#REF!"}},{"$f":"IF(#REF!=\"\",\"\",$S$1)","v":{"$error":"#REF!"}},{"$f":"IF(#REF!=\"\",\"\",$T$1)","v":{"$error":"#REF!"}},{"$f":"IF(#REF!=\"\",\"\",$U$1)","v":{"$error":"#REF!"}},{"$f":"IF(#REF!=\"\",\"\",$V$1)","v":{"$error":"#REF!"}},{"$f":"IF(#REF!=\"\",\"\",$W$1)","v":{"$error":"#REF!"}},{"$f":"IF(#REF!=\"\",\"\",$X$1)","v":{"$error":"#REF!"}},{"$f":"IF(#REF!=\"\",\"\",$Y$1)","v":{"$error":"#REF!"}},{"$f":"IF(#REF!=\"\",\"\",$Z$1)","v":{"$error":"#REF!"}}]
[{"$f":"'Contact Information'!$C$6","v":0},{"$f":"'Contact Information'!$C$7","v":0},{"$f":"'Contact Information'!$C$8","v":0},{"$f":"'Contact Information'!$C$9","v":0},{"$f":"#REF!","v":{"$error":"#REF!"}},{"$f":"#REF!","v":{"$error":"#REF!"}},{"$f":"#REF!","v":{"$error":"#REF!"}},{"$f":"#REF!","v":{"$error":"#REF!"}},{"$f":"#REF!","v":{"$error":"#REF!"}},{"$f":"#REF!","v":{"$error":"#REF!"}},{"$f":"#REF!","v":{"$error":"#REF!"}},{"$f":"#REF!","v":{"$error":"#REF!"}},{"$f":"#REF!","v":{"$error":"#REF!"}},{"$f":"#REF!","v":{"$error":"#REF!"}},{"$f":"#REF!","v":{"$error":"#REF!"}},{"$f":"#REF!","v":{"$error":"#REF!"}},{"$f":"#REF!","v":{"$error":"#REF!"}},{"$f":"IF(#REF!=\"\",\"\",$R$1)","v":{"$error":"#REF!"}},{"$f":"IF(#REF!=\"\",\"\",$S$1)","v":{"$error":"#REF!"}},{"$f":"IF(#REF!=\"\",\"\",$T$1)","v":{"$error":"#REF!"}},{"$f":"IF(#REF!=\"\",\"\",$U$1)","v":{"$error":"#REF!"}},{"$f":"IF(#REF!=\"\",\"\",$V$1)","v":{"$error":"#REF!"}},{"$f":"IF(#REF!=\"\",\"\",$W$1)","v":{"$error":"#REF!"}},{"$f":"IF(#REF!=\"\",\"\",$X$1)","v":{"$error":"#REF!"}},{"$f":"IF(#REF!=\"\",\"\",$Y$1)","v":{"$error":"#REF!"}},{"$f":"IF(#REF!=\"\",\"\",$Z$1)","v":{"$error":"#REF!"}}]
[{"$f":"'Contact Information'!$C$6","v":0},{"$f":"'Contact Information'!$C$7","v":0},{"$f":"'Contact Information'!$C$8","v":0},{"$f":"'Contact Information'!$C$9","v":0},{"$f":"#REF!","v":{"$error":"#REF!"}},{"$f":"#REF!","v":{"$error":"#REF!"}},{"$f":"#REF!","v":{"$error":"#REF!"}},{"$f":"#REF!","v":{"$error":"#REF!"}},{"$f":"#REF!","v":{"$error":"#REF!"}},{"$f":"#REF!","v":{"$error":"#REF!"}},{"$f":"#REF!","v":{"$error":"#REF!"}},{"$f":"#REF!","v":{"$error":"#REF!"}},{"$f":"#REF!","v":{"$error":"#REF!"}},{"$f":"#REF!","v":{"$error":"#REF!"}},{"$f":"#REF!","v":{"$error":"#REF!"}},{"$f":"#REF!","v":{"$error":"#REF!"}},{"$f":"#REF!","v":{"$error":"#REF!"}},{"$f":"IF(#REF!=\"\",\"\",$R$1)","v":{"$error":"#REF!"}},{"$f":"IF(#REF!=\"\",\"\",$S$1)","v":{"$error":"#REF!"}},{"$f":"IF(#REF!=\"\",\"\",$T$1)","v":{"$error":"#REF!"}},{"$f":"IF(#REF!=\"\",\"\",$U$1)","v":{"$error":"#REF!"}},{"$f":"IF(#REF!=\"\",\"\",$V$1)","v":{"$error":"#REF!"}},{"$f":"IF(#REF!=\"\",\"\",$W$1)","v":{"$error":"#REF!"}},{"$f":"IF(#REF!=\"\",\"\",$X$1)","v":{"$error":"#REF!"}},{"$f":"IF(#REF!=\"\",\"\",$Y$1)","v":{"$error":"#REF!"}},{"$f":"IF(#REF!=\"\",\"\",$Z$1)","v":{"$error":"#REF!"}}]
[{"$f":"'Contact Information'!$C$6","v":0},{"$f":"'Contact Information'!$C$7","v":0},{"$f":"'Contact Information'!$C$8","v":0},{"$f":"'Contact Information'!$C$9","v":0},{"$f":"#REF!","v":{"$error":"#REF!"}},{"$f":"#REF!","v":{"$error":"#REF!"}},{"$f":"#REF!","v":{"$error":"#REF!"}},{"$f":"#REF!","v":{"$error":"#REF!"}},{"$f":"#REF!","v":{"$error":"#REF!"}},{"$f":"#REF!","v":{"$error":"#REF!"}},{"$f":"#REF!","v":{"$error":"#REF!"}},{"$f":"#REF!","v":{"$error":"#REF!"}},{"$f":"#REF!","v":{"$error":"#REF!"}},{"$f":"#REF!","v":{"$error":"#REF!"}},{"$f":"#REF!","v":{"$error":"#REF!"}},{"$f":"#REF!","v":{"$error":"#REF!"}},{"$f":"#REF!","v":{"$error":"#REF!"}},{"$f":"IF(#REF!=\"\",\"\",$R$1)","v":{"$error":"#REF!"}},{"$f":"IF(#REF!=\"\",\"\",$S$1)","v":{"$error":"#REF!"}},{"$f":"IF(#REF!=\"\",\"\",$T$1)","v":{"$error":"#REF!"}},{"$f":"IF(#REF!=\"\",\"\",$U$1)","v":{"$error":"#REF!"}},{"$f":"IF(#REF!=\"\",\"\",$V$1)","v":{"$error":"#REF!"}},{"$f":"IF(#REF!=\"\",\"\",$W$1)","v":{"$error":"#REF!"}},{"$f":"IF(#REF!=\"\",\"\",$X$1)","v":{"$error":"#REF!"}},{"$f":"IF(#REF!=\"\",\"\",$Y$1)","v":{"$error":"#REF!"}},{"$f":"IF(#REF!=\"\",\"\",$Z$1)","v":{"$error":"#REF!"}}]
[{"$f":"'Contact Information'!$C$6","v":0},{"$f":"'Contact Information'!$C$7","v":0},{"$f":"'Contact Information'!$C$8","v":0},{"$f":"'Contact Information'!$C$9","v":0},{"$f":"#REF!","v":{"$error":"#REF!"}},{"$f":"#REF!","v":{"$error":"#REF!"}},{"$f":"#REF!","v":{"$error":"#REF!"}},{"$f":"#REF!","v":{"$error":"#REF!"}},{"$f":"#REF!","v":{"$error":"#REF!"}},{"$f":"#REF!","v":{"$error":"#REF!"}},{"$f":"#REF!","v":{"$error":"#REF!"}},{"$f":"#REF!","v":{"$error":"#REF!"}},{"$f":"#REF!","v":{"$error":"#REF!"}},{"$f":"#REF!","v":{"$error":"#REF!"}},{"$f":"#REF!","v":{"$error":"#REF!"}},{"$f":"#REF!","v":{"$error":"#REF!"}},{"$f":"#REF!","v":{"$error":"#REF!"}},{"$f":"IF(#REF!=\"\",\"\",$R$1)","v":{"$error":"#REF!"}},{"$f":"IF(#REF!=\"\",\"\",$S$1)","v":{"$error":"#REF!"}},{"$f":"IF(#REF!=\"\",\"\",$T$1)","v":{"$error":"#REF!"}},{"$f":"IF(#REF!=\"\",\"\",$U$1)","v":{"$error":"#REF!"}},{"$f":"IF(#REF!=\"\",\"\",$V$1)","v":{"$error":"#REF!"}},{"$f":"IF(#REF!=\"\",\"\",$W$1)","v":{"$error":"#REF!"}},{"$f":"IF(#REF!=\"\",\"\",$X$1)","v":{"$error":"#REF!"}},{"$f":"IF(#REF!=\"\",\"\",$Y$1)","v":{"$error":"#REF!"}},{"$f":"IF(#REF!=\"\",\"\",$Z$1)","v":{"$error":"#REF!"}}]
[{"$f":"'Contact Information'!$C$6","v":0},{"$f":"'Contact Information'!$C$7","v":0},{"$f":"'Contact Information'!$C$8","v":0},{"$f":"'Contact Information'!$C$9","v":0},{"$f":"#REF!","v":{"$error":"#REF!"}},{"$f":"#REF!","v":{"$error":"#REF!"}},{"$f":"#REF!","v":{"$error":"#REF!"}},{"$f":"#REF!","v":{"$error":"#REF!"}},{"$f":"#REF!","v":{"$error":"#REF!"}},{"$f":"#REF!","v":{"$error":"#REF!"}},{"$f":"#REF!","v":{"$error":"#REF!"}},{"$f":"#REF!","v":{"$error":"#REF!"}},{"$f":"#REF!","v":{"$error":"#REF!"}},{"$f":"#REF!","v":{"$error":"#REF!"}},{"$f":"#REF!","v":{"$error":"#REF!"}},{"$f":"#REF!","v":{"$error":"#REF!"}},{"$f":"#REF!","v":{"$error":"#REF!"}},{"$f":"IF(#REF!=\"\",\"\",$R$1)","v":{"$error":"#REF!"}},{"$f":"IF(#REF!=\"\",\"\",$S$1)","v":{"$error":"#REF!"}},{"$f":"IF(#REF!=\"\",\"\",$T$1)","v":{"$error":"#REF!"}},{"$f":"IF(#REF!=\"\",\"\",$U$1)","v":{"$error":"#REF!"}},{"$f":"IF(#REF!=\"\",\"\",$V$1)","v":{"$error":"#REF!"}},{"$f":"IF(#REF!=\"\",\"\",$W$1)","v":{"$error":"#REF!"}},{"$f":"IF(#REF!=\"\",\"\",$X$1)","v":{"$error":"#REF!"}},{"$f":"IF(#REF!=\"\",\"\",$Y$1)","v":{"$error":"#REF!"}},{"$f":"IF(#REF!=\"\",\"\",$Z$1)","v":{"$error":"#REF!"}}]
[{"$f":"'Contact Information'!$C$6","v":0},{"$f":"'Contact Information'!$C$7","v":0},{"$f":"'Contact Information'!$C$8","v":0},{"$f":"'Contact Information'!$C$9","v":0},{"$f":"#REF!","v":{"$error":"#REF!"}},{"$f":"#REF!","v":{"$error":"#REF!"}},{"$f":"#REF!","v":{"$error":"#REF!"}},{"$f":"#REF!","v":{"$error":"#REF!"}},{"$f":"#REF!","v":{"$error":"#REF!"}},{"$f":"#REF!","v":{"$error":"#REF!"}},{"$f":"#REF!","v":{"$error":"#REF!"}},{"$f":"#REF!","v":{"$error":"#REF!"}},{"$f":"#REF!","v":{"$error":"#REF!"}},{"$f":"#REF!","v":{"$error":"#REF!"}},{"$f":"#REF!","v":{"$error":"#REF!"}},{"$f":"#REF!","v":{"$error":"#REF!"}},{"$f":"#REF!","v":{"$error":"#REF!"}},{"$f":"IF(#REF!=\"\",\"\",$R$1)","v":{"$error":"#REF!"}},{"$f":"IF(#REF!=\"\",\"\",$S$1)","v":{"$error":"#REF!"}},{"$f":"IF(#REF!=\"\",\"\",$T$1)","v":{"$error":"#REF!"}},{"$f":"IF(#REF!=\"\",\"\",$U$1)","v":{"$error":"#REF!"}},{"$f":"IF(#REF!=\"\",\"\",$V$1)","v":{"$error":"#REF!"}},{"$f":"IF(#REF!=\"\",\"\",$W$1)","v":{"$error":"#REF!"}},{"$f":"IF(#REF!=\"\",\"\",$X$1)","v":{"$error":"#REF!"}},{"$f":"IF(#REF!=\"\",\"\",$Y$1)","v":{"$error":"#REF!"}},{"$f":"IF(#REF!=\"\",\"\",$Z$1)","v":{"$error":"#REF!"}}]
[{"$f":"'Contact Information'!$C$6","v":0},{"$f":"'Contact Information'!$C$7","v":0},{"$f":"'Contact Information'!$C$8","v":0},{"$f":"'Contact Information'!$C$9","v":0},{"$f":"#REF!","v":{"$error":"#REF!"}},{"$f":"#REF!","v":{"$error":"#REF!"}},{"$f":"#REF!","v":{"$error":"#REF!"}},{"$f":"#REF!","v":{"$error":"#REF!"}},{"$f":"#REF!","v":{"$error":"#REF!"}},{"$f":"#REF!","v":{"$error":"#REF!"}},{"$f":"#REF!","v":{"$error":"#REF!"}},{"$f":"#REF!","v":{"$error":"#REF!"}},{"$f":"#REF!","v":{"$error":"#REF!"}},{"$f":"#REF!","v":{"$error":"#REF!"}},{"$f":"#REF!","v":{"$error":"#REF!"}},{"$f":"#REF!","v":{"$error":"#REF!"}},{"$f":"#REF!","v":{"$error":"#REF!"}},{"$f":"IF(#REF!=\"\",\"\",$R$1)","v":{"$error":"#REF!"}},{"$f":"IF(#REF!=\"\",\"\",$S$1)","v":{"$error":"#REF!"}},{"$f":"IF(#REF!=\"\",\"\",$T$1)","v":{"$error":"#REF!"}},{"$f":"IF(#REF!=\"\",\"\",$U$1)","v":{"$error":"#REF!"}},{"$f":"IF(#REF!=\"\",\"\",$V$1)","v":{"$error":"#REF!"}},{"$f":"IF(#REF!=\"\",\"\",$W$1)","v":{"$error":"#REF!"}},{"$f":"IF(#REF!=\"\",\"\",$X$1)","v":{"$error":"#REF!"}},{"$f":"IF(#REF!=\"\",\"\",$Y$1)","v":{"$error":"#REF!"}},{"$f":"IF(#REF!=\"\",\"\",$Z$1)","v":{"$error":"#REF!"}}]
[{"$f":"'Contact Information'!$C$6","v":0},{"$f":"'Contact Information'!$C$7","v":0},{"$f":"'Contact Information'!$C$8","v":0},{"$f":"'Contact Information'!$C$9","v":0},{"$f":"#REF!","v":{"$error":"#REF!"}},{"$f":"#REF!","v":{"$error":"#REF!"}},{"$f":"#REF!","v":{"$error":"#REF!"}},{"$f":"#REF!","v":{"$error":"#REF!"}},{"$f":"#REF!","v":{"$error":"#REF!"}},{"$f":"#REF!","v":{"$error":"#REF!"}},{"$f":"#REF!","v":{"$error":"#REF!"}},{"$f":"#REF!","v":{"$error":"#REF!"}},{"$f":"#REF!","v":{"$error":"#REF!"}},{"$f":"#REF!","v":{"$error":"#REF!"}},{"$f":"#REF!","v":{"$error":"#REF!"}},{"$f":"#REF!","v":{"$error":"#REF!"}},{"$f":"#REF!","v":{"$error":"#REF!"}},{"$f":"IF(#REF!=\"\",\"\",$R$1)","v":{"$error":"#REF!"}},{"$f":"IF(#REF!=\"\",\"\",$S$1)","v":{"$error":"#REF!"}},{"$f":"IF(#REF!=\"\",\"\",$T$1)","v":{"$error":"#REF!"}},{"$f":"IF(#REF!=\"\",\"\",$U$1)","v":{"$error":"#REF!"}},{"$f":"IF(#REF!=\"\",\"\",$V$1)","v":{"$error":"#REF!"}},{"$f":"IF(#REF!=\"\",\"\",$W$1)","v":{"$error":"#REF!"}},{"$f":"IF(#REF!=\"\",\"\",$X$1)","v":{"$error":"#REF!"}},{"$f":"IF(#REF!=\"\",\"\",$Y$1)","v":{"$error":"#REF!"}},{"$f":"IF(#REF!=\"\",\"\",$Z$1)","v":{"$error":"#REF!"}}]
[{"$f":"'Contact Information'!$C$6","v":0},{"$f":"'Contact Information'!$C$7","v":0},{"$f":"'Contact Information'!$C$8","v":0},{"$f":"'Contact Information'!$C$9","v":0},{"$f":"#REF!","v":{"$error":"#REF!"}},{"$f":"#REF!","v":{"$error":"#REF!"}},{"$f":"#REF!","v":{"$error":"#REF!"}},{"$f":"#REF!","v":{"$error":"#REF!"}},{"$f":"#REF!","v":{"$error":"#REF!"}},{"$f":"#REF!","v":{"$error":"#REF!"}},{"$f":"#REF!","v":{"$error":"#REF!"}},{"$f":"#REF!","v":{"$error":"#REF!"}},{"$f":"#REF!","v":{"$error":"#REF!"}},{"$f":"#REF!","v":{"$error":"#REF!"}},{"$f":"#REF!","v":{"$error":"#REF!"}},{"$f":"#REF!","v":{"$error":"#REF!"}},{"$f":"#REF!","v":{"$error":"#REF!"}},{"$f":"IF(#REF!=\"\",\"\",$R$1)","v":{"$error":"#REF!"}},{"$f":"IF(#REF!=\"\",\"\",$S$1)","v":{"$error":"#REF!"}},{"$f":"IF(#REF!=\"\",\"\",$T$1)","v":{"$error":"#REF!"}},{"$f":"IF(#REF!=\"\",\"\",$U$1)","v":{"$error":"#REF!"}},{"$f":"IF(#REF!=\"\",\"\",$V$1)","v":{"$error":"#REF!"}},{"$f":"IF(#REF!=\"\",\"\",$W$1)","v":{"$error":"#REF!"}},{"$f":"IF(#REF!=\"\",\"\",$X$1)","v":{"$error":"#REF!"}},{"$f":"IF(#REF!=\"\",\"\",$Y$1)","v":{"$error":"#REF!"}},{"$f":"IF(#REF!=\"\",\"\",$Z$1)","v":{"$error":"#REF!"}}]
[{"$f":"'Contact Information'!$C$6","v":0},{"$f":"'Contact Information'!$C$7","v":0},{"$f":"'Contact Information'!$C$8","v":0},{"$f":"'Contact Information'!$C$9","v":0},{"$f":"#REF!","v":{"$error":"#REF!"}},{"$f":"#REF!","v":{"$error":"#REF!"}},{"$f":"#REF!","v":{"$error":"#REF!"}},{"$f":"#REF!","v":{"$error":"#REF!"}},{"$f":"#REF!","v":{"$error":"#REF!"}},{"$f":"#REF!","v":{"$error":"#REF!"}},{"$f":"#REF!","v":{"$error":"#REF!"}},{"$f":"#REF!","v":{"$error":"#REF!"}},{"$f":"#REF!","v":{"$error":"#REF!"}},{"$f":"#REF!","v":{"$error":"#REF!"}},{"$f":"#REF!","v":{"$error":"#REF!"}},{"$f":"#REF!","v":{"$error":"#REF!"}},{"$f":"#REF!","v":{"$error":"#REF!"}},{"$f":"IF(#REF!=\"\",\"\",$R$1)","v":{"$error":"#REF!"}},{"$f":"IF(#REF!=\"\",\"\",$S$1)","v":{"$error":"#REF!"}},{"$f":"IF(#REF!=\"\",\"\",$T$1)","v":{"$error":"#REF!"}},{"$f":"IF(#REF!=\"\",\"\",$U$1)","v":{"$error":"#REF!"}},{"$f":"IF(#REF!=\"\",\"\",$V$1)","v":{"$error":"#REF!"}},{"$f":"IF(#REF!=\"\",\"\",$W$1)","v":{"$error":"#REF!"}},{"$f":"IF(#REF!=\"\",\"\",$X$1)","v":{"$error":"#REF!"}},{"$f":"IF(#REF!=\"\",\"\",$Y$1)","v":{"$error":"#REF!"}},{"$f":"IF(#REF!=\"\",\"\",$Z$1)","v":{"$error":"#REF!"}}]
[{"$f":"'Contact Information'!$C$6","v":0},{"$f":"'Contact Information'!$C$7","v":0},{"$f":"'Contact Information'!$C$8","v":0},{"$f":"'Contact Information'!$C$9","v":0},{"$f":"#REF!","v":{"$error":"#REF!"}},{"$f":"#REF!","v":{"$error":"#REF!"}},{"$f":"#REF!","v":{"$error":"#REF!"}},{"$f":"#REF!","v":{"$error":"#REF!"}},{"$f":"#REF!","v":{"$error":"#REF!"}},{"$f":"#REF!","v":{"$error":"#REF!"}},{"$f":"#REF!","v":{"$error":"#REF!"}},{"$f":"#REF!","v":{"$error":"#REF!"}},{"$f":"#REF!","v":{"$error":"#REF!"}},{"$f":"#REF!","v":{"$error":"#REF!"}},{"$f":"#REF!","v":{"$error":"#REF!"}},{"$f":"#REF!","v":{"$error":"#REF!"}},{"$f":"#REF!","v":{"$error":"#REF!"}},{"$f":"IF(#REF!=\"\",\"\",$R$1)","v":{"$error":"#REF!"}},{"$f":"IF(#REF!=\"\",\"\",$S$1)","v":{"$error":"#REF!"}},{"$f":"IF(#REF!=\"\",\"\",$T$1)","v":{"$error":"#REF!"}},{"$f":"IF(#REF!=\"\",\"\",$U$1)","v":{"$error":"#REF!"}},{"$f":"IF(#REF!=\"\",\"\",$V$1)","v":{"$error":"#REF!"}},{"$f":"IF(#REF!=\"\",\"\",$W$1)","v":{"$error":"#REF!"}},{"$f":"IF(#REF!=\"\",\"\",$X$1)","v":{"$error":"#REF!"}},{"$f":"IF(#REF!=\"\",\"\",$Y$1)","v":{"$error":"#REF!"}},{"$f":"IF(#REF!=\"\",\"\",$Z$1)","v":{"$error":"#REF!"}}]
[{"$f":"'Contact Information'!$C$6","v":0},{"$f":"'Contact Information'!$C$7","v":0},{"$f":"'Contact Information'!$C$8","v":0},{"$f":"'Contact Information'!$C$9","v":0},{"$f":"#REF!","v":{"$error":"#REF!"}},{"$f":"#REF!","v":{"$error":"#REF!"}},{"$f":"#REF!","v":{"$error":"#REF!"}},{"$f":"#REF!","v":{"$error":"#REF!"}},{"$f":"#REF!","v":{"$error":"#REF!"}},{"$f":"#REF!","v":{"$error":"#REF!"}},{"$f":"#REF!","v":{"$error":"#REF!"}},{"$f":"#REF!","v":{"$error":"#REF!"}},{"$f":"#REF!","v":{"$error":"#REF!"}},{"$f":"#REF!","v":{"$error":"#REF!"}},{"$f":"#REF!","v":{"$error":"#REF!"}},{"$f":"#REF!","v":{"$error":"#REF!"}},{"$f":"#REF!","v":{"$error":"#REF!"}},{"$f":"IF(#REF!=\"\",\"\",$R$1)","v":{"$error":"#REF!"}},{"$f":"IF(#REF!=\"\",\"\",$S$1)","v":{"$error":"#REF!"}},{"$f":"IF(#REF!=\"\",\"\",$T$1)","v":{"$error":"#REF!"}},{"$f":"IF(#REF!=\"\",\"\",$U$1)","v":{"$error":"#REF!"}},{"$f":"IF(#REF!=\"\",\"\",$V$1)","v":{"$error":"#REF!"}},{"$f":"IF(#REF!=\"\",\"\",$W$1)","v":{"$error":"#REF!"}},{"$f":"IF(#REF!=\"\",\"\",$X$1)","v":{"$error":"#REF!"}},{"$f":"IF(#REF!=\"\",\"\",$Y$1)","v":{"$error":"#REF!"}},{"$f":"IF(#REF!=\"\",\"\",$Z$1)","v":{"$error":"#REF!"}}]
[{"$f":"'Contact Information'!$C$6","v":0},{"$f":"'Contact Information'!$C$7","v":0},{"$f":"'Contact Information'!$C$8","v":0},{"$f":"'Contact Information'!$C$9","v":0},{"$f":"#REF!","v":{"$error":"#REF!"}},{"$f":"#REF!","v":{"$error":"#REF!"}},{"$f":"#REF!","v":{"$error":"#REF!"}},{"$f":"#REF!","v":{"$error":"#REF!"}},{"$f":"#REF!","v":{"$error":"#REF!"}},{"$f":"#REF!","v":{"$error":"#REF!"}},{"$f":"#REF!","v":{"$error":"#REF!"}},{"$f":"#REF!","v":{"$error":"#REF!"}},{"$f":"#REF!","v":{"$error":"#REF!"}},{"$f":"#REF!","v":{"$error":"#REF!"}},{"$f":"#REF!","v":{"$error":"#REF!"}},{"$f":"#REF!","v":{"$error":"#REF!"}},{"$f":"#REF!","v":{"$error":"#REF!"}},{"$f":"IF(#REF!=\"\",\"\",$R$1)","v":{"$error":"#REF!"}},{"$f":"IF(#REF!=\"\",\"\",$S$1)","v":{"$error":"#REF!"}},{"$f":"IF(#REF!=\"\",\"\",$T$1)","v":{"$error":"#REF!"}},{"$f":"IF(#REF!=\"\",\"\",$U$1)","v":{"$error":"#REF!"}},{"$f":"IF(#REF!=\"\",\"\",$V$1)","v":{"$error":"#REF!"}},{"$f":"IF(#REF!=\"\",\"\",$W$1)","v":{"$error":"#REF!"}},{"$f":"IF(#REF!=\"\",\"\",$X$1)","v":{"$error":"#REF!"}},{"$f":"IF(#REF!=\"\",\"\",$Y$1)","v":{"$error":"#REF!"}},{"$f":"IF(#REF!=\"\",\"\",$Z$1)","v":{"$error":"#REF!"}}]
[{"$f":"'Contact Information'!$C$6","v":0},{"$f":"'Contact Information'!$C$7","v":0},{"$f":"'Contact Information'!$C$8","v":0},{"$f":"'Contact Information'!$C$9","v":0},{"$f":"#REF!","v":{"$error":"#REF!"}},{"$f":"#REF!","v":{"$error":"#REF!"}},{"$f":"#REF!","v":{"$error":"#REF!"}},{"$f":"#REF!","v":{"$error":"#REF!"}},{"$f":"#REF!","v":{"$error":"#REF!"}},{"$f":"#REF!","v":{"$error":"#REF!"}},{"$f":"#REF!","v":{"$error":"#REF!"}},{"$f":"#REF!","v":{"$error":"#REF!"}},{"$f":"#REF!","v":{"$error":"#REF!"}},{"$f":"#REF!","v":{"$error":"#REF!"}},{"$f":"#REF!","v":{"$error":"#REF!"}},{"$f":"#REF!","v":{"$error":"#REF!"}},{"$f":"#REF!","v":{"$error":"#REF!"}},{"$f":"IF(#REF!=\"\",\"\",$R$1)","v":{"$error":"#REF!"}},{"$f":"IF(#REF!=\"\",\"\",$S$1)","v":{"$error":"#REF!"}},{"$f":"IF(#REF!=\"\",\"\",$T$1)","v":{"$error":"#REF!"}},{"$f":"IF(#REF!=\"\",\"\",$U$1)","v":{"$error":"#REF!"}},{"$f":"IF(#REF!=\"\",\"\",$V$1)","v":{"$error":"#REF!"}},{"$f":"IF(#REF!=\"\",\"\",$W$1)","v":{"$error":"#REF!"}},{"$f":"IF(#REF!=\"\",\"\",$X$1)","v":{"$error":"#REF!"}},{"$f":"IF(#REF!=\"\",\"\",$Y$1)","v":{"$error":"#REF!"}},{"$f":"IF(#REF!=\"\",\"\",$Z$1)","v":{"$error":"#REF!"}}]
[{"$f":"'Contact Information'!$C$6","v":0},{"$f":"'Contact Information'!$C$7","v":0},{"$f":"'Contact Information'!$C$8","v":0},{"$f":"'Contact Information'!$C$9","v":0},{"$f":"#REF!","v":{"$error":"#REF!"}},{"$f":"#REF!","v":{"$error":"#REF!"}},{"$f":"#REF!","v":{"$error":"#REF!"}},{"$f":"#REF!","v":{"$error":"#REF!"}},{"$f":"#REF!","v":{"$error":"#REF!"}},{"$f":"#REF!","v":{"$error":"#REF!"}},{"$f":"#REF!","v":{"$error":"#REF!"}},{"$f":"#REF!","v":{"$error":"#REF!"}},{"$f":"#REF!","v":{"$error":"#REF!"}},{"$f":"#REF!","v":{"$error":"#REF!"}},{"$f":"#REF!","v":{"$error":"#REF!"}},{"$f":"#REF!","v":{"$error":"#REF!"}},{"$f":"#REF!","v":{"$error":"#REF!"}},{"$f":"IF(#REF!=\"\",\"\",$R$1)","v":{"$error":"#REF!"}},{"$f":"IF(#REF!=\"\",\"\",$S$1)","v":{"$error":"#REF!"}},{"$f":"IF(#REF!=\"\",\"\",$T$1)","v":{"$error":"#REF!"}},{"$f":"IF(#REF!=\"\",\"\",$U$1)","v":{"$error":"#REF!"}},{"$f":"IF(#REF!=\"\",\"\",$V$1)","v":{"$error":"#REF!"}},{"$f":"IF(#REF!=\"\",\"\",$W$1)","v":{"$error":"#REF!"}},{"$f":"IF(#REF!=\"\",\"\",$X$1)","v":{"$error":"#REF!"}},{"$f":"IF(#REF!=\"\",\"\",$Y$1)","v":{"$error":"#REF!"}},{"$f":"IF(#REF!=\"\",\"\",$Z$1)","v":{"$error":"#REF!"}}]
[{"$f":"'Contact Information'!$C$6","v":0},{"$f":"'Contact Information'!$C$7","v":0},{"$f":"'Contact Information'!$C$8","v":0},{"$f":"'Contact Information'!$C$9","v":0},{"$f":"#REF!","v":{"$error":"#REF!"}},{"$f":"#REF!","v":{"$error":"#REF!"}},{"$f":"#REF!","v":{"$error":"#REF!"}},{"$f":"#REF!","v":{"$error":"#REF!"}},{"$f":"#REF!","v":{"$error":"#REF!"}},{"$f":"#REF!","v":{"$error":"#REF!"}},{"$f":"#REF!","v":{"$error":"#REF!"}},{"$f":"#REF!","v":{"$error":"#REF!"}},{"$f":"#REF!","v":{"$error":"#REF!"}},{"$f":"#REF!","v":{"$error":"#REF!"}},{"$f":"#REF!","v":{"$error":"#REF!"}},{"$f":"#REF!","v":{"$error":"#REF!"}},{"$f":"#REF!","v":{"$error":"#REF!"}},{"$f":"IF(#REF!=\"\",\"\",$R$1)","v":{"$error":"#REF!"}},{"$f":"IF(#REF!=\"\",\"\",$S$1)","v":{"$error":"#REF!"}},{"$f":"IF(#REF!=\"\",\"\",$T$1)","v":{"$error":"#REF!"}},{"$f":"IF(#REF!=\"\",\"\",$U$1)","v":{"$error":"#REF!"}},{"$f":"IF(#REF!=\"\",\"\",$V$1)","v":{"$error":"#REF!"}},{"$f":"IF(#REF!=\"\",\"\",$W$1)","v":{"$error":"#REF!"}},{"$f":"IF(#REF!=\"\",\"\",$X$1)","v":{"$error":"#REF!"}},{"$f":"IF(#REF!=\"\",\"\",$Y$1)","v":{"$error":"#REF!"}},{"$f":"IF(#REF!=\"\",\"\",$Z$1)","v":{"$error":"#REF!"}}]
[{"$f":"'Contact Information'!$C$6","v":0},{"$f":"'Contact Information'!$C$7","v":0},{"$f":"'Contact Information'!$C$8","v":0},{"$f":"'Contact Information'!$C$9","v":0},{"$f":"#REF!","v":{"$error":"#REF!"}},{"$f":"#REF!","v":{"$error":"#REF!"}},{"$f":"#REF!","v":{"$error":"#REF!"}},{"$f":"#REF!","v":{"$error":"#REF!"}},{"$f":"#REF!","v":{"$error":"#REF!"}},{"$f":"#REF!","v":{"$error":"#REF!"}},{"$f":"#REF!","v":{"$error":"#REF!"}},{"$f":"#REF!","v":{"$error":"#REF!"}},{"$f":"#REF!","v":{"$error":"#REF!"}},{"$f":"#REF!","v":{"$error":"#REF!"}},{"$f":"#REF!","v":{"$error":"#REF!"}},{"$f":"#REF!","v":{"$error":"#REF!"}},{"$f":"#REF!","v":{"$error":"#REF!"}},{"$f":"IF(#REF!=\"\",\"\",$R$1)","v":{"$error":"#REF!"}},{"$f":"IF(#REF!=\"\",\"\",$S$1)","v":{"$error":"#REF!"}},{"$f":"IF(#REF!=\"\",\"\",$T$1)","v":{"$error":"#REF!"}},{"$f":"IF(#REF!=\"\",\"\",$U$1)","v":{"$error":"#REF!"}},{"$f":"IF(#REF!=\"\",\"\",$V$1)","v":{"$error":"#REF!"}},{"$f":"IF(#REF!=\"\",\"\",$W$1)","v":{"$error":"#REF!"}},{"$f":"IF(#REF!=\"\",\"\",$X$1)","v":{"$error":"#REF!"}},{"$f":"IF(#REF!=\"\",\"\",$Y$1)","v":{"$error":"#REF!"}},{"$f":"IF(#REF!=\"\",\"\",$Z$1)","v":{"$error":"#REF!"}}]
[{"$f":"'Contact Information'!$C$6","v":0},{"$f":"'Contact Information'!$C$7","v":0},{"$f":"'Contact Information'!$C$8","v":0},{"$f":"'Contact Information'!$C$9","v":0},{"$f":"#REF!","v":{"$error":"#REF!"}},{"$f":"#REF!","v":{"$error":"#REF!"}},{"$f":"#REF!","v":{"$error":"#REF!"}},{"$f":"#REF!","v":{"$error":"#REF!"}},{"$f":"#REF!","v":{"$error":"#REF!"}},{"$f":"#REF!","v":{"$error":"#REF!"}},{"$f":"#REF!","v":{"$error":"#REF!"}},{"$f":"#REF!","v":{"$error":"#REF!"}},{"$f":"#REF!","v":{"$error":"#REF!"}},{"$f":"#REF!","v":{"$error":"#REF!"}},{"$f":"#REF!","v":{"$error":"#REF!"}},{"$f":"#REF!","v":{"$error":"#REF!"}},{"$f":"#REF!","v":{"$error":"#REF!"}},{"$f":"IF(#REF!=\"\",\"\",$R$1)","v":{"$error":"#REF!"}},{"$f":"IF(#REF!=\"\",\"\",$S$1)","v":{"$error":"#REF!"}},{"$f":"IF(#REF!=\"\",\"\",$T$1)","v":{"$error":"#REF!"}},{"$f":"IF(#REF!=\"\",\"\",$U$1)","v":{"$error":"#REF!"}},{"$f":"IF(#REF!=\"\",\"\",$V$1)","v":{"$error":"#REF!"}},{"$f":"IF(#REF!=\"\",\"\",$W$1)","v":{"$error":"#REF!"}},{"$f":"IF(#REF!=\"\",\"\",$X$1)","v":{"$error":"#REF!"}},{"$f":"IF(#REF!=\"\",\"\",$Y$1)","v":{"$error":"#REF!"}},{"$f":"IF(#REF!=\"\",\"\",$Z$1)","v":{"$error":"#REF!"}}]
[{"$f":"'Contact Information'!$C$6","v":0},{"$f":"'Contact Information'!$C$7","v":0},{"$f":"'Contact Information'!$C$8","v":0},{"$f":"'Contact Information'!$C$9","v":0},{"$f":"#REF!","v":{"$error":"#REF!"}},{"$f":"#REF!","v":{"$error":"#REF!"}},{"$f":"#REF!","v":{"$error":"#REF!"}},{"$f":"#REF!","v":{"$error":"#REF!"}},{"$f":"#REF!","v":{"$error":"#REF!"}},{"$f":"#REF!","v":{"$error":"#REF!"}},{"$f":"#REF!","v":{"$error":"#REF!"}},{"$f":"#REF!","v":{"$error":"#REF!"}},{"$f":"#REF!","v":{"$error":"#REF!"}},{"$f":"#REF!","v":{"$error":"#REF!"}},{"$f":"#REF!","v":{"$error":"#REF!"}},{"$f":"#REF!","v":{"$error":"#REF!"}},{"$f":"#REF!","v":{"$error":"#REF!"}},{"$f":"IF(#REF!=\"\",\"\",$R$1)","v":{"$error":"#REF!"}},{"$f":"IF(#REF!=\"\",\"\",$S$1)","v":{"$error":"#REF!"}},{"$f":"IF(#REF!=\"\",\"\",$T$1)","v":{"$error":"#REF!"}},{"$f":"IF(#REF!=\"\",\"\",$U$1)","v":{"$error":"#REF!"}},{"$f":"IF(#REF!=\"\",\"\",$V$1)","v":{"$error":"#REF!"}},{"$f":"IF(#REF!=\"\",\"\",$W$1)","v":{"$error":"#REF!"}},{"$f":"IF(#REF!=\"\",\"\",$X$1)","v":{"$error":"#REF!"}},{"$f":"IF(#REF!=\"\",\"\",$Y$1)","v":{"$error":"#REF!"}},{"$f":"IF(#REF!=\"\",\"\",$Z$1)","v":{"$error":"#REF!"}}]
[{"$f":"'Contact Information'!$C$6","v":0},{"$f":"'Contact Information'!$C$7","v":0},{"$f":"'Contact Information'!$C$8","v":0},{"$f":"'Contact Information'!$C$9","v":0},{"$f":"#REF!","v":{"$error":"#REF!"}},{"$f":"#REF!","v":{"$error":"#REF!"}},{"$f":"#REF!","v":{"$error":"#REF!"}},{"$f":"#REF!","v":{"$error":"#REF!"}},{"$f":"#REF!","v":{"$error":"#REF!"}},{"$f":"#REF!","v":{"$error":"#REF!"}},{"$f":"#REF!","v":{"$error":"#REF!"}},{"$f":"#REF!","v":{"$error":"#REF!"}},{"$f":"#REF!","v":{"$error":"#REF!"}},{"$f":"#REF!","v":{"$error":"#REF!"}},{"$f":"#REF!","v":{"$error":"#REF!"}},{"$f":"#REF!","v":{"$error":"#REF!"}},{"$f":"#REF!","v":{"$error":"#REF!"}},{"$f":"IF(#REF!=\"\",\"\",$R$1)","v":{"$error":"#REF!"}},{"$f":"IF(#REF!=\"\",\"\",$S$1)","v":{"$error":"#REF!"}},{"$f":"IF(#REF!=\"\",\"\",$T$1)","v":{"$error":"#REF!"}},{"$f":"IF(#REF!=\"\",\"\",$U$1)","v":{"$error":"#REF!"}},{"$f":"IF(#REF!=\"\",\"\",$V$1)","v":{"$error":"#REF!"}},{"$f":"IF(#REF!=\"\",\"\",$W$1)","v":{"$error":"#REF!"}},{"$f":"IF(#REF!=\"\",\"\",$X$1)","v":{"$error":"#REF!"}},{"$f":"IF(#REF!=\"\",\"\",$Y$1)","v":{"$error":"#REF!"}},{"$f":"IF(#REF!=\"\",\"\",$Z$1)","v":{"$error":"#REF!"}}]
[{"$f":"'Contact Information'!$C$6","v":0},{"$f":"'Contact Information'!$C$7","v":0},{"$f":"'Contact Information'!$C$8","v":0},{"$f":"'Contact Information'!$C$9","v":0},{"$f":"#REF!","v":{"$error":"#REF!"}},{"$f":"#REF!","v":{"$error":"#REF!"}},{"$f":"#REF!","v":{"$error":"#REF!"}},{"$f":"#REF!","v":{"$error":"#REF!"}},{"$f":"#REF!","v":{"$error":"#REF!"}},{"$f":"#REF!","v":{"$error":"#REF!"}},{"$f":"#REF!","v":{"$error":"#REF!"}},{"$f":"#REF!","v":{"$error":"#REF!"}},{"$f":"#REF!","v":{"$error":"#REF!"}},{"$f":"#REF!","v":{"$error":"#REF!"}},{"$f":"#REF!","v":{"$error":"#REF!"}},{"$f":"#REF!","v":{"$error":"#REF!"}},{"$f":"#REF!","v":{"$error":"#REF!"}},{"$f":"IF(#REF!=\"\",\"\",$R$1)","v":{"$error":"#REF!"}},{"$f":"IF(#REF!=\"\",\"\",$S$1)","v":{"$error":"#REF!"}},{"$f":"IF(#REF!=\"\",\"\",$T$1)","v":{"$error":"#REF!"}},{"$f":"IF(#REF!=\"\",\"\",$U$1)","v":{"$error":"#REF!"}},{"$f":"IF(#REF!=\"\",\"\",$V$1)","v":{"$error":"#REF!"}},{"$f":"IF(#REF!=\"\",\"\",$W$1)","v":{"$error":"#REF!"}},{"$f":"IF(#REF!=\"\",\"\",$X$1)","v":{"$error":"#REF!"}},{"$f":"IF(#REF!=\"\",\"\",$Y$1)","v":{"$error":"#REF!"}},{"$f":"IF(#REF!=\"\",\"\",$Z$1)","v":{"$error":"#REF!"}}]
[{"$f":"'Contact Information'!$C$6","v":0},{"$f":"'Contact Information'!$C$7","v":0},{"$f":"'Contact Information'!$C$8","v":0},{"$f":"'Contact Information'!$C$9","v":0},{"$f":"#REF!","v":{"$error":"#REF!"}},{"$f":"#REF!","v":{"$error":"#REF!"}},{"$f":"#REF!","v":{"$error":"#REF!"}},{"$f":"#REF!","v":{"$error":"#REF!"}},{"$f":"#REF!","v":{"$error":"#REF!"}},{"$f":"#REF!","v":{"$error":"#REF!"}},{"$f":"#REF!","v":{"$error":"#REF!"}},{"$f":"#REF!","v":{"$error":"#REF!"}},{"$f":"#REF!","v":{"$error":"#REF!"}},{"$f":"#REF!","v":{"$error":"#REF!"}},{"$f":"#REF!","v":{"$error":"#REF!"}},{"$f":"#REF!","v":{"$error":"#REF!"}},{"$f":"#REF!","v":{"$error":"#REF!"}},{"$f":"IF(#REF!=\"\",\"\",$R$1)","v":{"$error":"#REF!"}},{"$f":"IF(#REF!=\"\",\"\",$S$1)","v":{"$error":"#REF!"}},{"$f":"IF(#REF!=\"\",\"\",$T$1)","v":{"$error":"#REF!"}},{"$f":"IF(#REF!=\"\",\"\",$U$1)","v":{"$error":"#REF!"}},{"$f":"IF(#REF!=\"\",\"\",$V$1)","v":{"$error":"#REF!"}},{"$f":"IF(#REF!=\"\",\"\",$W$1)","v":{"$error":"#REF!"}},{"$f":"IF(#REF!=\"\",\"\",$X$1)","v":{"$error":"#REF!"}},{"$f":"IF(#REF!=\"\",\"\",$Y$1)","v":{"$error":"#REF!"}},{"$f":"IF(#REF!=\"\",\"\",$Z$1)","v":{"$error":"#REF!"}}]
[{"$f":"'Contact Information'!$C$6","v":0},{"$f":"'Contact Information'!$C$7","v":0},{"$f":"'Contact Information'!$C$8","v":0},{"$f":"'Contact Information'!$C$9","v":0},{"$f":"#REF!","v":{"$error":"#REF!"}},{"$f":"#REF!","v":{"$error":"#REF!"}},{"$f":"#REF!","v":{"$error":"#REF!"}},{"$f":"#REF!","v":{"$error":"#REF!"}},{"$f":"#REF!","v":{"$error":"#REF!"}},{"$f":"#REF!","v":{"$error":"#REF!"}},{"$f":"#REF!","v":{"$error":"#REF!"}},{"$f":"#REF!","v":{"$error":"#REF!"}},{"$f":"#REF!","v":{"$error":"#REF!"}},{"$f":"#REF!","v":{"$error":"#REF!"}},{"$f":"#REF!","v":{"$error":"#REF!"}},{"$f":"#REF!","v":{"$error":"#REF!"}},{"$f":"#REF!","v":{"$error":"#REF!"}},{"$f":"IF(#REF!=\"\",\"\",$R$1)","v":{"$error":"#REF!"}},{"$f":"IF(#REF!=\"\",\"\",$S$1)","v":{"$error":"#REF!"}},{"$f":"IF(#REF!=\"\",\"\",$T$1)","v":{"$error":"#REF!"}},{"$f":"IF(#REF!=\"\",\"\",$U$1)","v":{"$error":"#REF!"}},{"$f":"IF(#REF!=\"\",\"\",$V$1)","v":{"$error":"#REF!"}},{"$f":"IF(#REF!=\"\",\"\",$W$1)","v":{"$error":"#REF!"}},{"$f":"IF(#REF!=\"\",\"\",$X$1)","v":{"$error":"#REF!"}},{"$f":"IF(#REF!=\"\",\"\",$Y$1)","v":{"$error":"#REF!"}},{"$f":"IF(#REF!=\"\",\"\",$Z$1)","v":{"$error":"#REF!"}}]
[{"$f":"'Contact Information'!$C$6","v":0},{"$f":"'Contact Information'!$C$7","v":0},{"$f":"'Contact Information'!$C$8","v":0},{"$f":"'Contact Information'!$C$9","v":0},{"$f":"#REF!","v":{"$error":"#REF!"}},{"$f":"#REF!","v":{"$error":"#REF!"}},{"$f":"#REF!","v":{"$error":"#REF!"}},{"$f":"#REF!","v":{"$error":"#REF!"}},{"$f":"#REF!","v":{"$error":"#REF!"}},{"$f":"#REF!","v":{"$error":"#REF!"}},{"$f":"#REF!","v":{"$error":"#REF!"}},{"$f":"#REF!","v":{"$error":"#REF!"}},{"$f":"#REF!","v":{"$error":"#REF!"}},{"$f":"#REF!","v":{"$error":"#REF!"}},{"$f":"#REF!","v":{"$error":"#REF!"}},{"$f":"#REF!","v":{"$error":"#REF!"}},{"$f":"#REF!","v":{"$error":"#REF!"}},{"$f":"IF(#REF!=\"\",\"\",$R$1)","v":{"$error":"#REF!"}},{"$f":"IF(#REF!=\"\",\"\",$S$1)","v":{"$error":"#REF!"}},{"$f":"IF(#REF!=\"\",\"\",$T$1)","v":{"$error":"#REF!"}},{"$f":"IF(#REF!=\"\",\"\",$U$1)","v":{"$error":"#REF!"}},{"$f":"IF(#REF!=\"\",\"\",$V$1)","v":{"$error":"#REF!"}},{"$f":"IF(#REF!=\"\",\"\",$W$1)","v":{"$error":"#REF!"}},{"$f":"IF(#REF!=\"\",\"\",$X$1)","v":{"$error":"#REF!"}},{"$f":"IF(#REF!=\"\",\"\",$Y$1)","v":{"$error":"#REF!"}},{"$f":"IF(#REF!=\"\",\"\",$Z$1)","v":{"$error":"#REF!"}}]
[{"$f":"'Contact Information'!$C$6","v":0},{"$f":"'Contact Information'!$C$7","v":0},{"$f":"'Contact Information'!$C$8","v":0},{"$f":"'Contact Information'!$C$9","v":0},{"$f":"#REF!","v":{"$error":"#REF!"}},{"$f":"#REF!","v":{"$error":"#REF!"}},{"$f":"#REF!","v":{"$error":"#REF!"}},{"$f":"#REF!","v":{"$error":"#REF!"}},{"$f":"#REF!","v":{"$error":"#REF!"}},{"$f":"#REF!","v":{"$error":"#REF!"}},{"$f":"#REF!","v":{"$error":"#REF!"}},{"$f":"#REF!","v":{"$error":"#REF!"}},{"$f":"#REF!","v":{"$error":"#REF!"}},{"$f":"#REF!","v":{"$error":"#REF!"}},{"$f":"#REF!","v":{"$error":"#REF!"}},{"$f":"#REF!","v":{"$error":"#REF!"}},{"$f":"#REF!","v":{"$error":"#REF!"}},{"$f":"IF(#REF!=\"\",\"\",$R$1)","v":{"$error":"#REF!"}},{"$f":"IF(#REF!=\"\",\"\",$S$1)","v":{"$error":"#REF!"}},{"$f":"IF(#REF!=\"\",\"\",$T$1)","v":{"$error":"#REF!"}},{"$f":"IF(#REF!=\"\",\"\",$U$1)","v":{"$error":"#REF!"}},{"$f":"IF(#REF!=\"\",\"\",$V$1)","v":{"$error":"#REF!"}},{"$f":"IF(#REF!=\"\",\"\",$W$1)","v":{"$error":"#REF!"}},{"$f":"IF(#REF!=\"\",\"\",$X$1)","v":{"$error":"#REF!"}},{"$f":"IF(#REF!=\"\",\"\",$Y$1)","v":{"$error":"#REF!"}},{"$f":"IF(#REF!=\"\",\"\",$Z$1)","v":{"$error":"#REF!"}}]
[{"$f":"'Contact Information'!$C$6","v":0},{"$f":"'Contact Information'!$C$7","v":0},{"$f":"'Contact Information'!$C$8","v":0},{"$f":"'Contact Information'!$C$9","v":0},{"$f":"#REF!","v":{"$error":"#REF!"}},{"$f":"#REF!","v":{"$error":"#REF!"}},{"$f":"#REF!","v":{"$error":"#REF!"}},{"$f":"#REF!","v":{"$error":"#REF!"}},{"$f":"#REF!","v":{"$error":"#REF!"}},{"$f":"#REF!","v":{"$error":"#REF!"}},{"$f":"#REF!","v":{"$error":"#REF!"}},{"$f":"#REF!","v":{"$error":"#REF!"}},{"$f":"#REF!","v":{"$error":"#REF!"}},{"$f":"#REF!","v":{"$error":"#REF!"}},{"$f":"#REF!","v":{"$error":"#REF!"}},{"$f":"#REF!","v":{"$error":"#REF!"}},{"$f":"#REF!","v":{"$error":"#REF!"}},{"$f":"IF(#REF!=\"\",\"\",$R$1)","v":{"$error":"#REF!"}},{"$f":"IF(#REF!=\"\",\"\",$S$1)","v":{"$error":"#REF!"}},{"$f":"IF(#REF!=\"\",\"\",$T$1)","v":{"$error":"#REF!"}},{"$f":"IF(#REF!=\"\",\"\",$U$1)","v":{"$error":"#REF!"}},{"$f":"IF(#REF!=\"\",\"\",$V$1)","v":{"$error":"#REF!"}},{"$f":"IF(#REF!=\"\",\"\",$W$1)","v":{"$error":"#REF!"}},{"$f":"IF(#REF!=\"\",\"\",$X$1)","v":{"$error":"#REF!"}},{"$f":"IF(#REF!=\"\",\"\",$Y$1)","v":{"$error":"#REF!"}},{"$f":"IF(#REF!=\"\",\"\",$Z$1)","v":{"$error":"#REF!"}}]
[{"$f":"'Contact Information'!$C$6","v":0},{"$f":"'Contact Information'!$C$7","v":0},{"$f":"'Contact Information'!$C$8","v":0},{"$f":"'Contact Information'!$C$9","v":0},{"$f":"#REF!","v":{"$error":"#REF!"}},{"$f":"#REF!","v":{"$error":"#REF!"}},{"$f":"#REF!","v":{"$error":"#REF!"}},{"$f":"#REF!","v":{"$error":"#REF!"}},{"$f":"#REF!","v":{"$error":"#REF!"}},{"$f":"#REF!","v":{"$error":"#REF!"}},{"$f":"#REF!","v":{"$error":"#REF!"}},{"$f":"#REF!","v":{"$error":"#REF!"}},{"$f":"#REF!","v":{"$error":"#REF!"}},{"$f":"#REF!","v":{"$error":"#REF!"}},{"$f":"#REF!","v":{"$error":"#REF!"}},{"$f":"#REF!","v":{"$error":"#REF!"}},{"$f":"#REF!","v":{"$error":"#REF!"}},{"$f":"IF(#REF!=\"\",\"\",$R$1)","v":{"$error":"#REF!"}},{"$f":"IF(#REF!=\"\",\"\",$S$1)","v":{"$error":"#REF!"}},{"$f":"IF(#REF!=\"\",\"\",$T$1)","v":{"$error":"#REF!"}},{"$f":"IF(#REF!=\"\",\"\",$U$1)","v":{"$error":"#REF!"}},{"$f":"IF(#REF!=\"\",\"\",$V$1)","v":{"$error":"#REF!"}},{"$f":"IF(#REF!=\"\",\"\",$W$1)","v":{"$error":"#REF!"}},{"$f":"IF(#REF!=\"\",\"\",$X$1)","v":{"$error":"#REF!"}},{"$f":"IF(#REF!=\"\",\"\",$Y$1)","v":{"$error":"#REF!"}},{"$f":"IF(#REF!=\"\",\"\",$Z$1)","v":{"$error":"#REF!"}}]
[{"$f":"'Contact Information'!$C$6","v":0},{"$f":"'Contact Information'!$C$7","v":0},{"$f":"'Contact Information'!$C$8","v":0},{"$f":"'Contact Information'!$C$9","v":0},{"$f":"#REF!","v":{"$error":"#REF!"}},{"$f":"#REF!","v":{"$error":"#REF!"}},{"$f":"#REF!","v":{"$error":"#REF!"}},{"$f":"#REF!","v":{"$error":"#REF!"}},{"$f":"#REF!","v":{"$error":"#REF!"}},{"$f":"#REF!","v":{"$error":"#REF!"}},{"$f":"#REF!","v":{"$error":"#REF!"}},{"$f":"#REF!","v":{"$error":"#REF!"}},{"$f":"#REF!","v":{"$error":"#REF!"}},{"$f":"#REF!","v":{"$error":"#REF!"}},{"$f":"#REF!","v":{"$error":"#REF!"}},{"$f":"#REF!","v":{"$error":"#REF!"}},{"$f":"#REF!","v":{"$error":"#REF!"}},{"$f":"IF(#REF!=\"\",\"\",$R$1)","v":{"$error":"#REF!"}},{"$f":"IF(#REF!=\"\",\"\",$S$1)","v":{"$error":"#REF!"}},{"$f":"IF(#REF!=\"\",\"\",$T$1)","v":{"$error":"#REF!"}},{"$f":"IF(#REF!=\"\",\"\",$U$1)","v":{"$error":"#REF!"}},{"$f":"IF(#REF!=\"\",\"\",$V$1)","v":{"$error":"#REF!"}},{"$f":"IF(#REF!=\"\",\"\",$W$1)","v":{"$error":"#REF!"}},{"$f":"IF(#REF!=\"\",\"\",$X$1)","v":{"$error":"#REF!"}},{"$f":"IF(#REF!=\"\",\"\",$Y$1)","v":{"$error":"#REF!"}},{"$f":"IF(#REF!=\"\",\"\",$Z$1)","v":{"$error":"#REF!"}}]
[{"$f":"'Contact Information'!$C$6","v":0},{"$f":"'Contact Information'!$C$7","v":0},{"$f":"'Contact Information'!$C$8","v":0},{"$f":"'Contact Information'!$C$9","v":0},{"$f":"#REF!","v":{"$error":"#REF!"}},{"$f":"#REF!","v":{"$error":"#REF!"}},{"$f":"#REF!","v":{"$error":"#REF!"}},{"$f":"#REF!","v":{"$error":"#REF!"}},{"$f":"#REF!","v":{"$error":"#REF!"}},{"$f":"#REF!","v":{"$error":"#REF!"}},{"$f":"#REF!","v":{"$error":"#REF!"}},{"$f":"#REF!","v":{"$error":"#REF!"}},{"$f":"#REF!","v":{"$error":"#REF!"}},{"$f":"#REF!","v":{"$error":"#REF!"}},{"$f":"#REF!","v":{"$error":"#REF!"}},{"$f":"#REF!","v":{"$error":"#REF!"}},{"$f":"#REF!","v":{"$error":"#REF!"}},{"$f":"IF(#REF!=\"\",\"\",$R$1)","v":{"$error":"#REF!"}},{"$f":"IF(#REF!=\"\",\"\",$S$1)","v":{"$error":"#REF!"}},{"$f":"IF(#REF!=\"\",\"\",$T$1)","v":{"$error":"#REF!"}},{"$f":"IF(#REF!=\"\",\"\",$U$1)","v":{"$error":"#REF!"}},{"$f":"IF(#REF!=\"\",\"\",$V$1)","v":{"$error":"#REF!"}},{"$f":"IF(#REF!=\"\",\"\",$W$1)","v":{"$error":"#REF!"}},{"$f":"IF(#REF!=\"\",\"\",$X$1)","v":{"$error":"#REF!"}},{"$f":"IF(#REF!=\"\",\"\",$Y$1)","v":{"$error":"#REF!"}},{"$f":"IF(#REF!=\"\",\"\",$Z$1)","v":{"$error":"#REF!"}}]
[{"$f":"'Contact Information'!$C$6","v":0},{"$f":"'Contact Information'!$C$7","v":0},{"$f":"'Contact Information'!$C$8","v":0},{"$f":"'Contact Information'!$C$9","v":0},{"$f":"#REF!","v":{"$error":"#REF!"}},{"$f":"#REF!","v":{"$error":"#REF!"}},{"$f":"#REF!","v":{"$error":"#REF!"}},{"$f":"#REF!","v":{"$error":"#REF!"}},{"$f":"#REF!","v":{"$error":"#REF!"}},{"$f":"#REF!","v":{"$error":"#REF!"}},{"$f":"#REF!","v":{"$error":"#REF!"}},{"$f":"#REF!","v":{"$error":"#REF!"}},{"$f":"#REF!","v":{"$error":"#REF!"}},{"$f":"#REF!","v":{"$error":"#REF!"}},{"$f":"#REF!","v":{"$error":"#REF!"}},{"$f":"#REF!","v":{"$error":"#REF!"}},{"$f":"#REF!","v":{"$error":"#REF!"}},{"$f":"IF(#REF!=\"\",\"\",$R$1)","v":{"$error":"#REF!"}},{"$f":"IF(#REF!=\"\",\"\",$S$1)","v":{"$error":"#REF!"}},{"$f":"IF(#REF!=\"\",\"\",$T$1)","v":{"$error":"#REF!"}},{"$f":"IF(#REF!=\"\",\"\",$U$1)","v":{"$error":"#REF!"}},{"$f":"IF(#REF!=\"\",\"\",$V$1)","v":{"$error":"#REF!"}},{"$f":"IF(#REF!=\"\",\"\",$W$1)","v":{"$error":"#REF!"}},{"$f":"IF(#REF!=\"\",\"\",$X$1)","v":{"$error":"#REF!"}},{"$f":"IF(#REF!=\"\",\"\",$Y$1)","v":{"$error":"#REF!"}},{"$f":"IF(#REF!=\"\",\"\",$Z$1)","v":{"$error":"#REF!"}}]
[{"$f":"'Contact Information'!$C$6","v":0},{"$f":"'Contact Information'!$C$7","v":0},{"$f":"'Contact Information'!$C$8","v":0},{"$f":"'Contact Information'!$C$9","v":0},{"$f":"#REF!","v":{"$error":"#REF!"}},{"$f":"#REF!","v":{"$error":"#REF!"}},{"$f":"#REF!","v":{"$error":"#REF!"}},{"$f":"#REF!","v":{"$error":"#REF!"}},{"$f":"#REF!","v":{"$error":"#REF!"}},{"$f":"#REF!","v":{"$error":"#REF!"}},{"$f":"#REF!","v":{"$error":"#REF!"}},{"$f":"#REF!","v":{"$error":"#REF!"}},{"$f":"#REF!","v":{"$error":"#REF!"}},{"$f":"#REF!","v":{"$error":"#REF!"}},{"$f":"#REF!","v":{"$error":"#REF!"}},{"$f":"#REF!","v":{"$error":"#REF!"}},{"$f":"#REF!","v":{"$error":"#REF!"}},{"$f":"IF(#REF!=\"\",\"\",$R$1)","v":{"$error":"#REF!"}},{"$f":"IF(#REF!=\"\",\"\",$S$1)","v":{"$error":"#REF!"}},{"$f":"IF(#REF!=\"\",\"\",$T$1)","v":{"$error":"#REF!"}},{"$f":"IF(#REF!=\"\",\"\",$U$1)","v":{"$error":"#REF!"}},{"$f":"IF(#REF!=\"\",\"\",$V$1)","v":{"$error":"#REF!"}},{"$f":"IF(#REF!=\"\",\"\",$W$1)","v":{"$error":"#REF!"}},{"$f":"IF(#REF!=\"\",\"\",$X$1)","v":{"$error":"#REF!"}},{"$f":"IF(#REF!=\"\",\"\",$Y$1)","v":{"$error":"#REF!"}},{"$f":"IF(#REF!=\"\",\"\",$Z$1)","v":{"$error":"#REF!"}}]
[{"$f":"'Contact Information'!$C$6","v":0},{"$f":"'Contact Information'!$C$7","v":0},{"$f":"'Contact Information'!$C$8","v":0},{"$f":"'Contact Information'!$C$9","v":0},{"$f":"#REF!","v":{"$error":"#REF!"}},{"$f":"#REF!","v":{"$error":"#REF!"}},{"$f":"#REF!","v":{"$error":"#REF!"}},{"$f":"#REF!","v":{"$error":"#REF!"}},{"$f":"#REF!","v":{"$error":"#REF!"}},{"$f":"#REF!","v":{"$error":"#REF!"}},{"$f":"#REF!","v":{"$error":"#REF!"}},{"$f":"#REF!","v":{"$error":"#REF!"}},{"$f":"#REF!","v":{"$error":"#REF!"}},{"$f":"#REF!","v":{"$error":"#REF!"}},{"$f":"#REF!","v":{"$error":"#REF!"}},{"$f":"#REF!","v":{"$error":"#REF!"}},{"$f":"#REF!","v":{"$error":"#REF!"}},{"$f":"IF(#REF!=\"\",\"\",$R$1)","v":{"$error":"#REF!"}},{"$f":"IF(#REF!=\"\",\"\",$S$1)","v":{"$error":"#REF!"}},{"$f":"IF(#REF!=\"\",\"\",$T$1)","v":{"$error":"#REF!"}},{"$f":"IF(#REF!=\"\",\"\",$U$1)","v":{"$error":"#REF!"}},{"$f":"IF(#REF!=\"\",\"\",$V$1)","v":{"$error":"#REF!"}},{"$f":"IF(#REF!=\"\",\"\",$W$1)","v":{"$error":"#REF!"}},{"$f":"IF(#REF!=\"\",\"\",$X$1)","v":{"$error":"#REF!"}},{"$f":"IF(#REF!=\"\",\"\",$Y$1)","v":{"$error":"#REF!"}},{"$f":"IF(#REF!=\"\",\"\",$Z$1)","v":{"$error":"#REF!"}}]
[{"$f":"'Contact Information'!$C$6","v":0},{"$f":"'Contact Information'!$C$7","v":0},{"$f":"'Contact Information'!$C$8","v":0},{"$f":"'Contact Information'!$C$9","v":0},{"$f":"#REF!","v":{"$error":"#REF!"}},{"$f":"#REF!","v":{"$error":"#REF!"}},{"$f":"#REF!","v":{"$error":"#REF!"}},{"$f":"#REF!","v":{"$error":"#REF!"}},{"$f":"#REF!","v":{"$error":"#REF!"}},{"$f":"#REF!","v":{"$error":"#REF!"}},{"$f":"#REF!","v":{"$error":"#REF!"}},{"$f":"#REF!","v":{"$error":"#REF!"}},{"$f":"#REF!","v":{"$error":"#REF!"}},{"$f":"#REF!","v":{"$error":"#REF!"}},{"$f":"#REF!","v":{"$error":"#REF!"}},{"$f":"#REF!","v":{"$error":"#REF!"}},{"$f":"#REF!","v":{"$error":"#REF!"}},{"$f":"IF(#REF!=\"\",\"\",$R$1)","v":{"$error":"#REF!"}},{"$f":"IF(#REF!=\"\",\"\",$S$1)","v":{"$error":"#REF!"}},{"$f":"IF(#REF!=\"\",\"\",$T$1)","v":{"$error":"#REF!"}},{"$f":"IF(#REF!=\"\",\"\",$U$1)","v":{"$error":"#REF!"}},{"$f":"IF(#REF!=\"\",\"\",$V$1)","v":{"$error":"#REF!"}},{"$f":"IF(#REF!=\"\",\"\",$W$1)","v":{"$error":"#REF!"}},{"$f":"IF(#REF!=\"\",\"\",$X$1)","v":{"$error":"#REF!"}},{"$f":"IF(#REF!=\"\",\"\",$Y$1)","v":{"$error":"#REF!"}},{"$f":"IF(#REF!=\"\",\"\",$Z$1)","v":{"$error":"#REF!"}}]
[{"$f":"'Contact Information'!$C$6","v":0},{"$f":"'Contact Information'!$C$7","v":0},{"$f":"'Contact Information'!$C$8","v":0},{"$f":"'Contact Information'!$C$9","v":0},{"$f":"#REF!","v":{"$error":"#REF!"}},{"$f":"#REF!","v":{"$error":"#REF!"}},{"$f":"#REF!","v":{"$error":"#REF!"}},{"$f":"#REF!","v":{"$error":"#REF!"}},{"$f":"#REF!","v":{"$error":"#REF!"}},{"$f":"#REF!","v":{"$error":"#REF!"}},{"$f":"#REF!","v":{"$error":"#REF!"}},{"$f":"#REF!","v":{"$error":"#REF!"}},{"$f":"#REF!","v":{"$error":"#REF!"}},{"$f":"#REF!","v":{"$error":"#REF!"}},{"$f":"#REF!","v":{"$error":"#REF!"}},{"$f":"#REF!","v":{"$error":"#REF!"}},{"$f":"#REF!","v":{"$error":"#REF!"}},{"$f":"IF(#REF!=\"\",\"\",$R$1)","v":{"$error":"#REF!"}},{"$f":"IF(#REF!=\"\",\"\",$S$1)","v":{"$error":"#REF!"}},{"$f":"IF(#REF!=\"\",\"\",$T$1)","v":{"$error":"#REF!"}},{"$f":"IF(#REF!=\"\",\"\",$U$1)","v":{"$error":"#REF!"}},{"$f":"IF(#REF!=\"\",\"\",$V$1)","v":{"$error":"#REF!"}},{"$f":"IF(#REF!=\"\",\"\",$W$1)","v":{"$error":"#REF!"}},{"$f":"IF(#REF!=\"\",\"\",$X$1)","v":{"$error":"#REF!"}},{"$f":"IF(#REF!=\"\",\"\",$Y$1)","v":{"$error":"#REF!"}},{"$f":"IF(#REF!=\"\",\"\",$Z$1)","v":{"$error":"#REF!"}}]
[{"$f":"'Contact Information'!$C$6","v":0},{"$f":"'Contact Information'!$C$7","v":0},{"$f":"'Contact Information'!$C$8","v":0},{"$f":"'Contact Information'!$C$9","v":0},{"$f":"#REF!","v":{"$error":"#REF!"}},{"$f":"#REF!","v":{"$error":"#REF!"}},{"$f":"#REF!","v":{"$error":"#REF!"}},{"$f":"#REF!","v":{"$error":"#REF!"}},{"$f":"#REF!","v":{"$error":"#REF!"}},{"$f":"#REF!","v":{"$error":"#REF!"}},{"$f":"#REF!","v":{"$error":"#REF!"}},{"$f":"#REF!","v":{"$error":"#REF!"}},{"$f":"#REF!","v":{"$error":"#REF!"}},{"$f":"#REF!","v":{"$error":"#REF!"}},{"$f":"#REF!","v":{"$error":"#REF!"}},{"$f":"#REF!","v":{"$error":"#REF!"}},{"$f":"#REF!","v":{"$error":"#REF!"}},{"$f":"IF(#REF!=\"\",\"\",$R$1)","v":{"$error":"#REF!"}},{"$f":"IF(#REF!=\"\",\"\",$S$1)","v":{"$error":"#REF!"}},{"$f":"IF(#REF!=\"\",\"\",$T$1)","v":{"$error":"#REF!"}},{"$f":"IF(#REF!=\"\",\"\",$U$1)","v":{"$error":"#REF!"}},{"$f":"IF(#REF!=\"\",\"\",$V$1)","v":{"$error":"#REF!"}},{"$f":"IF(#REF!=\"\",\"\",$W$1)","v":{"$error":"#REF!"}},{"$f":"IF(#REF!=\"\",\"\",$X$1)","v":{"$error":"#REF!"}},{"$f":"IF(#REF!=\"\",\"\",$Y$1)","v":{"$error":"#REF!"}},{"$f":"IF(#REF!=\"\",\"\",$Z$1)","v":{"$error":"#REF!"}}]
[{"$f":"'Contact Information'!$C$6","v":0},{"$f":"'Contact Information'!$C$7","v":0},{"$f":"'Contact Information'!$C$8","v":0},{"$f":"'Contact Information'!$C$9","v":0},{"$f":"#REF!","v":{"$error":"#REF!"}},{"$f":"#REF!","v":{"$error":"#REF!"}},{"$f":"#REF!","v":{"$error":"#REF!"}},{"$f":"#REF!","v":{"$error":"#REF!"}},{"$f":"#REF!","v":{"$error":"#REF!"}},{"$f":"#REF!","v":{"$error":"#REF!"}},{"$f":"#REF!","v":{"$error":"#REF!"}},{"$f":"#REF!","v":{"$error":"#REF!"}},{"$f":"#REF!","v":{"$error":"#REF!"}},{"$f":"#REF!","v":{"$error":"#REF!"}},{"$f":"#REF!","v":{"$error":"#REF!"}},{"$f":"#REF!","v":{"$error":"#REF!"}},{"$f":"#REF!","v":{"$error":"#REF!"}},{"$f":"IF(#REF!=\"\",\"\",$R$1)","v":{"$error":"#REF!"}},{"$f":"IF(#REF!=\"\",\"\",$S$1)","v":{"$error":"#REF!"}},{"$f":"IF(#REF!=\"\",\"\",$T$1)","v":{"$error":"#REF!"}},{"$f":"IF(#REF!=\"\",\"\",$U$1)","v":{"$error":"#REF!"}},{"$f":"IF(#REF!=\"\",\"\",$V$1)","v":{"$error":"#REF!"}},{"$f":"IF(#REF!=\"\",\"\",$W$1)","v":{"$error":"#REF!"}},{"$f":"IF(#REF!=\"\",\"\",$X$1)","v":{"$error":"#REF!"}},{"$f":"IF(#REF!=\"\",\"\",$Y$1)","v":{"$error":"#REF!"}},{"$f":"IF(#REF!=\"\",\"\",$Z$1)","v":{"$error":"#REF!"}}]
[{"$f":"'Contact Information'!$C$6","v":0},{"$f":"'Contact Information'!$C$7","v":0},{"$f":"'Contact Information'!$C$8","v":0},{"$f":"'Contact Information'!$C$9","v":0},{"$f":"#REF!","v":{"$error":"#REF!"}},{"$f":"#REF!","v":{"$error":"#REF!"}},{"$f":"#REF!","v":{"$error":"#REF!"}},{"$f":"#REF!","v":{"$error":"#REF!"}},{"$f":"#REF!","v":{"$error":"#REF!"}},{"$f":"#REF!","v":{"$error":"#REF!"}},{"$f":"#REF!","v":{"$error":"#REF!"}},{"$f":"#REF!","v":{"$error":"#REF!"}},{"$f":"#REF!","v":{"$error":"#REF!"}},{"$f":"#REF!","v":{"$error":"#REF!"}},{"$f":"#REF!","v":{"$error":"#REF!"}},{"$f":"#REF!","v":{"$error":"#REF!"}},{"$f":"#REF!","v":{"$error":"#REF!"}},{"$f":"IF(#REF!=\"\",\"\",$R$1)","v":{"$error":"#REF!"}},{"$f":"IF(#REF!=\"\",\"\",$S$1)","v":{"$error":"#REF!"}},{"$f":"IF(#REF!=\"\",\"\",$T$1)","v":{"$error":"#REF!"}},{"$f":"IF(#REF!=\"\",\"\",$U$1)","v":{"$error":"#REF!"}},{"$f":"IF(#REF!=\"\",\"\",$V$1)","v":{"$error":"#REF!"}},{"$f":"IF(#REF!=\"\",\"\",$W$1)","v":{"$error":"#REF!"}},{"$f":"IF(#REF!=\"\",\"\",$X$1)","v":{"$error":"#REF!"}},{"$f":"IF(#REF!=\"\",\"\",$Y$1)","v":{"$error":"#REF!"}},{"$f":"IF(#REF!=\"\",\"\",$Z$1)","v":{"$error":"#REF!"}}]

{"sheet":"FullDatabase","index":8,"n_rows":8,"n_cols":36,"rows_kept":8,"cut":false,"hidden":true,"merged":[]}
["Organization/Agency","Contact Name","Position","Email","Funder","Funder Bureau/Division","Funding Source","NOFO/RFA Number","EHE Funding","Service Delivery Agency","Total Contract Award Amount","Funding Amount (Pass through)","Funding Amount (implementing)","Contract Start Date","Contract End Date","Contract Number","Budget Year","Estimated Annual Budget","Service Delivered","Type of Service","Annual Budget","Geographical Area","Priority Population","Clients Served","Units Delivered","Additional Details","HIV Diagnosis","Linkage to Care","Engagement or Retention in Care","Prescription of ART","Viral Suppression","Diagnose","Treat","Prevent","Respond","Subrecipients"]
[0,0,0,0,"CDC","Division of HIV Prevention","Comprehensive High-Impact HIV Prevention Programs for Young Men of Color Who have Sex with Men and Young Transgender Persons of Color","PS22-2203","No","Wonderful Community Center",1075000,350000,725000,"2022-07-01","2023-06-01","A34920",0,0,"AIDS Drug Assistance Program Treatments","Implementing",50000,"A","Transgender Persons of Color (AA/Hisp), African American Women and Men Non-MSM (Age 13-44)",750,0,0,"HIV Diagnosis","Linkage to Care","","","","Diagnose","","","","State of Joy Health Department"]
[0,0,0,0,"CDC","Division of HIV Prevention","Comprehensive High-Impact HIV Prevention Programs for Young Men of Color Who have Sex with Men and Young Transgender Persons of Color","PS22-2203","No","Wonderful Community Center",1075000,350000,725000,"2022-07-01","2023-06-01","A34920",0,0,"Outpatient/Ambulatory Health Services","Implementing",4300,"A","White MSM, Young (13-29) MSM of Color (AA/Hisp)",800,0,0,"","Linkage to Care","","","","Diagnose","","","","State of Joy Health Department"]
[0,0,0,0,"RWHAP","HAB","Ryan White HIV/AIDS Program Part C","HRSA-22-011","No","Wonderful Community Center",1800000,500000,1300000,"2022-01-01","2022-12-01",0,0,0,"Partner services","Implementing",45000,"B","Transgender Persons of Color (AA/Hisp), Hispanic",570,0,0,"HIV Diagnosis","","","Prescription of ART","","","Treat","","Respond"]
[0,0,0,0,"RWHAP","HAB","Ryan White HIV/AIDS Program Part C","HRSA-22-011","No","Wonderful Community Center",1800000,500000,1300000,"2022-01-01","2022-12-01",0,0,0,"AIDS Drug Assistance Program Treatments","Implementing",60000,"B","African American Women, Young (13-29) MSM of Color (AA/Hisp)",1020,0,0,"","","","Prescription of ART","","","","","Respond"]
[0,0,0,0,"HOPWA","HUD","KDHE","HOPWA-223-39","No","Wonderful Community Center",1614340,725340,889000,"2022-05-01","2023-04-01",0,0,0,"Mental Health Services","Implementing",28300,"A","African American Women and Men Non-MSM (Age 13-44), Young (13-29) MSM of Color (AA/Hisp)",890,0,0,"","Linkage to Care","Engagement or Retention in Care","","Viral Suppression","","Treat","","Respond"]
[0,0,0,0,"HOPWA","HUD","KDHE","HOPWA-223-39","No","Wonderful Community Center",1614340,725340,889000,"2022-05-01","2023-04-01",0,0,0,"Partner services","Implementing",7500,"B","White MSM",100,0,0,"","","Engagement or Retention in Care","","","","Treat","",""]
[0,0,0,0,"CDC","Division of HIV Prevention","Comprehensive High-Impact HIV Prevention Programs for Young Men of Color Who have Sex with Men and Young Transgender Persons of Color","PS22-2203","No","State of Joy Health Department",null,null,null,null,null,null,null,null,"Mental Health Services",null,573000,"A","Hispanic, Persons who inject drugs",430,0,0,"HIV Diagnosis","","Engagement or Retention in Care","","","","Treat","Prevent",""]

{"sheet":"TableDatabase","index":9,"n_rows":408,"n_cols":36,"rows_kept":408,"cut":false,"hidden":true,"merged":[]}
[]
["Organization/Agency","Contact Name","Position","Email","Funder","Funder Bureau/Division","Funding Source","NOFO/RFA Number","EHE Funding","Primary Recipient","Total Contract Award Amount","Funding Amount (Pass through)","Funding Amount (implementing)","Contract Start Date","Contract End Date","Contract Number","Budget Year","Estimated Annual Budget","Service Delivered","Type of Service","Annual Budget","Geographical Area","Priority Population","Clients Served","Units Delivered","Additional Details","HIV Diagnosis","Linkage to Care","Engagement or Retention in Care","Prescription of ART","Viral Suppression","Diagnose","Treat","Prevent","Respond","Subrecipients"]
[0,0,0,0,"CDC","Division of HIV Prevention","Comprehensive High-Impact HIV Prevention Programs for Young Men of Color Who have Sex with Men and Young Transgender Persons of Color","PS22-2203","No","Wonderful Community Center",1075000,350000,725000,"2022-07-01","2023-06-01","A34920",0,0,"AIDS Drug Assistance Program Treatments","Implementing",50000,"A","Transgender Persons of Color (AA/Hisp), African American Women and Men Non-MSM (Age 13-44)",750,0,0,"HIV Diagnosis","Linkage to Care","","","","Diagnose","","","","State of Joy Health Department"]
[0,0,0,0,"CDC","Division of HIV Prevention","Comprehensive High-Impact HIV Prevention Programs for Young Men of Color Who have Sex with Men and Young Transgender Persons of Color","PS22-2203","No","Wonderful Community Center",1075000,350000,725000,"2022-07-01","2023-06-01","A34920",0,0,"Outpatient/Ambulatory Health Services","Implementing",4300,"A","White MSM, Young (13-29) MSM of Color (AA/Hisp)",800,0,0,"","Linkage to Care","","","","Diagnose","","","","State of Joy Health Department"]
[0,0,0,0,"0","0","0","0","0","0",0,0,0,"00:00:00","00:00:00",0,0,0,"0","0",0,"12/30/1899 12:00:00 AM","12/30/1899 12:00:00 AM",0,0,0,"","","","","","","","","",0]
[0,0,0,0,"0","0","0","0","0","0",0,0,0,"00:00:00","00:00:00",0,0,0,"0","0",0,"12/30/1899 12:00:00 AM","12/30/1899 12:00:00 AM",0,0,0,"","","","","","","","","",0]
[0,0,0,0,"0","0","0","0","0","0",0,0,0,"00:00:00","00:00:00",0,0,0,"0","0",0,"12/30/1899 12:00:00 AM","12/30/1899 12:00:00 AM",0,0,0,"","","","","","","","","",0]
[0,0,0,0,"0","0","0","0","0","0",0,0,0,"00:00:00","00:00:00",0,0,0,"0","0",0,"12/30/1899 12:00:00 AM","12/30/1899 12:00:00 AM",0,0,0,"","","","","","","","","",0]
[0,0,0,0,"0","0","0","0","0","0",0,0,0,"00:00:00","00:00:00",0,0,0,"0","0",0,"12/30/1899 12:00:00 AM","12/30/1899 12:00:00 AM",0,0,0,"","","","","","","","","",0]
[0,0,0,0,"0","0","0","0","0","0",0,0,0,"00:00:00","00:00:00",0,0,0,"0","0",0,"12/30/1899 12:00:00 AM","12/30/1899 12:00:00 AM",0,0,0,"","","","","","","","","",0]
[0,0,0,0,"0","0","0","0","0","0",0,0,0,"00:00:00","00:00:00",0,0,0,"0","0",0,"12/30/1899 12:00:00 AM","12/30/1899 12:00:00 AM",0,0,0,"","","","","","","","","",0]
[0,0,0,0,"0","0","0","0","0","0",0,0,0,"00:00:00","00:00:00",0,0,0,"0","0",0,"12/30/1899 12:00:00 AM","12/30/1899 12:00:00 AM",0,0,0,"","","","","","","","","",0]
[0,0,0,0,"0","0","0","0","0","0",0,0,0,"00:00:00","00:00:00",0,0,0,"0","0",0,"12/30/1899 12:00:00 AM","12/30/1899 12:00:00 AM",0,0,0,"","","","","","","","","",0]
[0,0,0,0,"0","0","0","0","0","0",0,0,0,"00:00:00","00:00:00",0,0,0,"0","0",0,"12/30/1899 12:00:00 AM","12/30/1899 12:00:00 AM",0,0,0,"","","","","","","","","",0]
[0,0,0,0,"0","0","0","0","0","0",0,0,0,"00:00:00","00:00:00",0,0,0,"0","0",0,"12/30/1899 12:00:00 AM","12/30/1899 12:00:00 AM",0,0,0,"","","","","","","","","",0]
[0,0,0,0,"0","0","0","0","0","0",0,0,0,"00:00:00","00:00:00",0,0,0,"0","0",0,"12/30/1899 12:00:00 AM","12/30/1899 12:00:00 AM",0,0,0,"","","","","","","","","",0]
[0,0,0,0,"0","0","0","0","0","0",0,0,0,"00:00:00","00:00:00",0,0,0,"0","0",0,"12/30/1899 12:00:00 AM","12/30/1899 12:00:00 AM",0,0,0,"","","","","","","","","",0]
[0,0,0,0,"0","0","0","0","0","0",0,0,0,"00:00:00","00:00:00",0,0,0,"0","0",0,"12/30/1899 12:00:00 AM","12/30/1899 12:00:00 AM",0,0,0,"","","","","","","","","",0]
[0,0,0,0,"0","0","0","0","0","0",0,0,0,"00:00:00","00:00:00",0,0,0,"0","0",0,"12/30/1899 12:00:00 AM","12/30/1899 12:00:00 AM",0,0,0,"","","","","","","","","",0]
[0,0,0,0,"0","0","0","0","0","0",0,0,0,"00:00:00","00:00:00",0,0,0,"0","0",0,"12/30/1899 12:00:00 AM","12/30/1899 12:00:00 AM",0,0,0,"","","","","","","","","",0]
[0,0,0,0,"0","0","0","0","0","0",0,0,0,"00:00:00","00:00:00",0,0,0,"0","0",0,"12/30/1899 12:00:00 AM","12/30/1899 12:00:00 AM",0,0,0,"","","","","","","","","",0]
[0,0,0,0,"0","0","0","0","0","0",0,0,0,"00:00:00","00:00:00",0,0,0,"0","0",0,"12/30/1899 12:00:00 AM","12/30/1899 12:00:00 AM",0,0,0,"","","","","","","","","",0]
[0,0,0,0,"0","0","0","0","0","0",0,0,0,"00:00:00","00:00:00",0,0,0,"0","0",0,"12/30/1899 12:00:00 AM","12/30/1899 12:00:00 AM",0,0,0,"","","","","","","","","",0]
[0,0,0,0,"0","0","0","0","0","0",0,0,0,"00:00:00","00:00:00",0,0,0,"0","0",0,"12/30/1899 12:00:00 AM","12/30/1899 12:00:00 AM",0,0,0,"","","","","","","","","",0]
[0,0,0,0,"0","0","0","0","0","0",0,0,0,"00:00:00","00:00:00",0,0,0,"0","0",0,"12/30/1899 12:00:00 AM","12/30/1899 12:00:00 AM",0,0,0,"","","","","","","","","",0]
[0,0,0,0,"0","0","0","0","0","0",0,0,0,"00:00:00","00:00:00",0,0,0,"0","0",0,"12/30/1899 12:00:00 AM","12/30/1899 12:00:00 AM",0,0,0,"","","","","","","","","",0]
[0,0,0,0,"0","0","0","0","0","0",0,0,0,"00:00:00","00:00:00",0,0,0,"0","0",0,"12/30/1899 12:00:00 AM","12/30/1899 12:00:00 AM",0,0,0,"","","","","","","","","",0]
[0,0,0,0,"0","0","0","0","0","0",0,0,0,"00:00:00","00:00:00",0,0,0,"0","0",0,"12/30/1899 12:00:00 AM","12/30/1899 12:00:00 AM",0,0,0,"","","","","","","","","",0]
[0,0,0,0,"0","0","0","0","0","0",0,0,0,"00:00:00","00:00:00",0,0,0,"0","0",0,"12/30/1899 12:00:00 AM","12/30/1899 12:00:00 AM",0,0,0,"","","","","","","","","",0]
[0,0,0,0,"0","0","0","0","0","0",0,0,0,"00:00:00","00:00:00",0,0,0,"0","0",0,"12/30/1899 12:00:00 AM","12/30/1899 12:00:00 AM",0,0,0,"","","","","","","","","",0]
[0,0,0,0,"0","0","0","0","0","0",0,0,0,"00:00:00","00:00:00",0,0,0,"0","0",0,"12/30/1899 12:00:00 AM","12/30/1899 12:00:00 AM",0,0,0,"","","","","","","","","",0]
[0,0,0,0,"0","0","0","0","0","0",0,0,0,"00:00:00","00:00:00",0,0,0,"0","0",0,"12/30/1899 12:00:00 AM","12/30/1899 12:00:00 AM",0,0,0,"","","","","","","","","",0]
[0,0,0,0,"0","0","0","0","0","0",0,0,0,"00:00:00","00:00:00",0,0,0,"0","0",0,"12/30/1899 12:00:00 AM","12/30/1899 12:00:00 AM",0,0,0,"","","","","","","","","",0]
[0,0,0,0,"0","0","0","0","0","0",0,0,0,"00:00:00","00:00:00",0,0,0,"0","0",0,"12/30/1899 12:00:00 AM","12/30/1899 12:00:00 AM",0,0,0,"","","","","","","","","",0]
[0,0,0,0,"0","0","0","0","0","0",0,0,0,"00:00:00","00:00:00",0,0,0,"0","0",0,"12/30/1899 12:00:00 AM","12/30/1899 12:00:00 AM",0,0,0,"","","","","","","","","",0]
[0,0,0,0,"0","0","0","0","0","0",0,0,0,"00:00:00","00:00:00",0,0,0,"0","0",0,"12/30/1899 12:00:00 AM","12/30/1899 12:00:00 AM",0,0,0,"","","","","","","","","",0]
[0,0,0,0,"0","0","0","0","0","0",0,0,0,"00:00:00","00:00:00",0,0,0,"0","0",0,"12/30/1899 12:00:00 AM","12/30/1899 12:00:00 AM",0,0,0,"","","","","","","","","",0]
[0,0,0,0,"0","0","0","0","0","0",0,0,0,"00:00:00","00:00:00",0,0,0,"0","0",0,"12/30/1899 12:00:00 AM","12/30/1899 12:00:00 AM",0,0,0,"","","","","","","","","",0]
[0,0,0,0,"0","0","0","0","0","0",0,0,0,"00:00:00","00:00:00",0,0,0,"0","0",0,"12/30/1899 12:00:00 AM","12/30/1899 12:00:00 AM",0,0,0,"","","","","","","","","",0]
[0,0,0,0,"0","0","0","0","0","0",0,0,0,"00:00:00","00:00:00",0,0,0,"0","0",0,"12/30/1899 12:00:00 AM","12/30/1899 12:00:00 AM",0,0,0,"","","","","","","","","",0]
[0,0,0,0,"0","0","0","0","0","0",0,0,0,"00:00:00","00:00:00",0,0,0,"0","0",0,"12/30/1899 12:00:00 AM","12/30/1899 12:00:00 AM",0,0,0,"","","","","","","","","",0]
[0,0,0,0,"0","0","0","0","0","0",0,0,0,"00:00:00","00:00:00",0,0,0,"0","0",0,"12/30/1899 12:00:00 AM","12/30/1899 12:00:00 AM",0,0,0,"","","","","","","","","",0]
[0,0,0,0,"0","0","0","0","0","0",0,0,0,"00:00:00","00:00:00",0,0,0,"0","0",0,"12/30/1899 12:00:00 AM","12/30/1899 12:00:00 AM",0,0,0,"","","","","","","","","",0]
[0,0,0,0,"0","0","0","0","0","0",0,0,0,"00:00:00","00:00:00",0,0,0,"0","0",0,"12/30/1899 12:00:00 AM","12/30/1899 12:00:00 AM",0,0,0,"","","","","","","","","",0]
[0,0,0,0,"0","0","0","0","0","0",0,0,0,"00:00:00","00:00:00",0,0,0,"0","0",0,"12/30/1899 12:00:00 AM","12/30/1899 12:00:00 AM",0,0,0,"","","","","","","","","",0]
[0,0,0,0,"0","0","0","0","0","0",0,0,0,"00:00:00","00:00:00",0,0,0,"0","0",0,"12/30/1899 12:00:00 AM","12/30/1899 12:00:00 AM",0,0,0,"","","","","","","","","",0]
[0,0,0,0,"0","0","0","0","0","0",0,0,0,"00:00:00","00:00:00",0,0,0,"0","0",0,"12/30/1899 12:00:00 AM","12/30/1899 12:00:00 AM",0,0,0,"","","","","","","","","",0]
[0,0,0,0,"0","0","0","0","0","0",0,0,0,"00:00:00","00:00:00",0,0,0,"0","0",0,"12/30/1899 12:00:00 AM","12/30/1899 12:00:00 AM",0,0,0,"","","","","","","","","",0]
[0,0,0,0,"0","0","0","0","0","0",0,0,0,"00:00:00","00:00:00",0,0,0,"0","0",0,"12/30/1899 12:00:00 AM","12/30/1899 12:00:00 AM",0,0,0,"","","","","","","","","",0]
[0,0,0,0,"0","0","0","0","0","0",0,0,0,"00:00:00","00:00:00",0,0,0,"0","0",0,"12/30/1899 12:00:00 AM","12/30/1899 12:00:00 AM",0,0,0,"","","","","","","","","",0]
[0,0,0,0,"0","0","0","0","0","0",0,0,0,"00:00:00","00:00:00",0,0,0,"0","0",0,"12/30/1899 12:00:00 AM","12/30/1899 12:00:00 AM",0,0,0,"","","","","","","","","",0]
[0,0,0,0,"0","0","0","0","0","0",0,0,0,"00:00:00","00:00:00",0,0,0,"0","0",0,"12/30/1899 12:00:00 AM","12/30/1899 12:00:00 AM",0,0,0,"","","","","","","","","",0]
[0,0,0,0,"0","0","0","0","0","0",0,0,0,"00:00:00","00:00:00",0,0,0,"0","0",0,"12/30/1899 12:00:00 AM","12/30/1899 12:00:00 AM",0,0,0,"","","","","","","","","",0]
[0,0,0,0,"0","0","0","0","0","0",0,0,0,"00:00:00","00:00:00",0,0,0,"0","0",0,"12/30/1899 12:00:00 AM","12/30/1899 12:00:00 AM",0,0,0,"","","","","","","","","",0]
[0,0,0,0,"0","0","0","0","0","0",0,0,0,"00:00:00","00:00:00",0,0,0,"0","0",0,"12/30/1899 12:00:00 AM","12/30/1899 12:00:00 AM",0,0,0,"","","","","","","","","",0]
[0,0,0,0,"0","0","0","0","0","0",0,0,0,"00:00:00","00:00:00",0,0,0,"0","0",0,"12/30/1899 12:00:00 AM","12/30/1899 12:00:00 AM",0,0,0,"","","","","","","","","",0]
[0,0,0,0,"0","0","0","0","0","0",0,0,0,"00:00:00","00:00:00",0,0,0,"0","0",0,"12/30/1899 12:00:00 AM","12/30/1899 12:00:00 AM",0,0,0,"","","","","","","","","",0]
[0,0,0,0,"0","0","0","0","0","0",0,0,0,"00:00:00","00:00:00",0,0,0,"0","0",0,"12/30/1899 12:00:00 AM","12/30/1899 12:00:00 AM",0,0,0,"","","","","","","","","",0]
[0,0,0,0,"0","0","0","0","0","0",0,0,0,"00:00:00","00:00:00",0,0,0,"0","0",0,"12/30/1899 12:00:00 AM","12/30/1899 12:00:00 AM",0,0,0,"","","","","","","","","",0]
[0,0,0,0,"0","0","0","0","0","0",0,0,0,"00:00:00","00:00:00",0,0,0,"0","0",0,"12/30/1899 12:00:00 AM","12/30/1899 12:00:00 AM",0,0,0,"","","","","","","","","",0]
[0,0,0,0,"0","0","0","0","0","0",0,0,0,"00:00:00","00:00:00",0,0,0,"0","0",0,"12/30/1899 12:00:00 AM","12/30/1899 12:00:00 AM",0,0,0,"","","","","","","","","",0]
[0,0,0,0,"0","0","0","0","0","0",0,0,0,"00:00:00","00:00:00",0,0,0,"0","0",0,"12/30/1899 12:00:00 AM","12/30/1899 12:00:00 AM",0,0,0,"","","","","","","","","",0]
[0,0,0,0,"0","0","0","0","0","0",0,0,0,"00:00:00","00:00:00",0,0,0,"0","0",0,"12/30/1899 12:00:00 AM","12/30/1899 12:00:00 AM",0,0,0,"","","","","","","","","",0]
[0,0,0,0,"0","0","0","0","0","0",0,0,0,"00:00:00","00:00:00",0,0,0,"0","0",0,"12/30/1899 12:00:00 AM","12/30/1899 12:00:00 AM",0,0,0,"","","","","","","","","",0]
[0,0,0,0,"0","0","0","0","0","0",0,0,0,"00:00:00","00:00:00",0,0,0,"0","0",0,"12/30/1899 12:00:00 AM","12/30/1899 12:00:00 AM",0,0,0,"","","","","","","","","",0]
[0,0,0,0,"0","0","0","0","0","0",0,0,0,"00:00:00","00:00:00",0,0,0,"0","0",0,"12/30/1899 12:00:00 AM","12/30/1899 12:00:00 AM",0,0,0,"","","","","","","","","",0]
[0,0,0,0,"0","0","0","0","0","0",0,0,0,"00:00:00","00:00:00",0,0,0,"0","0",0,"12/30/1899 12:00:00 AM","12/30/1899 12:00:00 AM",0,0,0,"","","","","","","","","",0]
[0,0,0,0,"0","0","0","0","0","0",0,0,0,"00:00:00","00:00:00",0,0,0,"0","0",0,"12/30/1899 12:00:00 AM","12/30/1899 12:00:00 AM",0,0,0,"","","","","","","","","",0]
[0,0,0,0,"0","0","0","0","0","0",0,0,0,"00:00:00","00:00:00",0,0,0,"0","0",0,"12/30/1899 12:00:00 AM","12/30/1899 12:00:00 AM",0,0,0,"","","","","","","","","",0]
[0,0,0,0,"0","0","0","0","0","0",0,0,0,"00:00:00","00:00:00",0,0,0,"0","0",0,"12/30/1899 12:00:00 AM","12/30/1899 12:00:00 AM",0,0,0,"","","","","","","","","",0]
[0,0,0,0,"0","0","0","0","0","0",0,0,0,"00:00:00","00:00:00",0,0,0,"0","0",0,"12/30/1899 12:00:00 AM","12/30/1899 12:00:00 AM",0,0,0,"","","","","","","","","",0]
[0,0,0,0,"0","0","0","0","0","0",0,0,0,"00:00:00","00:00:00",0,0,0,"0","0",0,"12/30/1899 12:00:00 AM","12/30/1899 12:00:00 AM",0,0,0,"","","","","","","","","",0]
[0,0,0,0,"0","0","0","0","0","0",0,0,0,"00:00:00","00:00:00",0,0,0,"0","0",0,"12/30/1899 12:00:00 AM","12/30/1899 12:00:00 AM",0,0,0,"","","","","","","","","",0]
[0,0,0,0,"0","0","0","0","0","0",0,0,0,"00:00:00","00:00:00",0,0,0,"0","0",0,"12/30/1899 12:00:00 AM","12/30/1899 12:00:00 AM",0,0,0,"","","","","","","","","",0]
[0,0,0,0,"0","0","0","0","0","0",0,0,0,"00:00:00","00:00:00",0,0,0,"0","0",0,"12/30/1899 12:00:00 AM","12/30/1899 12:00:00 AM",0,0,0,"","","","","","","","","",0]
[0,0,0,0,"0","0","0","0","0","0",0,0,0,"00:00:00","00:00:00",0,0,0,"0","0",0,"12/30/1899 12:00:00 AM","12/30/1899 12:00:00 AM",0,0,0,"","","","","","","","","",0]
[0,0,0,0,"0","0","0","0","0","0",0,0,0,"00:00:00","00:00:00",0,0,0,"0","0",0,"12/30/1899 12:00:00 AM","12/30/1899 12:00:00 AM",0,0,0,"","","","","","","","","",0]
[0,0,0,0,"0","0","0","0","0","0",0,0,0,"00:00:00","00:00:00",0,0,0,"0","0",0,"12/30/1899 12:00:00 AM","12/30/1899 12:00:00 AM",0,0,0,"","","","","","","","","",0]
[0,0,0,0,"0","0","0","0","0","0",0,0,0,"00:00:00","00:00:00",0,0,0,"0","0",0,"12/30/1899 12:00:00 AM","12/30/1899 12:00:00 AM",0,0,0,"","","","","","","","","",0]
[0,0,0,0,"0","0","0","0","0","0",0,0,0,"00:00:00","00:00:00",0,0,0,"0","0",0,"12/30/1899 12:00:00 AM","12/30/1899 12:00:00 AM",0,0,0,"","","","","","","","","",0]
[0,0,0,0,"0","0","0","0","0","0",0,0,0,"00:00:00","00:00:00",0,0,0,"0","0",0,"12/30/1899 12:00:00 AM","12/30/1899 12:00:00 AM",0,0,0,"","","","","","","","","",0]
[0,0,0,0,"0","0","0","0","0","0",0,0,0,"00:00:00","00:00:00",0,0,0,"0","0",0,"12/30/1899 12:00:00 AM","12/30/1899 12:00:00 AM",0,0,0,"","","","","","","","","",0]
[0,0,0,0,"0","0","0","0","0","0",0,0,0,"00:00:00","00:00:00",0,0,0,"0","0",0,"12/30/1899 12:00:00 AM","12/30/1899 12:00:00 AM",0,0,0,"","","","","","","","","",0]
[0,0,0,0,"0","0","0","0","0","0",0,0,0,"00:00:00","00:00:00",0,0,0,"0","0",0,"12/30/1899 12:00:00 AM","12/30/1899 12:00:00 AM",0,0,0,"","","","","","","","","",0]
[0,0,0,0,"0","0","0","0","0","0",0,0,0,"00:00:00","00:00:00",0,0,0,"0","0",0,"12/30/1899 12:00:00 AM","12/30/1899 12:00:00 AM",0,0,0,"","","","","","","","","",0]
[0,0,0,0,"0","0","0","0","0","0",0,0,0,"00:00:00","00:00:00",0,0,0,"0","0",0,"12/30/1899 12:00:00 AM","12/30/1899 12:00:00 AM",0,0,0,"","","","","","","","","",0]
[0,0,0,0,"0","0","0","0","0","0",0,0,0,"00:00:00","00:00:00",0,0,0,"0","0",0,"12/30/1899 12:00:00 AM","12/30/1899 12:00:00 AM",0,0,0,"","","","","","","","","",0]
[0,0,0,0,"0","0","0","0","0","0",0,0,0,"00:00:00","00:00:00",0,0,0,"0","0",0,"12/30/1899 12:00:00 AM","12/30/1899 12:00:00 AM",0,0,0,"","","","","","","","","",0]
[0,0,0,0,"0","0","0","0","0","0",0,0,0,"00:00:00","00:00:00",0,0,0,"0","0",0,"12/30/1899 12:00:00 AM","12/30/1899 12:00:00 AM",0,0,0,"","","","","","","","","",0]
[0,0,0,0,"0","0","0","0","0","0",0,0,0,"00:00:00","00:00:00",0,0,0,"0","0",0,"12/30/1899 12:00:00 AM","12/30/1899 12:00:00 AM",0,0,0,"","","","","","","","","",0]
[0,0,0,0,"0","0","0","0","0","0",0,0,0,"00:00:00","00:00:00",0,0,0,"0","0",0,"12/30/1899 12:00:00 AM","12/30/1899 12:00:00 AM",0,0,0,"","","","","","","","","",0]
[0,0,0,0,"0","0","0","0","0","0",0,0,0,"00:00:00","00:00:00",0,0,0,"0","0",0,"12/30/1899 12:00:00 AM","12/30/1899 12:00:00 AM",0,0,0,"","","","","","","","","",0]
[0,0,0,0,"0","0","0","0","0","0",0,0,0,"00:00:00","00:00:00",0,0,0,"0","0",0,"12/30/1899 12:00:00 AM","12/30/1899 12:00:00 AM",0,0,0,"","","","","","","","","",0]
[0,0,0,0,"0","0","0","0","0","0",0,0,0,"00:00:00","00:00:00",0,0,0,"0","0",0,"12/30/1899 12:00:00 AM","12/30/1899 12:00:00 AM",0,0,0,"","","","","","","","","",0]
[0,0,0,0,"0","0","0","0","0","0",0,0,0,"00:00:00","00:00:00",0,0,0,"0","0",0,"12/30/1899 12:00:00 AM","12/30/1899 12:00:00 AM",0,0,0,"","","","","","","","","",0]
[0,0,0,0,"0","0","0","0","0","0",0,0,0,"00:00:00","00:00:00",0,0,0,"0","0",0,"12/30/1899 12:00:00 AM","12/30/1899 12:00:00 AM",0,0,0,"","","","","","","","","",0]
[0,0,0,0,"0","0","0","0","0","0",0,0,0,"00:00:00","00:00:00",0,0,0,"0","0",0,"12/30/1899 12:00:00 AM","12/30/1899 12:00:00 AM",0,0,0,"","","","","","","","","",0]
[0,0,0,0,"0","0","0","0","0","0",0,0,0,"00:00:00","00:00:00",0,0,0,"0","0",0,"12/30/1899 12:00:00 AM","12/30/1899 12:00:00 AM",0,0,0,"","","","","","","","","",0]
[0,0,0,0,"0","0","0","0","0","0",0,0,0,"00:00:00","00:00:00",0,0,0,"0","0",0,"12/30/1899 12:00:00 AM","12/30/1899 12:00:00 AM",0,0,0,"","","","","","","","","",0]
[0,0,0,0,"0","0","0","0","0","0",0,0,0,"00:00:00","00:00:00",0,0,0,"0","0",0,"12/30/1899 12:00:00 AM","12/30/1899 12:00:00 AM",0,0,0,"","","","","","","","","",0]
[0,0,0,0,"0","0","0","0","0","0",0,0,0,"00:00:00","00:00:00",0,0,0,"0","0",0,"12/30/1899 12:00:00 AM","12/30/1899 12:00:00 AM",0,0,0,"","","","","","","","","",0]
[0,0,0,0,"0","0","0","0","0","0",0,0,0,"00:00:00","00:00:00",0,0,0,"0","0",0,"12/30/1899 12:00:00 AM","12/30/1899 12:00:00 AM",0,0,0,"","","","","","","","","",0]
[0,0,0,0,"0","0","0","0","0","0",0,0,0,"00:00:00","00:00:00",0,0,0,"0","0",0,"12/30/1899 12:00:00 AM","12/30/1899 12:00:00 AM",0,0,0,"","","","","","","","","",0]
[0,0,0,0,"0","0","0","0","0","0",0,0,0,"00:00:00","00:00:00",0,0,0,"0","0",0,"12/30/1899 12:00:00 AM","12/30/1899 12:00:00 AM",0,0,0,"","","","","","","","","",0]
[0,0,0,0,"0","0","0","0","0","0",0,0,0,"00:00:00","00:00:00",0,0,0,"0","0",0,"12/30/1899 12:00:00 AM","12/30/1899 12:00:00 AM",0,0,0,"","","","","","","","","",0]
[0,0,0,0,"0","0","0","0","0","0",0,0,0,"00:00:00","00:00:00",0,0,0,"0","0",0,"12/30/1899 12:00:00 AM","12/30/1899 12:00:00 AM",0,0,0,"","","","","","","","","",0]
[0,0,0,0,"0","0","0","0","0","0",0,0,0,"00:00:00","00:00:00",0,0,0,"0","0",0,"12/30/1899 12:00:00 AM","12/30/1899 12:00:00 AM",0,0,0,"","","","","","","","","",0]
[0,0,0,0,"0","0","0","0","0","0",0,0,0,"00:00:00","00:00:00",0,0,0,"0","0",0,"12/30/1899 12:00:00 AM","12/30/1899 12:00:00 AM",0,0,0,"","","","","","","","","",0]
[0,0,0,0,"0","0","0","0","0","0",0,0,0,"00:00:00","00:00:00",0,0,0,"0","0",0,"12/30/1899 12:00:00 AM","12/30/1899 12:00:00 AM",0,0,0,"","","","","","","","","",0]
[0,0,0,0,"0","0","0","0","0","0",0,0,0,"00:00:00","00:00:00",0,0,0,"0","0",0,"12/30/1899 12:00:00 AM","12/30/1899 12:00:00 AM",0,0,0,"","","","","","","","","",0]
[0,0,0,0,"0","0","0","0","0","0",0,0,0,"00:00:00","00:00:00",0,0,0,"0","0",0,"12/30/1899 12:00:00 AM","12/30/1899 12:00:00 AM",0,0,0,"","","","","","","","","",0]
[0,0,0,0,"0","0","0","0","0","0",0,0,0,"00:00:00","00:00:00",0,0,0,"0","0",0,"12/30/1899 12:00:00 AM","12/30/1899 12:00:00 AM",0,0,0,"","","","","","","","","",0]
[0,0,0,0,"0","0","0","0","0","0",0,0,0,"00:00:00","00:00:00",0,0,0,"0","0",0,"12/30/1899 12:00:00 AM","12/30/1899 12:00:00 AM",0,0,0,"","","","","","","","","",0]
[0,0,0,0,"0","0","0","0","0","0",0,0,0,"00:00:00","00:00:00",0,0,0,"0","0",0,"12/30/1899 12:00:00 AM","12/30/1899 12:00:00 AM",0,0,0,"","","","","","","","","",0]
[0,0,0,0,"0","0","0","0","0","0",0,0,0,"00:00:00","00:00:00",0,0,0,"0","0",0,"12/30/1899 12:00:00 AM","12/30/1899 12:00:00 AM",0,0,0,"","","","","","","","","",0]
[0,0,0,0,"0","0","0","0","0","0",0,0,0,"00:00:00","00:00:00",0,0,0,"0","0",0,"12/30/1899 12:00:00 AM","12/30/1899 12:00:00 AM",0,0,0,"","","","","","","","","",0]
[0,0,0,0,"0","0","0","0","0","0",0,0,0,"00:00:00","00:00:00",0,0,0,"0","0",0,"12/30/1899 12:00:00 AM","12/30/1899 12:00:00 AM",0,0,0,"","","","","","","","","",0]
[0,0,0,0,"0","0","0","0","0","0",0,0,0,"00:00:00","00:00:00",0,0,0,"0","0",0,"12/30/1899 12:00:00 AM","12/30/1899 12:00:00 AM",0,0,0,"","","","","","","","","",0]
[0,0,0,0,"0","0","0","0","0","0",0,0,0,"00:00:00","00:00:00",0,0,0,"0","0",0,"12/30/1899 12:00:00 AM","12/30/1899 12:00:00 AM",0,0,0,"","","","","","","","","",0]
[0,0,0,0,"0","0","0","0","0","0",0,0,0,"00:00:00","00:00:00",0,0,0,"0","0",0,"12/30/1899 12:00:00 AM","12/30/1899 12:00:00 AM",0,0,0,"","","","","","","","","",0]
[0,0,0,0,"0","0","0","0","0","0",0,0,0,"00:00:00","00:00:00",0,0,0,"0","0",0,"12/30/1899 12:00:00 AM","12/30/1899 12:00:00 AM",0,0,0,"","","","","","","","","",0]
[0,0,0,0,"0","0","0","0","0","0",0,0,0,"00:00:00","00:00:00",0,0,0,"0","0",0,"12/30/1899 12:00:00 AM","12/30/1899 12:00:00 AM",0,0,0,"","","","","","","","","",0]
[0,0,0,0,"0","0","0","0","0","0",0,0,0,"00:00:00","00:00:00",0,0,0,"0","0",0,"12/30/1899 12:00:00 AM","12/30/1899 12:00:00 AM",0,0,0,"","","","","","","","","",0]
[0,0,0,0,"0","0","0","0","0","0",0,0,0,"00:00:00","00:00:00",0,0,0,"0","0",0,"12/30/1899 12:00:00 AM","12/30/1899 12:00:00 AM",0,0,0,"","","","","","","","","",0]
[0,0,0,0,"0","0","0","0","0","0",0,0,0,"00:00:00","00:00:00",0,0,0,"0","0",0,"12/30/1899 12:00:00 AM","12/30/1899 12:00:00 AM",0,0,0,"","","","","","","","","",0]
[0,0,0,0,"0","0","0","0","0","0",0,0,0,"00:00:00","00:00:00",0,0,0,"0","0",0,"12/30/1899 12:00:00 AM","12/30/1899 12:00:00 AM",0,0,0,"","","","","","","","","",0]
[0,0,0,0,"0","0","0","0","0","0",0,0,0,"00:00:00","00:00:00",0,0,0,"0","0",0,"12/30/1899 12:00:00 AM","12/30/1899 12:00:00 AM",0,0,0,"","","","","","","","","",0]
[0,0,0,0,"0","0","0","0","0","0",0,0,0,"00:00:00","00:00:00",0,0,0,"0","0",0,"12/30/1899 12:00:00 AM","12/30/1899 12:00:00 AM",0,0,0,"","","","","","","","","",0]
[0,0,0,0,"0","0","0","0","0","0",0,0,0,"00:00:00","00:00:00",0,0,0,"0","0",0,"12/30/1899 12:00:00 AM","12/30/1899 12:00:00 AM",0,0,0,"","","","","","","","","",0]
[0,0,0,0,"0","0","0","0","0","0",0,0,0,"00:00:00","00:00:00",0,0,0,"0","0",0,"12/30/1899 12:00:00 AM","12/30/1899 12:00:00 AM",0,0,0,"","","","","","","","","",0]
[0,0,0,0,"0","0","0","0","0","0",0,0,0,"00:00:00","00:00:00",0,0,0,"0","0",0,"12/30/1899 12:00:00 AM","12/30/1899 12:00:00 AM",0,0,0,"","","","","","","","","",0]
[0,0,0,0,"0","0","0","0","0","0",0,0,0,"00:00:00","00:00:00",0,0,0,"0","0",0,"12/30/1899 12:00:00 AM","12/30/1899 12:00:00 AM",0,0,0,"","","","","","","","","",0]
[0,0,0,0,"0","0","0","0","0","0",0,0,0,"00:00:00","00:00:00",0,0,0,"0","0",0,"12/30/1899 12:00:00 AM","12/30/1899 12:00:00 AM",0,0,0,"","","","","","","","","",0]
[0,0,0,0,"0","0","0","0","0","0",0,0,0,"00:00:00","00:00:00",0,0,0,"0","0",0,"12/30/1899 12:00:00 AM","12/30/1899 12:00:00 AM",0,0,0,"","","","","","","","","",0]
[0,0,0,0,"0","0","0","0","0","0",0,0,0,"00:00:00","00:00:00",0,0,0,"0","0",0,"12/30/1899 12:00:00 AM","12/30/1899 12:00:00 AM",0,0,0,"","","","","","","","","",0]
[0,0,0,0,"0","0","0","0","0","0",0,0,0,"00:00:00","00:00:00",0,0,0,"0","0",0,"12/30/1899 12:00:00 AM","12/30/1899 12:00:00 AM",0,0,0,"","","","","","","","","",0]
[0,0,0,0,"0","0","0","0","0","0",0,0,0,"00:00:00","00:00:00",0,0,0,"0","0",0,"12/30/1899 12:00:00 AM","12/30/1899 12:00:00 AM",0,0,0,"","","","","","","","","",0]
[0,0,0,0,"0","0","0","0","0","0",0,0,0,"00:00:00","00:00:00",0,0,0,"0","0",0,"12/30/1899 12:00:00 AM","12/30/1899 12:00:00 AM",0,0,0,"","","","","","","","","",0]
[0,0,0,0,"0","0","0","0","0","0",0,0,0,"00:00:00","00:00:00",0,0,0,"0","0",0,"12/30/1899 12:00:00 AM","12/30/1899 12:00:00 AM",0,0,0,"","","","","","","","","",0]
[0,0,0,0,"0","0","0","0","0","0",0,0,0,"00:00:00","00:00:00",0,0,0,"0","0",0,"12/30/1899 12:00:00 AM","12/30/1899 12:00:00 AM",0,0,0,"","","","","","","","","",0]
[0,0,0,0,"0","0","0","0","0","0",0,0,0,"00:00:00","00:00:00",0,0,0,"0","0",0,"12/30/1899 12:00:00 AM","12/30/1899 12:00:00 AM",0,0,0,"","","","","","","","","",0]
[0,0,0,0,"0","0","0","0","0","0",0,0,0,"00:00:00","00:00:00",0,0,0,"0","0",0,"12/30/1899 12:00:00 AM","12/30/1899 12:00:00 AM",0,0,0,"","","","","","","","","",0]
[0,0,0,0,"0","0","0","0","0","0",0,0,0,"00:00:00","00:00:00",0,0,0,"0","0",0,"12/30/1899 12:00:00 AM","12/30/1899 12:00:00 AM",0,0,0,"","","","","","","","","",0]
[0,0,0,0,"0","0","0","0","0","0",0,0,0,"00:00:00","00:00:00",0,0,0,"0","0",0,"12/30/1899 12:00:00 AM","12/30/1899 12:00:00 AM",0,0,0,"","","","","","","","","",0]
[0,0,0,0,"0","0","0","0","0","0",0,0,0,"00:00:00","00:00:00",0,0,0,"0","0",0,"12/30/1899 12:00:00 AM","12/30/1899 12:00:00 AM",0,0,0,"","","","","","","","","",0]
[0,0,0,0,"0","0","0","0","0","0",0,0,0,"00:00:00","00:00:00",0,0,0,"0","0",0,"12/30/1899 12:00:00 AM","12/30/1899 12:00:00 AM",0,0,0,"","","","","","","","","",0]
[0,0,0,0,"0","0","0","0","0","0",0,0,0,"00:00:00","00:00:00",0,0,0,"0","0",0,"12/30/1899 12:00:00 AM","12/30/1899 12:00:00 AM",0,0,0,"","","","","","","","","",0]
[0,0,0,0,"0","0","0","0","0","0",0,0,0,"00:00:00","00:00:00",0,0,0,"0","0",0,"12/30/1899 12:00:00 AM","12/30/1899 12:00:00 AM",0,0,0,"","","","","","","","","",0]
[0,0,0,0,"0","0","0","0","0","0",0,0,0,"00:00:00","00:00:00",0,0,0,"0","0",0,"12/30/1899 12:00:00 AM","12/30/1899 12:00:00 AM",0,0,0,"","","","","","","","","",0]
[0,0,0,0,"0","0","0","0","0","0",0,0,0,"00:00:00","00:00:00",0,0,0,"0","0",0,"12/30/1899 12:00:00 AM","12/30/1899 12:00:00 AM",0,0,0,"","","","","","","","","",0]
[0,0,0,0,"0","0","0","0","0","0",0,0,0,"00:00:00","00:00:00",0,0,0,"0","0",0,"12/30/1899 12:00:00 AM","12/30/1899 12:00:00 AM",0,0,0,"","","","","","","","","",0]
[0,0,0,0,"0","0","0","0","0","0",0,0,0,"00:00:00","00:00:00",0,0,0,"0","0",0,"12/30/1899 12:00:00 AM","12/30/1899 12:00:00 AM",0,0,0,"","","","","","","","","",0]
[0,0,0,0,"0","0","0","0","0","0",0,0,0,"00:00:00","00:00:00",0,0,0,"0","0",0,"12/30/1899 12:00:00 AM","12/30/1899 12:00:00 AM",0,0,0,"","","","","","","","","",0]
[0,0,0,0,"0","0","0","0","0","0",0,0,0,"00:00:00","00:00:00",0,0,0,"0","0",0,"12/30/1899 12:00:00 AM","12/30/1899 12:00:00 AM",0,0,0,"","","","","","","","","",0]
[0,0,0,0,"0","0","0","0","0","0",0,0,0,"00:00:00","00:00:00",0,0,0,"0","0",0,"12/30/1899 12:00:00 AM","12/30/1899 12:00:00 AM",0,0,0,"","","","","","","","","",0]
[0,0,0,0,"0","0","0","0","0","0",0,0,0,"00:00:00","00:00:00",0,0,0,"0","0",0,"12/30/1899 12:00:00 AM","12/30/1899 12:00:00 AM",0,0,0,"","","","","","","","","",0]
[0,0,0,0,"0","0","0","0","0","0",0,0,0,"00:00:00","00:00:00",0,0,0,"0","0",0,"12/30/1899 12:00:00 AM","12/30/1899 12:00:00 AM",0,0,0,"","","","","","","","","",0]
[0,0,0,0,"0","0","0","0","0","0",0,0,0,"00:00:00","00:00:00",0,0,0,"0","0",0,"12/30/1899 12:00:00 AM","12/30/1899 12:00:00 AM",0,0,0,"","","","","","","","","",0]
[0,0,0,0,"0","0","0","0","0","0",0,0,0,"00:00:00","00:00:00",0,0,0,"0","0",0,"12/30/1899 12:00:00 AM","12/30/1899 12:00:00 AM",0,0,0,"","","","","","","","","",0]
[0,0,0,0,"0","0","0","0","0","0",0,0,0,"00:00:00","00:00:00",0,0,0,"0","0",0,"12/30/1899 12:00:00 AM","12/30/1899 12:00:00 AM",0,0,0,"","","","","","","","","",0]
[0,0,0,0,"0","0","0","0","0","0",0,0,0,"00:00:00","00:00:00",0,0,0,"0","0",0,"12/30/1899 12:00:00 AM","12/30/1899 12:00:00 AM",0,0,0,"","","","","","","","","",0]
[0,0,0,0,"0","0","0","0","0","0",0,0,0,"00:00:00","00:00:00",0,0,0,"0","0",0,"12/30/1899 12:00:00 AM","12/30/1899 12:00:00 AM",0,0,0,"","","","","","","","","",0]
[0,0,0,0,"0","0","0","0","0","0",0,0,0,"00:00:00","00:00:00",0,0,0,"0","0",0,"12/30/1899 12:00:00 AM","12/30/1899 12:00:00 AM",0,0,0,"","","","","","","","","",0]
[0,0,0,0,"0","0","0","0","0","0",0,0,0,"00:00:00","00:00:00",0,0,0,"0","0",0,"12/30/1899 12:00:00 AM","12/30/1899 12:00:00 AM",0,0,0,"","","","","","","","","",0]
[0,0,0,0,"0","0","0","0","0","0",0,0,0,"00:00:00","00:00:00",0,0,0,"0","0",0,"12/30/1899 12:00:00 AM","12/30/1899 12:00:00 AM",0,0,0,"","","","","","","","","",0]
[0,0,0,0,"0","0","0","0","0","0",0,0,0,"00:00:00","00:00:00",0,0,0,"0","0",0,"12/30/1899 12:00:00 AM","12/30/1899 12:00:00 AM",0,0,0,"","","","","","","","","",0]
[0,0,0,0,"0","0","0","0","0","0",0,0,0,"00:00:00","00:00:00",0,0,0,"0","0",0,"12/30/1899 12:00:00 AM","12/30/1899 12:00:00 AM",0,0,0,"","","","","","","","","",0]
[0,0,0,0,"0","0","0","0","0","0",0,0,0,"00:00:00","00:00:00",0,0,0,"0","0",0,"12/30/1899 12:00:00 AM","12/30/1899 12:00:00 AM",0,0,0,"","","","","","","","","",0]
[0,0,0,0,"0","0","0","0","0","0",0,0,0,"00:00:00","00:00:00",0,0,0,"0","0",0,"12/30/1899 12:00:00 AM","12/30/1899 12:00:00 AM",0,0,0,"","","","","","","","","",0]
[0,0,0,0,"0","0","0","0","0","0",0,0,0,"00:00:00","00:00:00",0,0,0,"0","0",0,"12/30/1899 12:00:00 AM","12/30/1899 12:00:00 AM",0,0,0,"","","","","","","","","",0]
[0,0,0,0,"0","0","0","0","0","0",0,0,0,"00:00:00","00:00:00",0,0,0,"0","0",0,"12/30/1899 12:00:00 AM","12/30/1899 12:00:00 AM",0,0,0,"","","","","","","","","",0]
[0,0,0,0,"0","0","0","0","0","0",0,0,0,"00:00:00","00:00:00",0,0,0,"0","0",0,"12/30/1899 12:00:00 AM","12/30/1899 12:00:00 AM",0,0,0,"","","","","","","","","",0]
[0,0,0,0,"0","0","0","0","0","0",0,0,0,"00:00:00","00:00:00",0,0,0,"0","0",0,"12/30/1899 12:00:00 AM","12/30/1899 12:00:00 AM",0,0,0,"","","","","","","","","",0]
[0,0,0,0,"0","0","0","0","0","0",0,0,0,"00:00:00","00:00:00",0,0,0,"0","0",0,"12/30/1899 12:00:00 AM","12/30/1899 12:00:00 AM",0,0,0,"","","","","","","","","",0]
[0,0,0,0,"0","0","0","0","0","0",0,0,0,"00:00:00","00:00:00",0,0,0,"0","0",0,"12/30/1899 12:00:00 AM","12/30/1899 12:00:00 AM",0,0,0,"","","","","","","","","",0]
[0,0,0,0,"0","0","0","0","0","0",0,0,0,"00:00:00","00:00:00",0,0,0,"0","0",0,"12/30/1899 12:00:00 AM","12/30/1899 12:00:00 AM",0,0,0,"","","","","","","","","",0]
[0,0,0,0,"0","0","0","0","0","0",0,0,0,"00:00:00","00:00:00",0,0,0,"0","0",0,"12/30/1899 12:00:00 AM","12/30/1899 12:00:00 AM",0,0,0,"","","","","","","","","",0]
[0,0,0,0,"0","0","0","0","0","0",0,0,0,"00:00:00","00:00:00",0,0,0,"0","0",0,"12/30/1899 12:00:00 AM","12/30/1899 12:00:00 AM",0,0,0,"","","","","","","","","",0]
[0,0,0,0,"0","0","0","0","0","0",0,0,0,"00:00:00","00:00:00",0,0,0,"0","0",0,"12/30/1899 12:00:00 AM","12/30/1899 12:00:00 AM",0,0,0,"","","","","","","","","",0]
[0,0,0,0,"0","0","0","0","0","0",0,0,0,"00:00:00","00:00:00",0,0,0,"0","0",0,"12/30/1899 12:00:00 AM","12/30/1899 12:00:00 AM",0,0,0,"","","","","","","","","",0]
[0,0,0,0,"0","0","0","0","0","0",0,0,0,"00:00:00","00:00:00",0,0,0,"0","0",0,"12/30/1899 12:00:00 AM","12/30/1899 12:00:00 AM",0,0,0,"","","","","","","","","",0]
[0,0,0,0,"0","0","0","0","0","0",0,0,0,"00:00:00","00:00:00",0,0,0,"0","0",0,"12/30/1899 12:00:00 AM","12/30/1899 12:00:00 AM",0,0,0,"","","","","","","","","",0]
[0,0,0,0,"0","0","0","0","0","0",0,0,0,"00:00:00","00:00:00",0,0,0,"0","0",0,"12/30/1899 12:00:00 AM","12/30/1899 12:00:00 AM",0,0,0,"","","","","","","","","",0]
[0,0,0,0,"0","0","0","0","0","0",0,0,0,"00:00:00","00:00:00",0,0,0,"0","0",0,"12/30/1899 12:00:00 AM","12/30/1899 12:00:00 AM",0,0,0,"","","","","","","","","",0]
[0,0,0,0,"0","0","0","0","0","0",0,0,0,"00:00:00","00:00:00",0,0,0,"0","0",0,"12/30/1899 12:00:00 AM","12/30/1899 12:00:00 AM",0,0,0,"","","","","","","","","",0]
[0,0,0,0,"0","0","0","0","0","0",0,0,0,"00:00:00","00:00:00",0,0,0,"0","0",0,"12/30/1899 12:00:00 AM","12/30/1899 12:00:00 AM",0,0,0,"","","","","","","","","",0]
[0,0,0,0,"0","0","0","0","0","0",0,0,0,"00:00:00","00:00:00",0,0,0,"0","0",0,"12/30/1899 12:00:00 AM","12/30/1899 12:00:00 AM",0,0,0,"","","","","","","","","",0]
[0,0,0,0,"0","0","0","0","0","0",0,0,0,"00:00:00","00:00:00",0,0,0,"0","0",0,"12/30/1899 12:00:00 AM","12/30/1899 12:00:00 AM",0,0,0,"","","","","","","","","",0]
[0,0,0,0,"0","0","0","0","0","0",0,0,0,"00:00:00","00:00:00",0,0,0,"0","0",0,"12/30/1899 12:00:00 AM","12/30/1899 12:00:00 AM",0,0,0,"","","","","","","","","",0]
[0,0,0,0,"0","0","0","0","0","0",0,0,0,"00:00:00","00:00:00",0,0,0,"0","0",0,"12/30/1899 12:00:00 AM","12/30/1899 12:00:00 AM",0,0,0,"","","","","","","","","",0]
[0,0,0,0,"0","0","0","0","0","0",0,0,0,"00:00:00","00:00:00",0,0,0,"0","0",0,"12/30/1899 12:00:00 AM","12/30/1899 12:00:00 AM",0,0,0,"","","","","","","","","",0]
[0,0,0,0,"0","0","0","0","0","0",0,0,0,"00:00:00","00:00:00",0,0,0,"0","0",0,"12/30/1899 12:00:00 AM","12/30/1899 12:00:00 AM",0,0,0,"","","","","","","","","",0]
[0,0,0,0,"0","0","0","0","0","0",0,0,0,"00:00:00","00:00:00",0,0,0,"0","0",0,"12/30/1899 12:00:00 AM","12/30/1899 12:00:00 AM",0,0,0,"","","","","","","","","",0]
[0,0,0,0,"0","0","0","0","0","0",0,0,0,"00:00:00","00:00:00",0,0,0,"0","0",0,"12/30/1899 12:00:00 AM","12/30/1899 12:00:00 AM",0,0,0,"","","","","","","","","",0]
[0,0,0,0,"0","0","0","0","0","0",0,0,0,"00:00:00","00:00:00",0,0,0,"0","0",0,"12/30/1899 12:00:00 AM","12/30/1899 12:00:00 AM",0,0,0,"","","","","","","","","",0]
[0,0,0,0,"0","0","0","0","0","0",0,0,0,"00:00:00","00:00:00",0,0,0,"0","0",0,"12/30/1899 12:00:00 AM","12/30/1899 12:00:00 AM",0,0,0,"","","","","","","","","",0]
[0,0,0,0,"0","0","0","0","0","0",0,0,0,"00:00:00","00:00:00",0,0,0,"0","0",0,"12/30/1899 12:00:00 AM","12/30/1899 12:00:00 AM",0,0,0,"","","","","","","","","",0]
[0,0,0,0,"0","0","0","0","0","0",0,0,0,"00:00:00","00:00:00",0,0,0,"0","0",0,"12/30/1899 12:00:00 AM","12/30/1899 12:00:00 AM",0,0,0,"","","","","","","","","",0]
[0,0,0,0,"0","0","0","0","0","0",0,0,0,"00:00:00","00:00:00",0,0,0,"0","0",0,"12/30/1899 12:00:00 AM","12/30/1899 12:00:00 AM",0,0,0,"","","","","","","","","",0]
[0,0,0,0,"0","0","0","0","0","0",0,0,0,"00:00:00","00:00:00",0,0,0,"0","0",0,"12/30/1899 12:00:00 AM","12/30/1899 12:00:00 AM",0,0,0,"","","","","","","","","",0]
[0,0,0,0,"0","0","0","0","0","0",0,0,0,"00:00:00","00:00:00",0,0,0,"0","0",0,"12/30/1899 12:00:00 AM","12/30/1899 12:00:00 AM",0,0,0,"","","","","","","","","",0]
[0,0,0,0,"0","0","0","0","0","0",0,0,0,"00:00:00","00:00:00",0,0,0,"0","0",0,"12/30/1899 12:00:00 AM","12/30/1899 12:00:00 AM",0,0,0,"","","","","","","","","",0]
[0,0,0,0,"0","0","0","0","0","0",0,0,0,"00:00:00","00:00:00",0,0,0,"0","0",0,"12/30/1899 12:00:00 AM","12/30/1899 12:00:00 AM",0,0,0,"","","","","","","","","",0]
[0,0,0,0,"0","0","0","0","0","0",0,0,0,"00:00:00","00:00:00",0,0,0,"0","0",0,"12/30/1899 12:00:00 AM","12/30/1899 12:00:00 AM",0,0,0,"","","","","","","","","",0]
[0,0,0,0,"0","0","0","0","0","0",0,0,0,"00:00:00","00:00:00",0,0,0,"0","0",0,"12/30/1899 12:00:00 AM","12/30/1899 12:00:00 AM",0,0,0,"","","","","","","","","",0]
[0,0,0,0,"0","0","0","0","0","0",0,0,0,"00:00:00","00:00:00",0,0,0,"0","0",0,"12/30/1899 12:00:00 AM","12/30/1899 12:00:00 AM",0,0,0,"","","","","","","","","",0]
[0,0,0,0,"0","0","0","0","0","0",0,0,0,"00:00:00","00:00:00",0,0,0,"0","0",0,"12/30/1899 12:00:00 AM","12/30/1899 12:00:00 AM",0,0,0,"","","","","","","","","",0]
[0,0,0,0,"0","0","0","0","0","0",0,0,0,"00:00:00","00:00:00",0,0,0,"0","0",0,"12/30/1899 12:00:00 AM","12/30/1899 12:00:00 AM",0,0,0,"","","","","","","","","",0]
[0,0,0,0,"0","0","0","0","0","0",0,0,0,"00:00:00","00:00:00",0,0,0,"0","0",0,"12/30/1899 12:00:00 AM","12/30/1899 12:00:00 AM",0,0,0,"","","","","","","","","",0]
[0,0,0,0,"0","0","0","0","0","0",0,0,0,"00:00:00","00:00:00",0,0,0,"0","0",0,"12/30/1899 12:00:00 AM","12/30/1899 12:00:00 AM",0,0,0,"","","","","","","","","",0]
[0,0,0,0,"0","0","0","0","0","0",0,0,0,"00:00:00","00:00:00",0,0,0,"0","0",0,"12/30/1899 12:00:00 AM","12/30/1899 12:00:00 AM",0,0,0,"","","","","","","","","",0]
[0,0,0,0,"0","0","0","0","0","0",0,0,0,"00:00:00","00:00:00",0,0,0,"0","0",0,"12/30/1899 12:00:00 AM","12/30/1899 12:00:00 AM",0,0,0,"","","","","","","","","",0]
[0,0,0,0,"0","0","0","0","0","0",0,0,0,"00:00:00","00:00:00",0,0,0,"0","0",0,"12/30/1899 12:00:00 AM","12/30/1899 12:00:00 AM",0,0,0,"","","","","","","","","",0]
[0,0,0,0,"0","0","0","0","0","0",0,0,0,"00:00:00","00:00:00",0,0,0,"0","0",0,"12/30/1899 12:00:00 AM","12/30/1899 12:00:00 AM",0,0,0,"","","","","","","","","",0]
[0,0,0,0,"0","0","0","0","0","0",0,0,0,"00:00:00","00:00:00",0,0,0,"0","0",0,"12/30/1899 12:00:00 AM","12/30/1899 12:00:00 AM",0,0,0,"","","","","","","","","",0]
[0,0,0,0,"0","0","0","0","0","0",0,0,0,"00:00:00","00:00:00",0,0,0,"0","0",0,"12/30/1899 12:00:00 AM","12/30/1899 12:00:00 AM",0,0,0,"","","","","","","","","",0]
[0,0,0,0,"0","0","0","0","0","0",0,0,0,"00:00:00","00:00:00",0,0,0,"0","0",0,"12/30/1899 12:00:00 AM","12/30/1899 12:00:00 AM",0,0,0,"","","","","","","","","",0]
[0,0,0,0,"0","0","0","0","0","0",0,0,0,"00:00:00","00:00:00",0,0,0,"0","0",0,"12/30/1899 12:00:00 AM","12/30/1899 12:00:00 AM",0,0,0,"","","","","","","","","",0]
[0,0,0,0,"0","0","0","0","0","0",0,0,0,"00:00:00","00:00:00",0,0,0,"0","0",0,"12/30/1899 12:00:00 AM","12/30/1899 12:00:00 AM",0,0,0,"","","","","","","","","",0]
[0,0,0,0,"0","0","0","0","0","0",0,0,0,"00:00:00","00:00:00",0,0,0,"0","0",0,"12/30/1899 12:00:00 AM","12/30/1899 12:00:00 AM",0,0,0,"","","","","","","","","",0]
[0,0,0,0,"0","0","0","0","0","0",0,0,0,"00:00:00","00:00:00",0,0,0,"0","0",0,"12/30/1899 12:00:00 AM","12/30/1899 12:00:00 AM",0,0,0,"","","","","","","","","",0]
[0,0,0,0,"0","0","0","0","0","0",0,0,0,"00:00:00","00:00:00",0,0,0,"0","0",0,"12/30/1899 12:00:00 AM","12/30/1899 12:00:00 AM",0,0,0,"","","","","","","","","",0]
[0,0,0,0,"0","0","0","0","0","0",0,0,0,"00:00:00","00:00:00",0,0,0,"0","0",0,"12/30/1899 12:00:00 AM","12/30/1899 12:00:00 AM",0,0,0,"","","","","","","","","",0]
[0,0,0,0,"0","0","0","0","0","0",0,0,0,"00:00:00","00:00:00",0,0,0,"0","0",0,"12/30/1899 12:00:00 AM","12/30/1899 12:00:00 AM",0,0,0,"","","","","","","","","",0]
[0,0,0,0,"0","0","0","0","0","0",0,0,0,"00:00:00","00:00:00",0,0,0,"0","0",0,"12/30/1899 12:00:00 AM","12/30/1899 12:00:00 AM",0,0,0,"","","","","","","","","",0]
[0,0,0,0,"0","0","0","0","0","0",0,0,0,"00:00:00","00:00:00",0,0,0,"0","0",0,"12/30/1899 12:00:00 AM","12/30/1899 12:00:00 AM",0,0,0,"","","","","","","","","",0]
[0,0,0,0,"0","0","0","0","0","0",0,0,0,"00:00:00","00:00:00",0,0,0,"0","0",0,"12/30/1899 12:00:00 AM","12/30/1899 12:00:00 AM",0,0,0,"","","","","","","","","",0]
[0,0,0,0,"0","0","0","0","0","0",0,0,0,"00:00:00","00:00:00",0,0,0,"0","0",0,"12/30/1899 12:00:00 AM","12/30/1899 12:00:00 AM",0,0,0,"","","","","","","","","",0]
[0,0,0,0,"0","0","0","0","0","0",0,0,0,"00:00:00","00:00:00",0,0,0,"0","0",0,"12/30/1899 12:00:00 AM","12/30/1899 12:00:00 AM",0,0,0,"","","","","","","","","",0]
[0,0,0,0,"0","0","0","0","0","0",0,0,0,"00:00:00","00:00:00",0,0,0,"0","0",0,"12/30/1899 12:00:00 AM","12/30/1899 12:00:00 AM",0,0,0,"","","","","","","","","",0]
[0,0,0,0,"0","0","0","0","0","0",0,0,0,"00:00:00","00:00:00",0,0,0,"0","0",0,"12/30/1899 12:00:00 AM","12/30/1899 12:00:00 AM",0,0,0,"","","","","","","","","",0]
[0,0,0,0,"0","0","0","0","0","0",0,0,0,"00:00:00","00:00:00",0,0,0,"0","0",0,"12/30/1899 12:00:00 AM","12/30/1899 12:00:00 AM",0,0,0,"","","","","","","","","",0]
[0,0,0,0,"0","0","0","0","0","0",0,0,0,"00:00:00","00:00:00",0,0,0,"0","0",0,"12/30/1899 12:00:00 AM","12/30/1899 12:00:00 AM",0,0,0,"","","","","","","","","",0]
[0,0,0,0,"0","0","0","0","0","0",0,0,0,"00:00:00","00:00:00",0,0,0,"0","0",0,"12/30/1899 12:00:00 AM","12/30/1899 12:00:00 AM",0,0,0,"","","","","","","","","",0]
[0,0,0,0,"0","0","0","0","0","0",0,0,0,"00:00:00","00:00:00",0,0,0,"0","0",0,"12/30/1899 12:00:00 AM","12/30/1899 12:00:00 AM",0,0,0,"","","","","","","","","",0]
[0,0,0,0,"0","0","0","0","0","0",0,0,0,"00:00:00","00:00:00",0,0,0,"0","0",0,"12/30/1899 12:00:00 AM","12/30/1899 12:00:00 AM",0,0,0,"","","","","","","","","",0]
[0,0,0,0,"0","0","0","0","0","0",0,0,0,"00:00:00","00:00:00",0,0,0,"0","0",0,"12/30/1899 12:00:00 AM","12/30/1899 12:00:00 AM",0,0,0,"","","","","","","","","",0]
[0,0,0,0,"0","0","0","0","0","0",0,0,0,"00:00:00","00:00:00",0,0,0,"0","0",0,"12/30/1899 12:00:00 AM","12/30/1899 12:00:00 AM",0,0,0,"","","","","","","","","",0]
[0,0,0,0,"0","0","0","0","0","0",0,0,0,"00:00:00","00:00:00",0,0,0,"0","0",0,"12/30/1899 12:00:00 AM","12/30/1899 12:00:00 AM",0,0,0,"","","","","","","","","",0]
[0,0,0,0,"0","0","0","0","0","0",0,0,0,"00:00:00","00:00:00",0,0,0,"0","0",0,"12/30/1899 12:00:00 AM","12/30/1899 12:00:00 AM",0,0,0,"","","","","","","","","",0]
[0,0,0,0,"0","0","0","0","0","0",0,0,0,"00:00:00","00:00:00",0,0,0,"0","0",0,"12/30/1899 12:00:00 AM","12/30/1899 12:00:00 AM",0,0,0,"","","","","","","","","",0]
[0,0,0,0,"0","0","0","0","0","0",0,0,0,"00:00:00","00:00:00",0,0,0,"0","0",0,"12/30/1899 12:00:00 AM","12/30/1899 12:00:00 AM",0,0,0,"","","","","","","","","",0]
[0,0,0,0,"0","0","0","0","0","0",0,0,0,"00:00:00","00:00:00",0,0,0,"0","0",0,"12/30/1899 12:00:00 AM","12/30/1899 12:00:00 AM",0,0,0,"","","","","","","","","",0]
[0,0,0,0,"0","0","0","0","0","0",0,0,0,"00:00:00","00:00:00",0,0,0,"0","0",0,"12/30/1899 12:00:00 AM","12/30/1899 12:00:00 AM",0,0,0,"","","","","","","","","",0]
[0,0,0,0,"0","0","0","0","0","0",0,0,0,"00:00:00","00:00:00",0,0,0,"0","0",0,"12/30/1899 12:00:00 AM","12/30/1899 12:00:00 AM",0,0,0,"","","","","","","","","",0]
[0,0,0,0,"0","0","0","0","0","0",0,0,0,"00:00:00","00:00:00",0,0,0,"0","0",0,"12/30/1899 12:00:00 AM","12/30/1899 12:00:00 AM",0,0,0,"","","","","","","","","",0]
[0,0,0,0,"0","0","0","0","0","0",0,0,0,"00:00:00","00:00:00",0,0,0,"0","0",0,"12/30/1899 12:00:00 AM","12/30/1899 12:00:00 AM",0,0,0,"","","","","","","","","",0]
[0,0,0,0,"0","0","0","0","0","0",0,0,0,"00:00:00","00:00:00",0,0,0,"0","0",0,"12/30/1899 12:00:00 AM","12/30/1899 12:00:00 AM",0,0,0,"","","","","","","","","",0]
[0,0,0,0,"0","0","0","0","0","0",0,0,0,"00:00:00","00:00:00",0,0,0,"0","0",0,"12/30/1899 12:00:00 AM","12/30/1899 12:00:00 AM",0,0,0,"","","","","","","","","",0]
[0,0,0,0,"0","0","0","0","0","0",0,0,0,"00:00:00","00:00:00",0,0,0,"0","0",0,"12/30/1899 12:00:00 AM","12/30/1899 12:00:00 AM",0,0,0,"","","","","","","","","",0]
[0,0,0,0,"0","0","0","0","0","0",0,0,0,"00:00:00","00:00:00",0,0,0,"0","0",0,"12/30/1899 12:00:00 AM","12/30/1899 12:00:00 AM",0,0,0,"","","","","","","","","",0]
[0,0,0,0,"0","0","0","0","0","0",0,0,0,"00:00:00","00:00:00",0,0,0,"0","0",0,"12/30/1899 12:00:00 AM","12/30/1899 12:00:00 AM",0,0,0,"","","","","","","","","",0]
[0,0,0,0,"0","0","0","0","0","0",0,0,0,"00:00:00","00:00:00",0,0,0,"0","0",0,"12/30/1899 12:00:00 AM","12/30/1899 12:00:00 AM",0,0,0,"","","","","","","","","",0]
[0,0,0,0,"0","0","0","0","0","0",0,0,0,"00:00:00","00:00:00",0,0,0,"0","0",0,"12/30/1899 12:00:00 AM","12/30/1899 12:00:00 AM",0,0,0,"","","","","","","","","",0]
[0,0,0,0,"0","0","0","0","0","0",0,0,0,"00:00:00","00:00:00",0,0,0,"0","0",0,"12/30/1899 12:00:00 AM","12/30/1899 12:00:00 AM",0,0,0,"","","","","","","","","",0]
[0,0,0,0,"0","0","0","0","0","0",0,0,0,"00:00:00","00:00:00",0,0,0,"0","0",0,"12/30/1899 12:00:00 AM","12/30/1899 12:00:00 AM",0,0,0,"","","","","","","","","",0]
[0,0,0,0,"0","0","0","0","0","0",0,0,0,"00:00:00","00:00:00",0,0,0,"0","0",0,"12/30/1899 12:00:00 AM","12/30/1899 12:00:00 AM",0,0,0,"","","","","","","","","",0]
[0,0,0,0,"0","0","0","0","0","0",0,0,0,"00:00:00","00:00:00",0,0,0,"0","0",0,"12/30/1899 12:00:00 AM","12/30/1899 12:00:00 AM",0,0,0,"","","","","","","","","",0]
[0,0,0,0,"0","0","0","0","0","0",0,0,0,"00:00:00","00:00:00",0,0,0,"0","0",0,"12/30/1899 12:00:00 AM","12/30/1899 12:00:00 AM",0,0,0,"","","","","","","","","",0]
[0,0,0,0,"0","0","0","0","0","0",0,0,0,"00:00:00","00:00:00",0,0,0,"0","0",0,"12/30/1899 12:00:00 AM","12/30/1899 12:00:00 AM",0,0,0,"","","","","","","","","",0]
[0,0,0,0,"0","0","0","0","0","0",0,0,0,"00:00:00","00:00:00",0,0,0,"0","0",0,"12/30/1899 12:00:00 AM","12/30/1899 12:00:00 AM",0,0,0,"","","","","","","","","",0]
[0,0,0,0,"0","0","0","0","0","0",0,0,0,"00:00:00","00:00:00",0,0,0,"0","0",0,"12/30/1899 12:00:00 AM","12/30/1899 12:00:00 AM",0,0,0,"","","","","","","","","",0]
[0,0,0,0,"0","0","0","0","0","0",0,0,0,"00:00:00","00:00:00",0,0,0,"0","0",0,"12/30/1899 12:00:00 AM","12/30/1899 12:00:00 AM",0,0,0,"","","","","","","","","",0]
[0,0,0,0,"0","0","0","0","0","0",0,0,0,"00:00:00","00:00:00",0,0,0,"0","0",0,"12/30/1899 12:00:00 AM","12/30/1899 12:00:00 AM",0,0,0,"","","","","","","","","",0]
[0,0,0,0,"0","0","0","0","0","0",0,0,0,"00:00:00","00:00:00",0,0,0,"0","0",0,"12/30/1899 12:00:00 AM","12/30/1899 12:00:00 AM",0,0,0,"","","","","","","","","",0]
[0,0,0,0,"0","0","0","0","0","0",0,0,0,"00:00:00","00:00:00",0,0,0,"0","0",0,"12/30/1899 12:00:00 AM","12/30/1899 12:00:00 AM",0,0,0,"","","","","","","","","",0]
[0,0,0,0,"0","0","0","0","0","0",0,0,0,"00:00:00","00:00:00",0,0,0,"0","0",0,"12/30/1899 12:00:00 AM","12/30/1899 12:00:00 AM",0,0,0,"","","","","","","","","",0]
[0,0,0,0,"0","0","0","0","0","0",0,0,0,"00:00:00","00:00:00",0,0,0,"0","0",0,"12/30/1899 12:00:00 AM","12/30/1899 12:00:00 AM",0,0,0,"","","","","","","","","",0]
[0,0,0,0,"0","0","0","0","0","0",0,0,0,"00:00:00","00:00:00",0,0,0,"0","0",0,"12/30/1899 12:00:00 AM","12/30/1899 12:00:00 AM",0,0,0,"","","","","","","","","",0]
[0,0,0,0,"0","0","0","0","0","0",0,0,0,"00:00:00","00:00:00",0,0,0,"0","0",0,"12/30/1899 12:00:00 AM","12/30/1899 12:00:00 AM",0,0,0,"","","","","","","","","",0]
[0,0,0,0,"0","0","0","0","0","0",0,0,0,"00:00:00","00:00:00",0,0,0,"0","0",0,"12/30/1899 12:00:00 AM","12/30/1899 12:00:00 AM",0,0,0,"","","","","","","","","",0]
[0,0,0,0,"0","0","0","0","0","0",0,0,0,"00:00:00","00:00:00",0,0,0,"0","0",0,"12/30/1899 12:00:00 AM","12/30/1899 12:00:00 AM",0,0,0,"","","","","","","","","",0]
[0,0,0,0,"0","0","0","0","0","0",0,0,0,"00:00:00","00:00:00",0,0,0,"0","0",0,"12/30/1899 12:00:00 AM","12/30/1899 12:00:00 AM",0,0,0,"","","","","","","","","",0]
[0,0,0,0,"0","0","0","0","0","0",0,0,0,"00:00:00","00:00:00",0,0,0,"0","0",0,"12/30/1899 12:00:00 AM","12/30/1899 12:00:00 AM",0,0,0,"","","","","","","","","",0]
[0,0,0,0,"0","0","0","0","0","0",0,0,0,"00:00:00","00:00:00",0,0,0,"0","0",0,"12/30/1899 12:00:00 AM","12/30/1899 12:00:00 AM",0,0,0,"","","","","","","","","",0]
[0,0,0,0,"0","0","0","0","0","0",0,0,0,"00:00:00","00:00:00",0,0,0,"0","0",0,"12/30/1899 12:00:00 AM","12/30/1899 12:00:00 AM",0,0,0,"","","","","","","","","",0]
[0,0,0,0,"0","0","0","0","0","0",0,0,0,"00:00:00","00:00:00",0,0,0,"0","0",0,"12/30/1899 12:00:00 AM","12/30/1899 12:00:00 AM",0,0,0,"","","","","","","","","",0]
[0,0,0,0,"0","0","0","0","0","0",0,0,0,"00:00:00","00:00:00",0,0,0,"0","0",0,"12/30/1899 12:00:00 AM","12/30/1899 12:00:00 AM",0,0,0,"","","","","","","","","",0]
[0,0,0,0,"0","0","0","0","0","0",0,0,0,"00:00:00","00:00:00",0,0,0,"0","0",0,"12/30/1899 12:00:00 AM","12/30/1899 12:00:00 AM",0,0,0,"","","","","","","","","",0]
[0,0,0,0,"0","0","0","0","0","0",0,0,0,"00:00:00","00:00:00",0,0,0,"0","0",0,"12/30/1899 12:00:00 AM","12/30/1899 12:00:00 AM",0,0,0,"","","","","","","","","",0]
[0,0,0,0,"0","0","0","0","0","0",0,0,0,"00:00:00","00:00:00",0,0,0,"0","0",0,"12/30/1899 12:00:00 AM","12/30/1899 12:00:00 AM",0,0,0,"","","","","","","","","",0]
[0,0,0,0,"0","0","0","0","0","0",0,0,0,"00:00:00","00:00:00",0,0,0,"0","0",0,"12/30/1899 12:00:00 AM","12/30/1899 12:00:00 AM",0,0,0,"","","","","","","","","",0]
[0,0,0,0,"0","0","0","0","0","0",0,0,0,"00:00:00","00:00:00",0,0,0,"0","0",0,"12/30/1899 12:00:00 AM","12/30/1899 12:00:00 AM",0,0,0,"","","","","","","","","",0]
[0,0,0,0,"0","0","0","0","0","0",0,0,0,"00:00:00","00:00:00",0,0,0,"0","0",0,"12/30/1899 12:00:00 AM","12/30/1899 12:00:00 AM",0,0,0,"","","","","","","","","",0]
[0,0,0,0,"0","0","0","0","0","0",0,0,0,"00:00:00","00:00:00",0,0,0,"0","0",0,"12/30/1899 12:00:00 AM","12/30/1899 12:00:00 AM",0,0,0,"","","","","","","","","",0]
[0,0,0,0,"0","0","0","0","0","0",0,0,0,"00:00:00","00:00:00",0,0,0,"0","0",0,"12/30/1899 12:00:00 AM","12/30/1899 12:00:00 AM",0,0,0,"","","","","","","","","",0]
[0,0,0,0,"0","0","0","0","0","0",0,0,0,"00:00:00","00:00:00",0,0,0,"0","0",0,"12/30/1899 12:00:00 AM","12/30/1899 12:00:00 AM",0,0,0,"","","","","","","","","",0]
[0,0,0,0,"0","0","0","0","0","0",0,0,0,"00:00:00","00:00:00",0,0,0,"0","0",0,"12/30/1899 12:00:00 AM","12/30/1899 12:00:00 AM",0,0,0,"","","","","","","","","",0]
[0,0,0,0,"0","0","0","0","0","0",0,0,0,"00:00:00","00:00:00",0,0,0,"0","0",0,"12/30/1899 12:00:00 AM","12/30/1899 12:00:00 AM",0,0,0,"","","","","","","","","",0]
[0,0,0,0,"0","0","0","0","0","0",0,0,0,"00:00:00","00:00:00",0,0,0,"0","0",0,"12/30/1899 12:00:00 AM","12/30/1899 12:00:00 AM",0,0,0,"","","","","","","","","",0]
[0,0,0,0,"0","0","0","0","0","0",0,0,0,"00:00:00","00:00:00",0,0,0,"0","0",0,"12/30/1899 12:00:00 AM","12/30/1899 12:00:00 AM",0,0,0,"","","","","","","","","",0]
[0,0,0,0,"0","0","0","0","0","0",0,0,0,"00:00:00","00:00:00",0,0,0,"0","0",0,"12/30/1899 12:00:00 AM","12/30/1899 12:00:00 AM",0,0,0,"","","","","","","","","",0]
[0,0,0,0,"0","0","0","0","0","0",0,0,0,"00:00:00","00:00:00",0,0,0,"0","0",0,"12/30/1899 12:00:00 AM","12/30/1899 12:00:00 AM",0,0,0,"","","","","","","","","",0]
[0,0,0,0,"0","0","0","0","0","0",0,0,0,"00:00:00","00:00:00",0,0,0,"0","0",0,"12/30/1899 12:00:00 AM","12/30/1899 12:00:00 AM",0,0,0,"","","","","","","","","",0]
[0,0,0,0,"0","0","0","0","0","0",0,0,0,"00:00:00","00:00:00",0,0,0,"0","0",0,"12/30/1899 12:00:00 AM","12/30/1899 12:00:00 AM",0,0,0,"","","","","","","","","",0]
[0,0,0,0,"0","0","0","0","0","0",0,0,0,"00:00:00","00:00:00",0,0,0,"0","0",0,"12/30/1899 12:00:00 AM","12/30/1899 12:00:00 AM",0,0,0,"","","","","","","","","",0]
[0,0,0,0,"0","0","0","0","0","0",0,0,0,"00:00:00","00:00:00",0,0,0,"0","0",0,"12/30/1899 12:00:00 AM","12/30/1899 12:00:00 AM",0,0,0,"","","","","","","","","",0]
[0,0,0,0,"0","0","0","0","0","0",0,0,0,"00:00:00","00:00:00",0,0,0,"0","0",0,"12/30/1899 12:00:00 AM","12/30/1899 12:00:00 AM",0,0,0,"","","","","","","","","",0]
[0,0,0,0,"0","0","0","0","0","0",0,0,0,"00:00:00","00:00:00",0,0,0,"0","0",0,"12/30/1899 12:00:00 AM","12/30/1899 12:00:00 AM",0,0,0,"","","","","","","","","",0]
[0,0,0,0,"0","0","0","0","0","0",0,0,0,"00:00:00","00:00:00",0,0,0,"0","0",0,"12/30/1899 12:00:00 AM","12/30/1899 12:00:00 AM",0,0,0,"","","","","","","","","",0]
[0,0,0,0,"0","0","0","0","0","0",0,0,0,"00:00:00","00:00:00",0,0,0,"0","0",0,"12/30/1899 12:00:00 AM","12/30/1899 12:00:00 AM",0,0,0,"","","","","","","","","",0]
[0,0,0,0,"0","0","0","0","0","0",0,0,0,"00:00:00","00:00:00",0,0,0,"0","0",0,"12/30/1899 12:00:00 AM","12/30/1899 12:00:00 AM",0,0,0,"","","","","","","","","",0]
[0,0,0,0,"0","0","0","0","0","0",0,0,0,"00:00:00","00:00:00",0,0,0,"0","0",0,"12/30/1899 12:00:00 AM","12/30/1899 12:00:00 AM",0,0,0,"","","","","","","","","",0]
[0,0,0,0,"0","0","0","0","0","0",0,0,0,"00:00:00","00:00:00",0,0,0,"0","0",0,"12/30/1899 12:00:00 AM","12/30/1899 12:00:00 AM",0,0,0,"","","","","","","","","",0]
[0,0,0,0,"0","0","0","0","0","0",0,0,0,"00:00:00","00:00:00",0,0,0,"0","0",0,"12/30/1899 12:00:00 AM","12/30/1899 12:00:00 AM",0,0,0,"","","","","","","","","",0]
[0,0,0,0,"0","0","0","0","0","0",0,0,0,"00:00:00","00:00:00",0,0,0,"0","0",0,"12/30/1899 12:00:00 AM","12/30/1899 12:00:00 AM",0,0,0,"","","","","","","","","",0]
[0,0,0,0,"0","0","0","0","0","0",0,0,0,"00:00:00","00:00:00",0,0,0,"0","0",0,"12/30/1899 12:00:00 AM","12/30/1899 12:00:00 AM",0,0,0,"","","","","","","","","",0]
[0,0,0,0,"0","0","0","0","0","0",0,0,0,"00:00:00","00:00:00",0,0,0,"0","0",0,"12/30/1899 12:00:00 AM","12/30/1899 12:00:00 AM",0,0,0,"","","","","","","","","",0]
[0,0,0,0,"0","0","0","0","0","0",0,0,0,"00:00:00","00:00:00",0,0,0,"0","0",0,"12/30/1899 12:00:00 AM","12/30/1899 12:00:00 AM",0,0,0,"","","","","","","","","",0]
[0,0,0,0,"0","0","0","0","0","0",0,0,0,"00:00:00","00:00:00",0,0,0,"0","0",0,"12/30/1899 12:00:00 AM","12/30/1899 12:00:00 AM",0,0,0,"","","","","","","","","",0]
[0,0,0,0,"0","0","0","0","0","0",0,0,0,"00:00:00","00:00:00",0,0,0,"0","0",0,"12/30/1899 12:00:00 AM","12/30/1899 12:00:00 AM",0,0,0,"","","","","","","","","",0]
[0,0,0,0,"0","0","0","0","0","0",0,0,0,"00:00:00","00:00:00",0,0,0,"0","0",0,"12/30/1899 12:00:00 AM","12/30/1899 12:00:00 AM",0,0,0,"","","","","","","","","",0]
[0,0,0,0,"0","0","0","0","0","0",0,0,0,"00:00:00","00:00:00",0,0,0,"0","0",0,"12/30/1899 12:00:00 AM","12/30/1899 12:00:00 AM",0,0,0,"","","","","","","","","",0]
[0,0,0,0,"0","0","0","0","0","0",0,0,0,"00:00:00","00:00:00",0,0,0,"0","0",0,"12/30/1899 12:00:00 AM","12/30/1899 12:00:00 AM",0,0,0,"","","","","","","","","",0]
[0,0,0,0,"0","0","0","0","0","0",0,0,0,"00:00:00","00:00:00",0,0,0,"0","0",0,"12/30/1899 12:00:00 AM","12/30/1899 12:00:00 AM",0,0,0,"","","","","","","","","",0]
[0,0,0,0,"0","0","0","0","0","0",0,0,0,"00:00:00","00:00:00",0,0,0,"0","0",0,"12/30/1899 12:00:00 AM","12/30/1899 12:00:00 AM",0,0,0,"","","","","","","","","",0]
[0,0,0,0,"0","0","0","0","0","0",0,0,0,"00:00:00","00:00:00",0,0,0,"0","0",0,"12/30/1899 12:00:00 AM","12/30/1899 12:00:00 AM",0,0,0,"","","","","","","","","",0]
[0,0,0,0,"0","0","0","0","0","0",0,0,0,"00:00:00","00:00:00",0,0,0,"0","0",0,"12/30/1899 12:00:00 AM","12/30/1899 12:00:00 AM",0,0,0,"","","","","","","","","",0]
[0,0,0,0,"0","0","0","0","0","0",0,0,0,"00:00:00","00:00:00",0,0,0,"0","0",0,"12/30/1899 12:00:00 AM","12/30/1899 12:00:00 AM",0,0,0,"","","","","","","","","",0]
[0,0,0,0,"0","0","0","0","0","0",0,0,0,"00:00:00","00:00:00",0,0,0,"0","0",0,"12/30/1899 12:00:00 AM","12/30/1899 12:00:00 AM",0,0,0,"","","","","","","","","",0]
[0,0,0,0,"0","0","0","0","0","0",0,0,0,"00:00:00","00:00:00",0,0,0,"0","0",0,"12/30/1899 12:00:00 AM","12/30/1899 12:00:00 AM",0,0,0,"","","","","","","","","",0]
[0,0,0,0,"0","0","0","0","0","0",0,0,0,"00:00:00","00:00:00",0,0,0,"0","0",0,"12/30/1899 12:00:00 AM","12/30/1899 12:00:00 AM",0,0,0,"","","","","","","","","",0]
[0,0,0,0,"0","0","0","0","0","0",0,0,0,"00:00:00","00:00:00",0,0,0,"0","0",0,"12/30/1899 12:00:00 AM","12/30/1899 12:00:00 AM",0,0,0,"","","","","","","","","",0]
[0,0,0,0,"0","0","0","0","0","0",0,0,0,"00:00:00","00:00:00",0,0,0,"0","0",0,"12/30/1899 12:00:00 AM","12/30/1899 12:00:00 AM",0,0,0,"","","","","","","","","",0]
[0,0,0,0,"RWHAP","HAB","Ryan White HIV/AIDS Program Part C","HRSA-22-011","No","Wonderful Community Center",1800000,500000,1300000,"2022-01-01","2022-12-01",0,0,0,"Partner services","Implementing",45000,"B","Transgender Persons of Color (AA/Hisp), Hispanic",570,0,0,"HIV Diagnosis","","","Prescription of ART","","","Treat","","Respond"]
[0,0,0,0,"RWHAP","HAB","Ryan White HIV/AIDS Program Part C","HRSA-22-011","No","Wonderful Community Center",1800000,500000,1300000,"2022-01-01","2022-12-01",0,0,0,"AIDS Drug Assistance Program Treatments","Implementing",60000,"B","African American Women, Young (13-29) MSM of Color (AA/Hisp)",1020,0,0,"","","","Prescription of ART","","","","","Respond"]
[0,0,0,0,"HOPWA","HUD","KDHE","HOPWA-223-39","No","Wonderful Community Center",1614340,725340,889000,"2022-05-01","2023-04-01",0,0,0,"Mental Health Services","Implementing",28300,"A","African American Women and Men Non-MSM (Age 13-44), Young (13-29) MSM of Color (AA/Hisp)",890,0,0,"","Linkage to Care","Engagement or Retention in Care","","Viral Suppression","","Treat","","Respond"]
[0,0,0,0,"HOPWA","HUD","KDHE","HOPWA-223-39","No","Wonderful Community Center",1614340,725340,889000,"2022-05-01","2023-04-01",0,0,0,"Partner services","Implementing",7500,"B","White MSM",100,0,0,"","","Engagement or Retention in Care","","","","Treat","",""]
[0,0,0,0,"0","0","0","0","0","0",0,0,0,"00:00:00","00:00:00",0,0,0,"0","0",0,"12/30/1899 12:00:00 AM","12/30/1899 12:00:00 AM",0,0,0,"","","","","","","","","",0]
[0,0,0,0,"0","0","0","0","0","0",0,0,0,"00:00:00","00:00:00",0,0,0,"0","0",0,"12/30/1899 12:00:00 AM","12/30/1899 12:00:00 AM",0,0,0,"","","","","","","","","",0]
[0,0,0,0,"0","0","0","0","0","0",0,0,0,"00:00:00","00:00:00",0,0,0,"0","0",0,"12/30/1899 12:00:00 AM","12/30/1899 12:00:00 AM",0,0,0,"","","","","","","","","",0]
[0,0,0,0,"0","0","0","0","0","0",0,0,0,"00:00:00","00:00:00",0,0,0,"0","0",0,"12/30/1899 12:00:00 AM","12/30/1899 12:00:00 AM",0,0,0,"","","","","","","","","",0]
[0,0,0,0,"0","0","0","0","0","0",0,0,0,"00:00:00","00:00:00",0,0,0,"0","0",0,"12/30/1899 12:00:00 AM","12/30/1899 12:00:00 AM",0,0,0,"","","","","","","","","",0]
[0,0,0,0,"0","0","0","0","0","0",0,0,0,"00:00:00","00:00:00",0,0,0,"0","0",0,"12/30/1899 12:00:00 AM","12/30/1899 12:00:00 AM",0,0,0,"","","","","","","","","",0]
[0,0,0,0,"0","0","0","0","0","0",0,0,0,"00:00:00","00:00:00",0,0,0,"0","0",0,"12/30/1899 12:00:00 AM","12/30/1899 12:00:00 AM",0,0,0,"","","","","","","","","",0]
[0,0,0,0,"0","0","0","0","0","0",0,0,0,"00:00:00","00:00:00",0,0,0,"0","0",0,"12/30/1899 12:00:00 AM","12/30/1899 12:00:00 AM",0,0,0,"","","","","","","","","",0]
[0,0,0,0,"0","0","0","0","0","0",0,0,0,"00:00:00","00:00:00",0,0,0,"0","0",0,"12/30/1899 12:00:00 AM","12/30/1899 12:00:00 AM",0,0,0,"","","","","","","","","",0]
[0,0,0,0,"0","0","0","0","0","0",0,0,0,"00:00:00","00:00:00",0,0,0,"0","0",0,"12/30/1899 12:00:00 AM","12/30/1899 12:00:00 AM",0,0,0,"","","","","","","","","",0]
[0,0,0,0,"0","0","0","0","0","0",0,0,0,"00:00:00","00:00:00",0,0,0,"0","0",0,"12/30/1899 12:00:00 AM","12/30/1899 12:00:00 AM",0,0,0,"","","","","","","","","",0]
[0,0,0,0,"0","0","0","0","0","0",0,0,0,"00:00:00","00:00:00",0,0,0,"0","0",0,"12/30/1899 12:00:00 AM","12/30/1899 12:00:00 AM",0,0,0,"","","","","","","","","",0]
[0,0,0,0,"0","0","0","0","0","0",0,0,0,"00:00:00","00:00:00",0,0,0,"0","0",0,"12/30/1899 12:00:00 AM","12/30/1899 12:00:00 AM",0,0,0,"","","","","","","","","",0]
[0,0,0,0,"0","0","0","0","0","0",0,0,0,"00:00:00","00:00:00",0,0,0,"0","0",0,"12/30/1899 12:00:00 AM","12/30/1899 12:00:00 AM",0,0,0,"","","","","","","","","",0]
[0,0,0,0,"0","0","0","0","0","0",0,0,0,"00:00:00","00:00:00",0,0,0,"0","0",0,"12/30/1899 12:00:00 AM","12/30/1899 12:00:00 AM",0,0,0,"","","","","","","","","",0]
[0,0,0,0,"0","0","0","0","0","0",0,0,0,"00:00:00","00:00:00",0,0,0,"0","0",0,"12/30/1899 12:00:00 AM","12/30/1899 12:00:00 AM",0,0,0,"","","","","","","","","",0]
[0,0,0,0,"0","0","0","0","0","0",0,0,0,"00:00:00","00:00:00",0,0,0,"0","0",0,"12/30/1899 12:00:00 AM","12/30/1899 12:00:00 AM",0,0,0,"","","","","","","","","",0]
[0,0,0,0,"0","0","0","0","0","0",0,0,0,"00:00:00","00:00:00",0,0,0,"0","0",0,"12/30/1899 12:00:00 AM","12/30/1899 12:00:00 AM",0,0,0,"","","","","","","","","",0]
[0,0,0,0,"0","0","0","0","0","0",0,0,0,"00:00:00","00:00:00",0,0,0,"0","0",0,"12/30/1899 12:00:00 AM","12/30/1899 12:00:00 AM",0,0,0,"","","","","","","","","",0]
[0,0,0,0,"0","0","0","0","0","0",0,0,0,"00:00:00","00:00:00",0,0,0,"0","0",0,"12/30/1899 12:00:00 AM","12/30/1899 12:00:00 AM",0,0,0,"","","","","","","","","",0]
[0,0,0,0,"0","0","0","0","0","0",0,0,0,"00:00:00","00:00:00",0,0,0,"0","0",0,"12/30/1899 12:00:00 AM","12/30/1899 12:00:00 AM",0,0,0,"","","","","","","","","",0]
[0,0,0,0,"0","0","0","0","0","0",0,0,0,"00:00:00","00:00:00",0,0,0,"0","0",0,"12/30/1899 12:00:00 AM","12/30/1899 12:00:00 AM",0,0,0,"","","","","","","","","",0]
[0,0,0,0,"0","0","0","0","0","0",0,0,0,"00:00:00","00:00:00",0,0,0,"0","0",0,"12/30/1899 12:00:00 AM","12/30/1899 12:00:00 AM",0,0,0,"","","","","","","","","",0]
[0,0,0,0,"0","0","0","0","0","0",0,0,0,"00:00:00","00:00:00",0,0,0,"0","0",0,"12/30/1899 12:00:00 AM","12/30/1899 12:00:00 AM",0,0,0,"","","","","","","","","",0]
[0,0,0,0,"0","0","0","0","0","0",0,0,0,"00:00:00","00:00:00",0,0,0,"0","0",0,"12/30/1899 12:00:00 AM","12/30/1899 12:00:00 AM",0,0,0,"","","","","","","","","",0]
[0,0,0,0,"0","0","0","0","0","0",0,0,0,"00:00:00","00:00:00",0,0,0,"0","0",0,"12/30/1899 12:00:00 AM","12/30/1899 12:00:00 AM",0,0,0,"","","","","","","","","",0]
[0,0,0,0,"0","0","0","0","0","0",0,0,0,"00:00:00","00:00:00",0,0,0,"0","0",0,"12/30/1899 12:00:00 AM","12/30/1899 12:00:00 AM",0,0,0,"","","","","","","","","",0]
[0,0,0,0,"0","0","0","0","0","0",0,0,0,"00:00:00","00:00:00",0,0,0,"0","0",0,"12/30/1899 12:00:00 AM","12/30/1899 12:00:00 AM",0,0,0,"","","","","","","","","",0]
[0,0,0,0,"0","0","0","0","0","0",0,0,0,"00:00:00","00:00:00",0,0,0,"0","0",0,"12/30/1899 12:00:00 AM","12/30/1899 12:00:00 AM",0,0,0,"","","","","","","","","",0]
[0,0,0,0,"0","0","0","0","0","0",0,0,0,"00:00:00","00:00:00",0,0,0,"0","0",0,"12/30/1899 12:00:00 AM","12/30/1899 12:00:00 AM",0,0,0,"","","","","","","","","",0]
[0,0,0,0,"0","0","0","0","0","0",0,0,0,"00:00:00","00:00:00",0,0,0,"0","0",0,"12/30/1899 12:00:00 AM","12/30/1899 12:00:00 AM",0,0,0,"","","","","","","","","",0]
[0,0,0,0,"0","0","0","0","0","0",0,0,0,"00:00:00","00:00:00",0,0,0,"0","0",0,"12/30/1899 12:00:00 AM","12/30/1899 12:00:00 AM",0,0,0,"","","","","","","","","",0]
[0,0,0,0,"0","0","0","0","0","0",0,0,0,"00:00:00","00:00:00",0,0,0,"0","0",0,"12/30/1899 12:00:00 AM","12/30/1899 12:00:00 AM",0,0,0,"","","","","","","","","",0]
[0,0,0,0,"0","0","0","0","0","0",0,0,0,"00:00:00","00:00:00",0,0,0,"0","0",0,"12/30/1899 12:00:00 AM","12/30/1899 12:00:00 AM",0,0,0,"","","","","","","","","",0]
[0,0,0,0,"0","0","0","0","0","0",0,0,0,"00:00:00","00:00:00",0,0,0,"0","0",0,"12/30/1899 12:00:00 AM","12/30/1899 12:00:00 AM",0,0,0,"","","","","","","","","",0]
[0,0,0,0,"0","0","0","0","0","0",0,0,0,"00:00:00","00:00:00",0,0,0,"0","0",0,"12/30/1899 12:00:00 AM","12/30/1899 12:00:00 AM",0,0,0,"","","","","","","","","",0]
[0,0,0,0,"0","0","0","0","0","0",0,0,0,"00:00:00","00:00:00",0,0,0,"0","0",0,"12/30/1899 12:00:00 AM","12/30/1899 12:00:00 AM",0,0,0,"","","","","","","","","",0]
[0,0,0,0,"0","0","0","0","0","0",0,0,0,"00:00:00","00:00:00",0,0,0,"0","0",0,"12/30/1899 12:00:00 AM","12/30/1899 12:00:00 AM",0,0,0,"","","","","","","","","",0]
[0,0,0,0,"0","0","0","0","0","0",0,0,0,"00:00:00","00:00:00",0,0,0,"0","0",0,"12/30/1899 12:00:00 AM","12/30/1899 12:00:00 AM",0,0,0,"","","","","","","","","",0]
[0,0,0,0,"0","0","0","0","0","0",0,0,0,"00:00:00","00:00:00",0,0,0,"0","0",0,"12/30/1899 12:00:00 AM","12/30/1899 12:00:00 AM",0,0,0,"","","","","","","","","",0]
[0,0,0,0,"0","0","0","0","0","0",0,0,0,"00:00:00","00:00:00",0,0,0,"0","0",0,"12/30/1899 12:00:00 AM","12/30/1899 12:00:00 AM",0,0,0,"","","","","","","","","",0]
[0,0,0,0,"0","0","0","0","0","0",0,0,0,"00:00:00","00:00:00",0,0,0,"0","0",0,"12/30/1899 12:00:00 AM","12/30/1899 12:00:00 AM",0,0,0,"","","","","","","","","",0]
[0,0,0,0,"0","0","0","0","0","0",0,0,0,"00:00:00","00:00:00",0,0,0,"0","0",0,"12/30/1899 12:00:00 AM","12/30/1899 12:00:00 AM",0,0,0,"","","","","","","","","",0]
[0,0,0,0,"0","0","0","0","0","0",0,0,0,"00:00:00","00:00:00",0,0,0,"0","0",0,"12/30/1899 12:00:00 AM","12/30/1899 12:00:00 AM",0,0,0,"","","","","","","","","",0]
[0,0,0,0,"0","0","0","0","0","0",0,0,0,"00:00:00","00:00:00",0,0,0,"0","0",0,"12/30/1899 12:00:00 AM","12/30/1899 12:00:00 AM",0,0,0,"","","","","","","","","",0]
[0,0,0,0,"0","0","0","0","0","0",0,0,0,"00:00:00","00:00:00",0,0,0,"0","0",0,"12/30/1899 12:00:00 AM","12/30/1899 12:00:00 AM",0,0,0,"","","","","","","","","",0]
[0,0,0,0,"0","0","0","0","0","0",0,0,0,"00:00:00","00:00:00",0,0,0,"0","0",0,"12/30/1899 12:00:00 AM","12/30/1899 12:00:00 AM",0,0,0,"","","","","","","","","",0]
[0,0,0,0,"0","0","0","0","0","0",0,0,0,"00:00:00","00:00:00",0,0,0,"0","0",0,"12/30/1899 12:00:00 AM","12/30/1899 12:00:00 AM",0,0,0,"","","","","","","","","",0]
[0,0,0,0,"0","0","0","0","0","0",0,0,0,"00:00:00","00:00:00",0,0,0,"0","0",0,"12/30/1899 12:00:00 AM","12/30/1899 12:00:00 AM",0,0,0,"","","","","","","","","",0]
[0,0,0,0,"0","0","0","0","0","0",0,0,0,"00:00:00","00:00:00",0,0,0,"0","0",0,"12/30/1899 12:00:00 AM","12/30/1899 12:00:00 AM",0,0,0,"","","","","","","","","",0]
[0,0,0,0,"0","0","0","0","0","0",0,0,0,"00:00:00","00:00:00",0,0,0,"0","0",0,"12/30/1899 12:00:00 AM","12/30/1899 12:00:00 AM",0,0,0,"","","","","","","","","",0]
[0,0,0,0,"0","0","0","0","0","0",0,0,0,"00:00:00","00:00:00",0,0,0,"0","0",0,"12/30/1899 12:00:00 AM","12/30/1899 12:00:00 AM",0,0,0,"","","","","","","","","",0]
[0,0,0,0,"0","0","0","0","0","0",0,0,0,"00:00:00","00:00:00",0,0,0,"0","0",0,"12/30/1899 12:00:00 AM","12/30/1899 12:00:00 AM",0,0,0,"","","","","","","","","",0]
[0,0,0,0,"0","0","0","0","0","0",0,0,0,"00:00:00","00:00:00",0,0,0,"0","0",0,"12/30/1899 12:00:00 AM","12/30/1899 12:00:00 AM",0,0,0,"","","","","","","","","",0]
[0,0,0,0,"0","0","0","0","0","0",0,0,0,"00:00:00","00:00:00",0,0,0,"0","0",0,"12/30/1899 12:00:00 AM","12/30/1899 12:00:00 AM",0,0,0,"","","","","","","","","",0]
[0,0,0,0,"0","0","0","0","0","0",0,0,0,"00:00:00","00:00:00",0,0,0,"0","0",0,"12/30/1899 12:00:00 AM","12/30/1899 12:00:00 AM",0,0,0,"","","","","","","","","",0]
[0,0,0,0,"0","0","0","0","0","0",0,0,0,"00:00:00","00:00:00",0,0,0,"0","0",0,"12/30/1899 12:00:00 AM","12/30/1899 12:00:00 AM",0,0,0,"","","","","","","","","",0]
[0,0,0,0,"0","0","0","0","0","0",0,0,0,"00:00:00","00:00:00",0,0,0,"0","0",0,"12/30/1899 12:00:00 AM","12/30/1899 12:00:00 AM",0,0,0,"","","","","","","","","",0]
[0,0,0,0,"0","0","0","0","0","0",0,0,0,"00:00:00","00:00:00",0,0,0,"0","0",0,"12/30/1899 12:00:00 AM","12/30/1899 12:00:00 AM",0,0,0,"","","","","","","","","",0]
[0,0,0,0,"0","0","0","0","0","0",0,0,0,"00:00:00","00:00:00",0,0,0,"0","0",0,"12/30/1899 12:00:00 AM","12/30/1899 12:00:00 AM",0,0,0,"","","","","","","","","",0]
[0,0,0,0,"0","0","0","0","0","0",0,0,0,"00:00:00","00:00:00",0,0,0,"0","0",0,"12/30/1899 12:00:00 AM","12/30/1899 12:00:00 AM",0,0,0,"","","","","","","","","",0]
[0,0,0,0,"0","0","0","0","0","0",0,0,0,"00:00:00","00:00:00",0,0,0,"0","0",0,"12/30/1899 12:00:00 AM","12/30/1899 12:00:00 AM",0,0,0,"","","","","","","","","",0]
[0,0,0,0,"0","0","0","0","0","0",0,0,0,"00:00:00","00:00:00",0,0,0,"0","0",0,"12/30/1899 12:00:00 AM","12/30/1899 12:00:00 AM",0,0,0,"","","","","","","","","",0]
[0,0,0,0,"0","0","0","0","0","0",0,0,0,"00:00:00","00:00:00",0,0,0,"0","0",0,"12/30/1899 12:00:00 AM","12/30/1899 12:00:00 AM",0,0,0,"","","","","","","","","",0]
[0,0,0,0,"0","0","0","0","0","0",0,0,0,"00:00:00","00:00:00",0,0,0,"0","0",0,"12/30/1899 12:00:00 AM","12/30/1899 12:00:00 AM",0,0,0,"","","","","","","","","",0]
[0,0,0,0,"0","0","0","0","0","0",0,0,0,"00:00:00","00:00:00",0,0,0,"0","0",0,"12/30/1899 12:00:00 AM","12/30/1899 12:00:00 AM",0,0,0,"","","","","","","","","",0]
[0,0,0,0,"0","0","0","0","0","0",0,0,0,"00:00:00","00:00:00",0,0,0,"0","0",0,"12/30/1899 12:00:00 AM","12/30/1899 12:00:00 AM",0,0,0,"","","","","","","","","",0]
[0,0,0,0,"0","0","0","0","0","0",0,0,0,"00:00:00","00:00:00",0,0,0,"0","0",0,"12/30/1899 12:00:00 AM","12/30/1899 12:00:00 AM",0,0,0,"","","","","","","","","",0]
[0,0,0,0,"0","0","0","0","0","0",0,0,0,"00:00:00","00:00:00",0,0,0,"0","0",0,"12/30/1899 12:00:00 AM","12/30/1899 12:00:00 AM",0,0,0,"","","","","","","","","",0]
[0,0,0,0,"0","0","0","0","0","0",0,0,0,"00:00:00","00:00:00",0,0,0,"0","0",0,"12/30/1899 12:00:00 AM","12/30/1899 12:00:00 AM",0,0,0,"","","","","","","","","",0]
[0,0,0,0,"0","0","0","0","0","0",0,0,0,"00:00:00","00:00:00",0,0,0,"0","0",0,"12/30/1899 12:00:00 AM","12/30/1899 12:00:00 AM",0,0,0,"","","","","","","","","",0]
[0,0,0,0,"0","0","0","0","0","0",0,0,0,"00:00:00","00:00:00",0,0,0,"0","0",0,"12/30/1899 12:00:00 AM","12/30/1899 12:00:00 AM",0,0,0,"","","","","","","","","",0]
[0,0,0,0,"0","0","0","0","0","0",0,0,0,"00:00:00","00:00:00",0,0,0,"0","0",0,"12/30/1899 12:00:00 AM","12/30/1899 12:00:00 AM",0,0,0,"","","","","","","","","",0]
[0,0,0,0,"0","0","0","0","0","0",0,0,0,"00:00:00","00:00:00",0,0,0,"0","0",0,"12/30/1899 12:00:00 AM","12/30/1899 12:00:00 AM",0,0,0,"","","","","","","","","",0]
[0,0,0,0,"0","0","0","0","0","0",0,0,0,"00:00:00","00:00:00",0,0,0,"0","0",0,"12/30/1899 12:00:00 AM","12/30/1899 12:00:00 AM",0,0,0,"","","","","","","","","",0]
[0,0,0,0,"0","0","0","0","0","0",0,0,0,"00:00:00","00:00:00",0,0,0,"0","0",0,"12/30/1899 12:00:00 AM","12/30/1899 12:00:00 AM",0,0,0,"","","","","","","","","",0]
[0,0,0,0,"0","0","0","0","0","0",0,0,0,"00:00:00","00:00:00",0,0,0,"0","0",0,"12/30/1899 12:00:00 AM","12/30/1899 12:00:00 AM",0,0,0,"","","","","","","","","",0]
[0,0,0,0,"0","0","0","0","0","0",0,0,0,"00:00:00","00:00:00",0,0,0,"0","0",0,"12/30/1899 12:00:00 AM","12/30/1899 12:00:00 AM",0,0,0,"","","","","","","","","",0]
[0,0,0,0,"0","0","0","0","0","0",0,0,0,"00:00:00","00:00:00",0,0,0,"0","0",0,"12/30/1899 12:00:00 AM","12/30/1899 12:00:00 AM",0,0,0,"","","","","","","","","",0]
[0,0,0,0,"0","0","0","0","0","0",0,0,0,"00:00:00","00:00:00",0,0,0,"0","0",0,"12/30/1899 12:00:00 AM","12/30/1899 12:00:00 AM",0,0,0,"","","","","","","","","",0]

{"sheet":"Resource Inventory Table","index":10,"n_rows":5,"n_cols":16,"rows_kept":5,"cut":false,"hidden":false,"merged":[[0,2,0,16],[1,2,1,16],[2,7,2,11],[2,12,2,15]]}
[]
[null,null,"Use this table to enter funding information, using the following category definitions:\nFunder = federal or state agency administering the funds (e.g., CDC, RWHAP, HOPWA, SAMHSA, NIH)\nFunding Source = name of the grant/funding mechanism (e.g., RWHAP Part A)\nPrimary Recipient = name of the division or agency directly receiving the funding source\nSubrecipients = name of agency(ies) who receive funding from primary recipient via the funding source\nService Delivered = specific service(s) provided through the funding source. If a particular funding source supports multiple services, we encourage you to name each service in the sheet cell, separated by commas\nHIV Care Continuum Steps Affected / EHE Strategies = use an x to indicate which of the HIV Care Continuum steps and/or EHE strategies the funding source supports"]
[null,null,null,null,null,null,null,"HIV Care Continuum Steps Affected",null,null,null,null,"EHE Strategies"]
[null,null,"Funder","Funding Source","Primary Recipient","Subrecipients","Service Delivered","HIV Diagnosis","Linkage to Care","Engagement or Retention in Care","Prescription of ART","Viral Suppression","Diagnose","Treat","Prevent","Respond"]
["2021-10-25"]